BEGIN:VCALENDAR
VERSION:2.0
PRODID:-//Fairytale Town - ECPv6.15.20//NONSGML v1.0//EN
CALSCALE:GREGORIAN
METHOD:PUBLISH
X-ORIGINAL-URL:https://www.fairytaletown.org
X-WR-CALDESC:Events for Fairytale Town
REFRESH-INTERVAL;VALUE=DURATION:PT1H
X-Robots-Tag:noindex
X-PUBLISHED-TTL:PT1H
BEGIN:VTIMEZONE
TZID:America/Los_Angeles
BEGIN:DAYLIGHT
TZOFFSETFROM:-0800
TZOFFSETTO:-0700
TZNAME:PDT
DTSTART:20250309T100000
END:DAYLIGHT
BEGIN:STANDARD
TZOFFSETFROM:-0700
TZOFFSETTO:-0800
TZNAME:PST
DTSTART:20251102T090000
END:STANDARD
BEGIN:DAYLIGHT
TZOFFSETFROM:-0800
TZOFFSETTO:-0700
TZNAME:PDT
DTSTART:20260308T100000
END:DAYLIGHT
BEGIN:STANDARD
TZOFFSETFROM:-0700
TZOFFSETTO:-0800
TZNAME:PST
DTSTART:20261101T090000
END:STANDARD
BEGIN:DAYLIGHT
TZOFFSETFROM:-0800
TZOFFSETTO:-0700
TZNAME:PDT
DTSTART:20270314T100000
END:DAYLIGHT
BEGIN:STANDARD
TZOFFSETFROM:-0700
TZOFFSETTO:-0800
TZNAME:PST
DTSTART:20271107T090000
END:STANDARD
END:VTIMEZONE
BEGIN:VEVENT
DTSTART;VALUE=DATE:20260828
DTEND;VALUE=DATE:20260914
DTSTAMP:20260421T160429
CREATED:20260307T024023Z
LAST-MODIFIED:20260307T024248Z
UID:10002884-1787875200-1789343999@www.fairytaletown.org
SUMMARY:Scholastic Book Fair!
DESCRIPTION:The Scholastic Book Fair is happening inside the Story Center Friday\, December 4th\, through Sunday\, December 13th! There will be pens\, bookmarks\, erasers\, fun gadgets\, and books for all ages! Come on over and dive into a world of stories!
URL:https://www.fairytaletown.org/calendar/scholastic-book-fair-3/
LOCATION:Fairytale Town\, 3901 Land Park Drive\, Sacramento\, CA\, 95822\, United States
ATTACH;FMTTYPE=image/png:https://www.fairytaletown.org/wp-content/uploads/2023/11/Website-Calendar-Images-623-x-265-px-22.png
GEO:38.539381;-121.5010551
X-APPLE-STRUCTURED-LOCATION;VALUE=URI;X-ADDRESS=Fairytale Town 3901 Land Park Drive Sacramento CA 95822 United States;X-APPLE-RADIUS=500;X-TITLE=3901 Land Park Drive:geo:-121.5010551,38.539381
END:VEVENT
BEGIN:VEVENT
DTSTART;TZID=America/Los_Angeles:20260829T100000
DTEND;TZID=America/Los_Angeles:20260829T140000
DTSTAMP:20260421T160429
CREATED:20190530T204417Z
LAST-MODIFIED:20260115T015807Z
UID:10000825-1787997600-1788012000@www.fairytaletown.org
SUMMARY:Humpty Dumpty's Birthday Celebration
DESCRIPTION:Help Humpty Dumpty celebrate Fairytale Town’s 67th birthday party! \nSing “Happy Birthday” with Humpty Dumpty at 12 PM on the Mother Goose Stage. Take a photo with Humpty Dumpty\, play egg-citing egg-themed games\, and make fun crafts throughout the day! \nWeekday admission is $10 for adults and children ages 2 and older. Members and children ages 1 and under are free. \nFairytale Town opened to the public on August 29\, 1959 when the park was dedicated as a gift to the children of the Central Valley by the City of Sacramento\, the Junior League of Sacramento and other community and business leaders. Humpty Dumpty has been sitting atop his Bridge welcoming guests since 1962. \nPlease note: \n\nAdults must be accompanied by children and children must be accompanied by adults in order to gain admittance to Fairytale Town.
URL:https://www.fairytaletown.org/calendar/humpty-dumptys-birthday-celebration/
LOCATION:Fairytale Town\, 3901 Land Park Drive\, Sacramento\, CA\, 95822\, United States
ATTACH;FMTTYPE=image/png:https://www.fairytaletown.org/wp-content/uploads/2026/01/24.png
GEO:38.539381;-121.5010551
X-APPLE-STRUCTURED-LOCATION;VALUE=URI;X-ADDRESS=Fairytale Town 3901 Land Park Drive Sacramento CA 95822 United States;X-APPLE-RADIUS=500;X-TITLE=3901 Land Park Drive:geo:-121.5010551,38.539381
END:VEVENT
BEGIN:VEVENT
DTSTART;TZID=America/Los_Angeles:20260829T110000
DTEND;TZID=America/Los_Angeles:20260829T120000
DTSTAMP:20260421T160429
CREATED:20260304T210137Z
LAST-MODIFIED:20260304T210137Z
UID:10002864-1788001200-1788004800@www.fairytaletown.org
SUMMARY:Tractor Tales
DESCRIPTION:Join us on August 29 & 30 at 11am in the Story Center Classroom for Tractor Tales! Perfect for little animal lovers\, this interactive event combines the magic of books with the joy of meeting animals in a safe\, hands-on way. Get ready to read\, explore\, and meet some new animal friends! \nThis activity is free with park admission\, which can be purchased at the box office. \nTractor Tales 2026 Schedule
URL:https://www.fairytaletown.org/calendar/tractor-tales-8/2026-08-29/
LOCATION:Fairytale Town\, 3901 Land Park Drive\, Sacramento\, CA\, 95822\, United States
CATEGORIES:Story Center
ATTACH;FMTTYPE=image/png:https://www.fairytaletown.org/wp-content/uploads/2026/01/Website-Calendar-Images-623-x-265-px-14.png
GEO:38.539381;-121.5010551
X-APPLE-STRUCTURED-LOCATION;VALUE=URI;X-ADDRESS=Fairytale Town 3901 Land Park Drive Sacramento CA 95822 United States;X-APPLE-RADIUS=500;X-TITLE=3901 Land Park Drive:geo:-121.5010551,38.539381
END:VEVENT
END:VCALENDAR