BEGIN:VCALENDAR
VERSION:2.0
PRODID:-//Fairytale Town - ECPv6.15.20//NONSGML v1.0//EN
CALSCALE:GREGORIAN
METHOD:PUBLISH
X-WR-CALNAME:Fairytale Town
X-ORIGINAL-URL:https://www.fairytaletown.org
X-WR-CALDESC:Events for Fairytale Town
REFRESH-INTERVAL;VALUE=DURATION:PT1H
X-Robots-Tag:noindex
X-PUBLISHED-TTL:PT1H
BEGIN:VTIMEZONE
TZID:America/Los_Angeles
BEGIN:DAYLIGHT
TZOFFSETFROM:-0800
TZOFFSETTO:-0700
TZNAME:PDT
DTSTART:20250309T100000
END:DAYLIGHT
BEGIN:STANDARD
TZOFFSETFROM:-0700
TZOFFSETTO:-0800
TZNAME:PST
DTSTART:20251102T090000
END:STANDARD
BEGIN:DAYLIGHT
TZOFFSETFROM:-0800
TZOFFSETTO:-0700
TZNAME:PDT
DTSTART:20260308T100000
END:DAYLIGHT
BEGIN:STANDARD
TZOFFSETFROM:-0700
TZOFFSETTO:-0800
TZNAME:PST
DTSTART:20261101T090000
END:STANDARD
BEGIN:DAYLIGHT
TZOFFSETFROM:-0800
TZOFFSETTO:-0700
TZNAME:PDT
DTSTART:20270314T100000
END:DAYLIGHT
BEGIN:STANDARD
TZOFFSETFROM:-0700
TZOFFSETTO:-0800
TZNAME:PST
DTSTART:20271107T090000
END:STANDARD
END:VTIMEZONE
BEGIN:VEVENT
DTSTART;TZID=America/Los_Angeles:20260525T090000
DTEND;TZID=America/Los_Angeles:20260525T160000
DTSTAMP:20260421T075600
CREATED:20260108T233427Z
LAST-MODIFIED:20260108T233427Z
UID:10002407-1779699600-1779724800@www.fairytaletown.org
SUMMARY:Open For Play: Memorial Day
DESCRIPTION:Weather Permitting \nFairytale Town will be open for play on Memorial Day\, weather permitting. \nAdmission is $10 for adults and children ages 2 and older. Members and children ages 1 and under are free. \nPlease note: \n\nAdults must be accompanied by children and children must be accompanied by adults in order to gain admittance to Fairytale Town.
URL:https://www.fairytaletown.org/calendar/open-for-play-memorial-day/
LOCATION:Fairytale Town\, 3901 Land Park Drive\, Sacramento\, CA\, 95822\, United States
CATEGORIES:Holiday: Open for Play
ATTACH;FMTTYPE=image/png:https://www.fairytaletown.org/wp-content/uploads/2018/01/Website-Calendar-Images-623-x-265-px-8.png
GEO:38.539381;-121.5010551
X-APPLE-STRUCTURED-LOCATION;VALUE=URI;X-ADDRESS=Fairytale Town 3901 Land Park Drive Sacramento CA 95822 United States;X-APPLE-RADIUS=500;X-TITLE=3901 Land Park Drive:geo:-121.5010551,38.539381
END:VEVENT
BEGIN:VEVENT
DTSTART;TZID=America/Los_Angeles:20260526T100000
DTEND;TZID=America/Los_Angeles:20260526T110000
DTSTAMP:20260421T075600
CREATED:20260212T204507Z
LAST-MODIFIED:20260212T204548Z
UID:10002565-1779789600-1779793200@www.fairytaletown.org
SUMMARY:Toddler Time!
DESCRIPTION:Register Today! \nToddler Time is back! Join us every Tuesday morning this Spring for Toddler Time! \nLittle one’s ages 2 through 5 will engage in activities that are literacy-based and meet the animals that call Fairytale Town home through up-close introductions. Storytime\, songs\, and sensory activities bring the stories to life. Each week is a different lesson and theme\, so parents and little ones can sign up for one or more weeks! Advance registration is required. \nRegistration\nThe registration fee is per session and includes the class and park admission for one child age 2 through 5 and one parent or caregiver.\n \n$14 per session for members\n$16 per session for nonmembers \nHave siblings? A discount will be automatically applied when registering more than one child. \nQuestions\nIf you have a question about Toddler Time\, please contact us at education@fairytaletown.org. \nOther Sessions\nCan’t make this session? See the list below of all the Toddler Times we are offering this Fall 2025! \nSpring 2026\n\n\n\n\nMarch 3\nFestival of Colors with Parrot Interaction\, Celebrating Holi!\n\n\nMarch 10\nDream Big\, Little One with Chinchilla Interaction\nCelebrating Women’s History Month!\n\n\nMarch 17\nThe Luckiest St. Patrick’s Day with Goat Interaction\nCelebrating St. Patrick’s Day!\n\n\nMarch 24\nSleepy Sheepy with Sheep Interaction\n\n\nApril 7\nHello\, World! Reptiles with Reptile Interaction\n\n\nApril 14\nThe Crayons Love Our Planet with Bug Interaction\nCelebrating Earth Day!\n\n\nApril 21\nGorgeously Me with Butterfly Release\nCelebrating Diversity Month!\n\n\nApril 28\nSuperbuns! with Rabbit Interaction\nCelebrating National Superhero Day!\n\n\nMay 5\nGroovy Joe Ice Cream and Dinosaurs with Chicken Interaction\n\n\nMay 12\nOnce Upon a Goat with Goat Interaction\n\n\nMay 19\nClick Clack Moo: Cows That Type with Cow Interaction\n\n\nMay 26\nIf You Give a Mouse a Cookie with Mouse Interaction\n\n\n\n\n 
URL:https://www.fairytaletown.org/calendar/toddler-time-15/2026-05-26/
LOCATION:Fairytale Town\, 3901 Land Park Drive\, Sacramento\, CA\, 95822\, United States
CATEGORIES:Toddler Time
ATTACH;FMTTYPE=image/png:https://www.fairytaletown.org/wp-content/uploads/2026/01/36.png
GEO:38.539381;-121.5010551
X-APPLE-STRUCTURED-LOCATION;VALUE=URI;X-ADDRESS=Fairytale Town 3901 Land Park Drive Sacramento CA 95822 United States;X-APPLE-RADIUS=500;X-TITLE=3901 Land Park Drive:geo:-121.5010551,38.539381
END:VEVENT
BEGIN:VEVENT
DTSTART;TZID=America/Los_Angeles:20260530T100000
DTEND;TZID=America/Los_Angeles:20260530T110000
DTSTAMP:20260421T075600
CREATED:20250306T222634Z
LAST-MODIFIED:20260226T010613Z
UID:10002579-1780135200-1780138800@www.fairytaletown.org
SUMMARY:Humpty's Activity Club
DESCRIPTION:Register Today!\nAdvanced registration is required for this fun FREE activity included with park admission.\nJoin us at 10am for Humpty’s Activity Club! \nEach workshop features hands-on and engaging projects. Topics range from engineering challenges\, music expression\, craft projects\, science experiments\, and more. It’s a chance to have fun\, make friends\, and discover the magic of STEAM. No need to worry about skill level – all kids are welcome! Come join us for a world of creative fun! \nCheck out the full schedule here!\nCome join us for a world of creative fun! Meet us inside the Story Center Classroom! \nWeekday admission is $10 for adults and children ages 2 and older. Members and children ages 1 and under are free.
URL:https://www.fairytaletown.org/calendar/humptys-discovery-club/2026-05-30/
LOCATION:Fairytale Town\, 3901 Land Park Drive\, Sacramento\, CA\, 95822\, United States
CATEGORIES:Humpty's Activity Clubs
ATTACH;FMTTYPE=image/png:https://www.fairytaletown.org/wp-content/uploads/2025/03/Website-Calendar-Images-623-x-265-px-16.png
GEO:38.539381;-121.5010551
X-APPLE-STRUCTURED-LOCATION;VALUE=URI;X-ADDRESS=Fairytale Town 3901 Land Park Drive Sacramento CA 95822 United States;X-APPLE-RADIUS=500;X-TITLE=3901 Land Park Drive:geo:-121.5010551,38.539381
END:VEVENT
BEGIN:VEVENT
DTSTART;TZID=America/Los_Angeles:20260530T110000
DTEND;TZID=America/Los_Angeles:20260530T120000
DTSTAMP:20260421T075600
CREATED:20260304T203424Z
LAST-MODIFIED:20260304T203424Z
UID:10002854-1780138800-1780142400@www.fairytaletown.org
SUMMARY:Tractor Tales
DESCRIPTION:Join us on May 30 & 31 at 11am in the Story Center Classroom for Tractor Tales! Perfect for little animal lovers\, this interactive event combines the magic of books with the joy of meeting animals in a safe\, hands-on way. Get ready to read\, explore\, and meet some new animal friends! \nThis activity is free with park admission\, which can be purchased at the box office. \nTractor Tales 2026 Schedule
URL:https://www.fairytaletown.org/calendar/tractor-tales-5/2026-05-30/
LOCATION:Fairytale Town\, 3901 Land Park Drive\, Sacramento\, CA\, 95822\, United States
CATEGORIES:Story Center
ATTACH;FMTTYPE=image/png:https://www.fairytaletown.org/wp-content/uploads/2026/01/Website-Calendar-Images-623-x-265-px-14.png
GEO:38.539381;-121.5010551
X-APPLE-STRUCTURED-LOCATION;VALUE=URI;X-ADDRESS=Fairytale Town 3901 Land Park Drive Sacramento CA 95822 United States;X-APPLE-RADIUS=500;X-TITLE=3901 Land Park Drive:geo:-121.5010551,38.539381
END:VEVENT
END:VCALENDAR