BEGIN:VCALENDAR
VERSION:2.0
PRODID:-//Fairytale Town - ECPv6.15.20//NONSGML v1.0//EN
CALSCALE:GREGORIAN
METHOD:PUBLISH
X-ORIGINAL-URL:https://www.fairytaletown.org
X-WR-CALDESC:Events for Fairytale Town
REFRESH-INTERVAL;VALUE=DURATION:PT1H
X-Robots-Tag:noindex
X-PUBLISHED-TTL:PT1H
BEGIN:VTIMEZONE
TZID:America/Los_Angeles
BEGIN:DAYLIGHT
TZOFFSETFROM:-0800
TZOFFSETTO:-0700
TZNAME:PDT
DTSTART:20250309T100000
END:DAYLIGHT
BEGIN:STANDARD
TZOFFSETFROM:-0700
TZOFFSETTO:-0800
TZNAME:PST
DTSTART:20251102T090000
END:STANDARD
BEGIN:DAYLIGHT
TZOFFSETFROM:-0800
TZOFFSETTO:-0700
TZNAME:PDT
DTSTART:20260308T100000
END:DAYLIGHT
BEGIN:STANDARD
TZOFFSETFROM:-0700
TZOFFSETTO:-0800
TZNAME:PST
DTSTART:20261101T090000
END:STANDARD
BEGIN:DAYLIGHT
TZOFFSETFROM:-0800
TZOFFSETTO:-0700
TZNAME:PDT
DTSTART:20270314T100000
END:DAYLIGHT
BEGIN:STANDARD
TZOFFSETFROM:-0700
TZOFFSETTO:-0800
TZNAME:PST
DTSTART:20271107T090000
END:STANDARD
END:VTIMEZONE
BEGIN:VEVENT
DTSTART;TZID=America/Los_Angeles:20260519T100000
DTEND;TZID=America/Los_Angeles:20260519T110000
DTSTAMP:20260421T091102
CREATED:20260212T204507Z
LAST-MODIFIED:20260212T204548Z
UID:10002564-1779184800-1779188400@www.fairytaletown.org
SUMMARY:Toddler Time!
DESCRIPTION:Register Today! \nToddler Time is back! Join us every Tuesday morning this Spring for Toddler Time! \nLittle one’s ages 2 through 5 will engage in activities that are literacy-based and meet the animals that call Fairytale Town home through up-close introductions. Storytime\, songs\, and sensory activities bring the stories to life. Each week is a different lesson and theme\, so parents and little ones can sign up for one or more weeks! Advance registration is required. \nRegistration\nThe registration fee is per session and includes the class and park admission for one child age 2 through 5 and one parent or caregiver.\n \n$14 per session for members\n$16 per session for nonmembers \nHave siblings? A discount will be automatically applied when registering more than one child. \nQuestions\nIf you have a question about Toddler Time\, please contact us at education@fairytaletown.org. \nOther Sessions\nCan’t make this session? See the list below of all the Toddler Times we are offering this Fall 2025! \nSpring 2026\n\n\n\n\nMarch 3\nFestival of Colors with Parrot Interaction\, Celebrating Holi!\n\n\nMarch 10\nDream Big\, Little One with Chinchilla Interaction\nCelebrating Women’s History Month!\n\n\nMarch 17\nThe Luckiest St. Patrick’s Day with Goat Interaction\nCelebrating St. Patrick’s Day!\n\n\nMarch 24\nSleepy Sheepy with Sheep Interaction\n\n\nApril 7\nHello\, World! Reptiles with Reptile Interaction\n\n\nApril 14\nThe Crayons Love Our Planet with Bug Interaction\nCelebrating Earth Day!\n\n\nApril 21\nGorgeously Me with Butterfly Release\nCelebrating Diversity Month!\n\n\nApril 28\nSuperbuns! with Rabbit Interaction\nCelebrating National Superhero Day!\n\n\nMay 5\nGroovy Joe Ice Cream and Dinosaurs with Chicken Interaction\n\n\nMay 12\nOnce Upon a Goat with Goat Interaction\n\n\nMay 19\nClick Clack Moo: Cows That Type with Cow Interaction\n\n\nMay 26\nIf You Give a Mouse a Cookie with Mouse Interaction\n\n\n\n\n 
URL:https://www.fairytaletown.org/calendar/toddler-time-15/2026-05-19/
LOCATION:Fairytale Town\, 3901 Land Park Drive\, Sacramento\, CA\, 95822\, United States
CATEGORIES:Toddler Time
ATTACH;FMTTYPE=image/png:https://www.fairytaletown.org/wp-content/uploads/2026/01/36.png
GEO:38.539381;-121.5010551
X-APPLE-STRUCTURED-LOCATION;VALUE=URI;X-ADDRESS=Fairytale Town 3901 Land Park Drive Sacramento CA 95822 United States;X-APPLE-RADIUS=500;X-TITLE=3901 Land Park Drive:geo:-121.5010551,38.539381
END:VEVENT
BEGIN:VEVENT
DTSTART;TZID=America/Los_Angeles:20260522T110000
DTEND;TZID=America/Los_Angeles:20260522T130000
DTSTAMP:20260421T091102
CREATED:20260318T235316Z
LAST-MODIFIED:20260407T180128Z
UID:10002898-1779447600-1779454800@www.fairytaletown.org
SUMMARY:Homeschool Clubhouse
DESCRIPTION:Join us for Homeschool Clubhouse\, a fun and engaging Friday drop-in program designed especially for homeschool students who love to create\, build\, explore\, and learn together. Each week students participate in a different themed club that encourages creativity\, teamwork\, and hands-on learning. Enjoy the park and dedicated picnic area for lunch after the club! \n\n\n\nApril 3 & May 1\nMinecraft Builders\nStudents will use creativity and problem-solving to design\, build\, and explore worlds in Minecraft. Each session includes a themed building challenge where kids collaborate and bring their ideas to life while practicing teamwork and digital design skills. Please bring a device with Minecraft loaded on it to be able to play along!\n\n\nApril 10 & May 8\nCreative Art Studio\nYoung artists will explore different art materials and techniques while creating unique projects each week. Activities may include painting\, sculpture\, mixed media\, and imaginative crafts inspired by nature\, stories\, and famous artists.\n\n\nApril 17 & May 15\nFairytale Science Lab\nScience comes to life through stories and magical experiments. Each week explores a fairytale-inspired STEM activity. Kids will explore real science concepts while using imagination and problem-solving.\n\n\nApril 24 & May 22\nLego Engineers\nIn this engineering-focused club\, students will tackle fun building challenges using LEGO bricks. Kids will design bridges\, towers\, vehicles\, and imaginative structures while learning about creativity\, design thinking\, and basic engineering concepts.
URL:https://www.fairytaletown.org/calendar/homeschool-clubhouse/2026-05-22/
LOCATION:Fairytale Town\, 3901 Land Park Drive\, Sacramento\, CA\, 95822\, United States
ATTACH;FMTTYPE=image/png:https://www.fairytaletown.org/wp-content/uploads/2026/03/Website-Calendar-Images-623-x-265-px-25.png
GEO:38.539381;-121.5010551
X-APPLE-STRUCTURED-LOCATION;VALUE=URI;X-ADDRESS=Fairytale Town 3901 Land Park Drive Sacramento CA 95822 United States;X-APPLE-RADIUS=500;X-TITLE=3901 Land Park Drive:geo:-121.5010551,38.539381
END:VEVENT
END:VCALENDAR