BEGIN:VCALENDAR
VERSION:2.0
PRODID:-//Fairytale Town - ECPv6.15.20//NONSGML v1.0//EN
CALSCALE:GREGORIAN
METHOD:PUBLISH
X-ORIGINAL-URL:https://www.fairytaletown.org
X-WR-CALDESC:Events for Fairytale Town
REFRESH-INTERVAL;VALUE=DURATION:PT1H
X-Robots-Tag:noindex
X-PUBLISHED-TTL:PT1H
BEGIN:VTIMEZONE
TZID:America/Los_Angeles
BEGIN:DAYLIGHT
TZOFFSETFROM:-0800
TZOFFSETTO:-0700
TZNAME:PDT
DTSTART:20250309T100000
END:DAYLIGHT
BEGIN:STANDARD
TZOFFSETFROM:-0700
TZOFFSETTO:-0800
TZNAME:PST
DTSTART:20251102T090000
END:STANDARD
BEGIN:DAYLIGHT
TZOFFSETFROM:-0800
TZOFFSETTO:-0700
TZNAME:PDT
DTSTART:20260308T100000
END:DAYLIGHT
BEGIN:STANDARD
TZOFFSETFROM:-0700
TZOFFSETTO:-0800
TZNAME:PST
DTSTART:20261101T090000
END:STANDARD
BEGIN:DAYLIGHT
TZOFFSETFROM:-0800
TZOFFSETTO:-0700
TZNAME:PDT
DTSTART:20270314T100000
END:DAYLIGHT
BEGIN:STANDARD
TZOFFSETFROM:-0700
TZOFFSETTO:-0800
TZNAME:PST
DTSTART:20271107T090000
END:STANDARD
END:VTIMEZONE
BEGIN:VEVENT
DTSTART;TZID=America/Los_Angeles:20260219T110000
DTEND;TZID=America/Los_Angeles:20260222T120000
DTSTAMP:20260421T092215
CREATED:20260129T232851Z
LAST-MODIFIED:20260129T232933Z
UID:10002469-1771498800-1771761600@www.fairytaletown.org
SUMMARY:Story Center Activities | Week 3
DESCRIPTION:February Story Center Schedule\nCheck out the story center page for more information!\n 
URL:https://www.fairytaletown.org/calendar/story-center-activities-week-3-2/
LOCATION:Fairytale Town\, 3901 Land Park Drive\, Sacramento\, CA\, 95822\, United States
CATEGORIES:Story Center
ATTACH;FMTTYPE=image/png:https://www.fairytaletown.org/wp-content/uploads/2026/01/Website-Calendar-Images-623-x-265-px-13.png
GEO:38.539381;-121.5010551
X-APPLE-STRUCTURED-LOCATION;VALUE=URI;X-ADDRESS=Fairytale Town 3901 Land Park Drive Sacramento CA 95822 United States;X-APPLE-RADIUS=500;X-TITLE=3901 Land Park Drive:geo:-121.5010551,38.539381
END:VEVENT
BEGIN:VEVENT
DTSTART;TZID=America/Los_Angeles:20260222T123000
DTEND;TZID=America/Los_Angeles:20260222T130000
DTSTAMP:20260421T092215
CREATED:20260219T230637Z
LAST-MODIFIED:20260219T230931Z
UID:10002568-1771763400-1771765200@www.fairytaletown.org
SUMMARY:Theater Show: Goldilocks
DESCRIPTION:Join us for a magical\, original fairytale performance created especially for young audiences this weekend in the Children’s Theater\, thanks to NorCal Arts! \nTheater shows are free with the cost of paid park admission.\nAll performances take place in Fairytale Town’s indoor Children’s Theater. \nShow dates: Saturday & Sunday\, February 21st & 22nd\nShow times: 12:30 & 2\nRun time: Approx. 30 minutes \nAuditions: Interested in being a part of the show? Visit the NorCal Arts website to find out how to get involved! \nPlease note: \n\nAdults must be accompanied by children\, and children must be accompanied by adults in order to gain admittance to Fairytale Town.
URL:https://www.fairytaletown.org/calendar/theater-show-goldilocks-2-2/2026-02-22/1/
LOCATION:Fairytale Town\, 3901 Land Park Drive\, Sacramento\, CA\, 95822\, United States
CATEGORIES:NorCal School of Arts Show
ATTACH;FMTTYPE=image/png:https://www.fairytaletown.org/wp-content/uploads/2026/02/Website-Calendar-Images-623-x-265-px-15.png
GEO:38.539381;-121.5010551
X-APPLE-STRUCTURED-LOCATION;VALUE=URI;X-ADDRESS=Fairytale Town 3901 Land Park Drive Sacramento CA 95822 United States;X-APPLE-RADIUS=500;X-TITLE=3901 Land Park Drive:geo:-121.5010551,38.539381
END:VEVENT
BEGIN:VEVENT
DTSTART;TZID=America/Los_Angeles:20260222T140000
DTEND;TZID=America/Los_Angeles:20260222T143000
DTSTAMP:20260421T092215
CREATED:20260219T230637Z
LAST-MODIFIED:20260219T230931Z
UID:10002569-1771768800-1771770600@www.fairytaletown.org
SUMMARY:Theater Show: Goldilocks
DESCRIPTION:Join us for a magical\, original fairytale performance created especially for young audiences this weekend in the Children’s Theater\, thanks to NorCal Arts! \nTheater shows are free with the cost of paid park admission.\nAll performances take place in Fairytale Town’s indoor Children’s Theater. \nShow dates: Saturday & Sunday\, February 21st & 22nd\nShow times: 12:30 & 2\nRun time: Approx. 30 minutes \nAuditions: Interested in being a part of the show? Visit the NorCal Arts website to find out how to get involved! \nPlease note: \n\nAdults must be accompanied by children\, and children must be accompanied by adults in order to gain admittance to Fairytale Town.
URL:https://www.fairytaletown.org/calendar/theater-show-goldilocks-2-2/2026-02-22/2/
LOCATION:Fairytale Town\, 3901 Land Park Drive\, Sacramento\, CA\, 95822\, United States
CATEGORIES:NorCal School of Arts Show
ATTACH;FMTTYPE=image/png:https://www.fairytaletown.org/wp-content/uploads/2026/02/Website-Calendar-Images-623-x-265-px-15.png
GEO:38.539381;-121.5010551
X-APPLE-STRUCTURED-LOCATION;VALUE=URI;X-ADDRESS=Fairytale Town 3901 Land Park Drive Sacramento CA 95822 United States;X-APPLE-RADIUS=500;X-TITLE=3901 Land Park Drive:geo:-121.5010551,38.539381
END:VEVENT
BEGIN:VEVENT
DTSTART;TZID=America/Los_Angeles:20260226T110000
DTEND;TZID=America/Los_Angeles:20260228T120000
DTSTAMP:20260421T092215
CREATED:20260129T232533Z
LAST-MODIFIED:20260129T232657Z
UID:10002468-1772103600-1772280000@www.fairytaletown.org
SUMMARY:Story Center Activities | Week 4
DESCRIPTION:February Story Center Schedule\nCheck out the story center page for more information!\n 
URL:https://www.fairytaletown.org/calendar/story-center-activities-week-3/
LOCATION:Fairytale Town\, 3901 Land Park Drive\, Sacramento\, CA\, 95822\, United States
CATEGORIES:Story Center
ATTACH;FMTTYPE=image/png:https://www.fairytaletown.org/wp-content/uploads/2026/01/Website-Calendar-Images-623-x-265-px-13.png
GEO:38.539381;-121.5010551
X-APPLE-STRUCTURED-LOCATION;VALUE=URI;X-ADDRESS=Fairytale Town 3901 Land Park Drive Sacramento CA 95822 United States;X-APPLE-RADIUS=500;X-TITLE=3901 Land Park Drive:geo:-121.5010551,38.539381
END:VEVENT
BEGIN:VEVENT
DTSTART;TZID=America/Los_Angeles:20260228T110000
DTEND;TZID=America/Los_Angeles:20260228T120000
DTSTAMP:20260421T092215
CREATED:20260131T004233Z
LAST-MODIFIED:20260131T004519Z
UID:10002522-1772276400-1772280000@www.fairytaletown.org
SUMMARY:Tractor Tales
DESCRIPTION:Join us on Saturday\, February 28 & Sunday\, March 1 at 11am in the Story Center Classroom for Tractor Tales! Perfect for little animal lovers\, this interactive event combines the magic of books with the joy of meeting animals in a safe\, hands-on way. Get ready to read\, explore\, and meet some new animal friends! \nThis activity is free with park admission\, which can be purchased at the box office. \n 
URL:https://www.fairytaletown.org/calendar/tractor-tales-2/2026-02-28/
LOCATION:Fairytale Town\, 3901 Land Park Drive\, Sacramento\, CA\, 95822\, United States
CATEGORIES:Story Center
ATTACH;FMTTYPE=image/png:https://www.fairytaletown.org/wp-content/uploads/2026/01/Website-Calendar-Images-623-x-265-px-14.png
GEO:38.539381;-121.5010551
X-APPLE-STRUCTURED-LOCATION;VALUE=URI;X-ADDRESS=Fairytale Town 3901 Land Park Drive Sacramento CA 95822 United States;X-APPLE-RADIUS=500;X-TITLE=3901 Land Park Drive:geo:-121.5010551,38.539381
END:VEVENT
BEGIN:VEVENT
DTSTART;TZID=America/Los_Angeles:20260228T140000
DTEND;TZID=America/Los_Angeles:20260228T143000
DTSTAMP:20260421T092215
CREATED:20260227T220220Z
LAST-MODIFIED:20260227T222919Z
UID:10002845-1772287200-1772289000@www.fairytaletown.org
SUMMARY:Theater Show: Goldilocks
DESCRIPTION:Join us for a magical\, original fairytale performance created especially for young audiences this weekend in the Children’s Theater\, thanks to NorCal Arts! \nTheater shows are free with the cost of paid park admission.\nAll performances take place in Fairytale Town’s indoor Children’s Theater. \nShow dates: Saturday & Sunday\, February 28th & March 1st\nShow times: 12:30 & 2\nRun time: Approx. 30 minutes \nAuditions: Interested in being a part of the show? Visit the NorCal Arts website to find out how to get involved! \nPlease note: \n\nAdults must be accompanied by children\, and children must be accompanied by adults in order to gain admittance to Fairytale Town.
URL:https://www.fairytaletown.org/calendar/theater-show-goldilocks-3/2026-02-28/
LOCATION:Fairytale Town\, 3901 Land Park Drive\, Sacramento\, CA\, 95822\, United States
CATEGORIES:NorCal School of Arts Show
ATTACH;FMTTYPE=image/png:https://www.fairytaletown.org/wp-content/uploads/2026/02/Website-Calendar-Images-623-x-265-px-15.png
GEO:38.539381;-121.5010551
X-APPLE-STRUCTURED-LOCATION;VALUE=URI;X-ADDRESS=Fairytale Town 3901 Land Park Drive Sacramento CA 95822 United States;X-APPLE-RADIUS=500;X-TITLE=3901 Land Park Drive:geo:-121.5010551,38.539381
END:VEVENT
END:VCALENDAR