BEGIN:VCALENDAR
VERSION:2.0
PRODID:-//Fairytale Town - ECPv6.15.20//NONSGML v1.0//EN
CALSCALE:GREGORIAN
METHOD:PUBLISH
X-WR-CALNAME:Fairytale Town
X-ORIGINAL-URL:https://www.fairytaletown.org
X-WR-CALDESC:Events for Fairytale Town
REFRESH-INTERVAL;VALUE=DURATION:PT1H
X-Robots-Tag:noindex
X-PUBLISHED-TTL:PT1H
BEGIN:VTIMEZONE
TZID:America/Los_Angeles
BEGIN:DAYLIGHT
TZOFFSETFROM:-0800
TZOFFSETTO:-0700
TZNAME:PDT
DTSTART:20250309T100000
END:DAYLIGHT
BEGIN:STANDARD
TZOFFSETFROM:-0700
TZOFFSETTO:-0800
TZNAME:PST
DTSTART:20251102T090000
END:STANDARD
BEGIN:DAYLIGHT
TZOFFSETFROM:-0800
TZOFFSETTO:-0700
TZNAME:PDT
DTSTART:20260308T100000
END:DAYLIGHT
BEGIN:STANDARD
TZOFFSETFROM:-0700
TZOFFSETTO:-0800
TZNAME:PST
DTSTART:20261101T090000
END:STANDARD
BEGIN:DAYLIGHT
TZOFFSETFROM:-0800
TZOFFSETTO:-0700
TZNAME:PDT
DTSTART:20270314T100000
END:DAYLIGHT
BEGIN:STANDARD
TZOFFSETFROM:-0700
TZOFFSETTO:-0800
TZNAME:PST
DTSTART:20271107T090000
END:STANDARD
END:VTIMEZONE
BEGIN:VEVENT
DTSTART;TZID=America/Los_Angeles:20260212T110000
DTEND;TZID=America/Los_Angeles:20260215T120000
DTSTAMP:20260421T075558
CREATED:20260129T232444Z
LAST-MODIFIED:20260129T232458Z
UID:10002467-1770894000-1771156800@www.fairytaletown.org
SUMMARY:Story Center Activities | Week 2
DESCRIPTION:February Story Center Schedule\nCheck out the story center page for more information!\n 
URL:https://www.fairytaletown.org/calendar/story-center-activities-week-2/
LOCATION:Fairytale Town\, 3901 Land Park Drive\, Sacramento\, CA\, 95822\, United States
CATEGORIES:Story Center
ATTACH;FMTTYPE=image/png:https://www.fairytaletown.org/wp-content/uploads/2026/01/Website-Calendar-Images-623-x-265-px-13.png
GEO:38.539381;-121.5010551
X-APPLE-STRUCTURED-LOCATION;VALUE=URI;X-ADDRESS=Fairytale Town 3901 Land Park Drive Sacramento CA 95822 United States;X-APPLE-RADIUS=500;X-TITLE=3901 Land Park Drive:geo:-121.5010551,38.539381
END:VEVENT
BEGIN:VEVENT
DTSTART;TZID=America/Los_Angeles:20260215T100000
DTEND;TZID=America/Los_Angeles:20260215T140000
DTSTAMP:20260421T075558
CREATED:20260108T193050Z
LAST-MODIFIED:20260205T213611Z
UID:10002402-1771149600-1771164000@www.fairytaletown.org
SUMMARY:Lunar New Year Celebration
DESCRIPTION:Weather Permitting \nCelebrate Lunar New Year at Fairytale Town! From 10 am to 2 pm\, stop by Pooh Corner to participate in a variety of craft and activity stations. Take part in a park-wide treasure hunt between the 11 am lion dance performance on the Mother Goose Stage and the 1 pm art class in the Story Center Classroom. \nThe Lunar New Year Celebration is free with paid park admission. Weekend admission is $10 for adults and children ages 2 and older. Members and children ages 1 and under are free. \nPlease note: \n\nAdults must be accompanied by children and children must be accompanied by adults in order to gain admittance to the park.\nFairytale Town closes when it rains heavily. If skies are gray\, check our website or call (916) 808-5233 to confirm our hours and program details.
URL:https://www.fairytaletown.org/calendar/lunar-new-year-2/
LOCATION:Fairytale Town\, 3901 Land Park Drive\, Sacramento\, CA\, 95822\, United States
ATTACH;FMTTYPE=image/png:https://www.fairytaletown.org/wp-content/uploads/2026/01/Website-Calendar-Images-623-x-265-px-4.png
GEO:38.539381;-121.5010551
X-APPLE-STRUCTURED-LOCATION;VALUE=URI;X-ADDRESS=Fairytale Town 3901 Land Park Drive Sacramento CA 95822 United States;X-APPLE-RADIUS=500;X-TITLE=3901 Land Park Drive:geo:-121.5010551,38.539381
END:VEVENT
BEGIN:VEVENT
DTSTART;TZID=America/Los_Angeles:20260215T140000
DTEND;TZID=America/Los_Angeles:20260215T143000
DTSTAMP:20260421T075558
CREATED:20260211T035239Z
LAST-MODIFIED:20260211T035513Z
UID:10002566-1771164000-1771165800@www.fairytaletown.org
SUMMARY:Theater Show: Goldilocks
DESCRIPTION:Join us for a magical\, original fairytale performance created especially for young audiences this weekend in the Children’s Theater\, thanks to NorCal Arts! \nTheater shows are free with the cost of paid park admission.\nAll performances take place in Fairytale Town’s indoor Children’s Theater. \nShow dates: Saturday & Sunday\, February 14th & 15th\nShow times: 12:30 & 2\nRun time: Approx. 30 minutes \nAuditions: Interested in being a part of the show? Visit the NorCal Arts website to find out how to get involved! \nPlease note: \n\nAdults must be accompanied by children\, and children must be accompanied by adults in order to gain admittance to Fairytale Town.
URL:https://www.fairytaletown.org/calendar/theater-show-goldilocks-2/2026-02-15/
LOCATION:Fairytale Town\, 3901 Land Park Drive\, Sacramento\, CA\, 95822\, United States
CATEGORIES:NorCal School of Arts Show
ATTACH;FMTTYPE=image/png:https://www.fairytaletown.org/wp-content/uploads/2026/02/Website-Calendar-Images-623-x-265-px-15.png
GEO:38.539381;-121.5010551
X-APPLE-STRUCTURED-LOCATION;VALUE=URI;X-ADDRESS=Fairytale Town 3901 Land Park Drive Sacramento CA 95822 United States;X-APPLE-RADIUS=500;X-TITLE=3901 Land Park Drive:geo:-121.5010551,38.539381
END:VEVENT
BEGIN:VEVENT
DTSTART;TZID=America/Los_Angeles:20260216T100000
DTEND;TZID=America/Los_Angeles:20260216T160000
DTSTAMP:20260421T075558
CREATED:20260108T233136Z
LAST-MODIFIED:20260108T233136Z
UID:10002405-1771236000-1771257600@www.fairytaletown.org
SUMMARY:Open For Play: Presidents' Day
DESCRIPTION:Weather Permitting \nFairytale Town will be open for play on Presidents’ Day\, weather permitting. \nAdmission is $10 for adults and children ages 2 and older. Members and children ages 1 and under are free. \nPlease note: \n\nAdults must be accompanied by children and children must be accompanied by adults in order to gain admittance to Fairytale Town.
URL:https://www.fairytaletown.org/calendar/open-for-play-presidents-day/
LOCATION:Fairytale Town\, 3901 Land Park Drive\, Sacramento\, CA\, 95822\, United States
CATEGORIES:Holiday: Open for Play
ATTACH;FMTTYPE=image/png:https://www.fairytaletown.org/wp-content/uploads/2018/01/Website-Calendar-Images-623-x-265-px-8.png
GEO:38.539381;-121.5010551
X-APPLE-STRUCTURED-LOCATION;VALUE=URI;X-ADDRESS=Fairytale Town 3901 Land Park Drive Sacramento CA 95822 United States;X-APPLE-RADIUS=500;X-TITLE=3901 Land Park Drive:geo:-121.5010551,38.539381
END:VEVENT
BEGIN:VEVENT
DTSTART;TZID=America/Los_Angeles:20260219T100000
DTEND;TZID=America/Los_Angeles:20260219T110000
DTSTAMP:20260421T075558
CREATED:20260114T213025Z
LAST-MODIFIED:20260115T205942Z
UID:10002438-1771495200-1771498800@www.fairytaletown.org
SUMMARY:Toddler Time Pop Up!
DESCRIPTION:Register Today! \nThe Great Rat Race with Horse Interaction\nLittle ones ages 2 through 5 will engage in activities that are literacy-based and meet the animals that call Fairytale Town home through up-close introductions. Storytime\, songs\, and sensory activities bring the stories to life. Advance registration is required. \nRegistration\nThe registration fee is per session and includes the class and park admission for one child age 2 through 5 and one parent or caregiver.\n \n$12 per session for members\n$16 per session for nonmembers \nHave siblings? A discount will be automatically applied when registering more than one child. \nQuestions\nIf you have a question about Toddler Time\, please contact us at education@fairytaletown.org.
URL:https://www.fairytaletown.org/calendar/toddler-time-pop-up-2/
LOCATION:Fairytale Town\, 3901 Land Park Drive\, Sacramento\, CA\, 95822\, United States
CATEGORIES:Toddler Time
ATTACH;FMTTYPE=image/png:https://www.fairytaletown.org/wp-content/uploads/2026/01/36.png
GEO:38.539381;-121.5010551
X-APPLE-STRUCTURED-LOCATION;VALUE=URI;X-ADDRESS=Fairytale Town 3901 Land Park Drive Sacramento CA 95822 United States;X-APPLE-RADIUS=500;X-TITLE=3901 Land Park Drive:geo:-121.5010551,38.539381
END:VEVENT
BEGIN:VEVENT
DTSTART;TZID=America/Los_Angeles:20260219T110000
DTEND;TZID=America/Los_Angeles:20260222T120000
DTSTAMP:20260421T075558
CREATED:20260129T232851Z
LAST-MODIFIED:20260129T232933Z
UID:10002469-1771498800-1771761600@www.fairytaletown.org
SUMMARY:Story Center Activities | Week 3
DESCRIPTION:February Story Center Schedule\nCheck out the story center page for more information!\n 
URL:https://www.fairytaletown.org/calendar/story-center-activities-week-3-2/
LOCATION:Fairytale Town\, 3901 Land Park Drive\, Sacramento\, CA\, 95822\, United States
CATEGORIES:Story Center
ATTACH;FMTTYPE=image/png:https://www.fairytaletown.org/wp-content/uploads/2026/01/Website-Calendar-Images-623-x-265-px-13.png
GEO:38.539381;-121.5010551
X-APPLE-STRUCTURED-LOCATION;VALUE=URI;X-ADDRESS=Fairytale Town 3901 Land Park Drive Sacramento CA 95822 United States;X-APPLE-RADIUS=500;X-TITLE=3901 Land Park Drive:geo:-121.5010551,38.539381
END:VEVENT
BEGIN:VEVENT
DTSTART;TZID=America/Los_Angeles:20260221T123000
DTEND;TZID=America/Los_Angeles:20260221T130000
DTSTAMP:20260421T075558
CREATED:20260219T230637Z
LAST-MODIFIED:20260219T230931Z
UID:10002567-1771677000-1771678800@www.fairytaletown.org
SUMMARY:Theater Show: Goldilocks
DESCRIPTION:Join us for a magical\, original fairytale performance created especially for young audiences this weekend in the Children’s Theater\, thanks to NorCal Arts! \nTheater shows are free with the cost of paid park admission.\nAll performances take place in Fairytale Town’s indoor Children’s Theater. \nShow dates: Saturday & Sunday\, February 21st & 22nd\nShow times: 12:30 & 2\nRun time: Approx. 30 minutes \nAuditions: Interested in being a part of the show? Visit the NorCal Arts website to find out how to get involved! \nPlease note: \n\nAdults must be accompanied by children\, and children must be accompanied by adults in order to gain admittance to Fairytale Town.
URL:https://www.fairytaletown.org/calendar/theater-show-goldilocks-2-2/2026-02-21/1/
LOCATION:Fairytale Town\, 3901 Land Park Drive\, Sacramento\, CA\, 95822\, United States
CATEGORIES:NorCal School of Arts Show
ATTACH;FMTTYPE=image/png:https://www.fairytaletown.org/wp-content/uploads/2026/02/Website-Calendar-Images-623-x-265-px-15.png
GEO:38.539381;-121.5010551
X-APPLE-STRUCTURED-LOCATION;VALUE=URI;X-ADDRESS=Fairytale Town 3901 Land Park Drive Sacramento CA 95822 United States;X-APPLE-RADIUS=500;X-TITLE=3901 Land Park Drive:geo:-121.5010551,38.539381
END:VEVENT
BEGIN:VEVENT
DTSTART;TZID=America/Los_Angeles:20260221T153000
DTEND;TZID=America/Los_Angeles:20260221T160000
DTSTAMP:20260421T075559
CREATED:20260219T230637Z
LAST-MODIFIED:20260219T230931Z
UID:10002570-1771687800-1771689600@www.fairytaletown.org
SUMMARY:Theater Show: Goldilocks
DESCRIPTION:Join us for a magical\, original fairytale performance created especially for young audiences this weekend in the Children’s Theater\, thanks to NorCal Arts! \nTheater shows are free with the cost of paid park admission.\nAll performances take place in Fairytale Town’s indoor Children’s Theater. \nShow dates: Saturday & Sunday\, February 21st & 22nd\nShow times: 12:30 & 2\nRun time: Approx. 30 minutes \nAuditions: Interested in being a part of the show? Visit the NorCal Arts website to find out how to get involved! \nPlease note: \n\nAdults must be accompanied by children\, and children must be accompanied by adults in order to gain admittance to Fairytale Town.
URL:https://www.fairytaletown.org/calendar/theater-show-goldilocks-2-2/2026-02-21/3/
LOCATION:Fairytale Town\, 3901 Land Park Drive\, Sacramento\, CA\, 95822\, United States
CATEGORIES:NorCal School of Arts Show
ATTACH;FMTTYPE=image/png:https://www.fairytaletown.org/wp-content/uploads/2026/02/Website-Calendar-Images-623-x-265-px-15.png
GEO:38.539381;-121.5010551
X-APPLE-STRUCTURED-LOCATION;VALUE=URI;X-ADDRESS=Fairytale Town 3901 Land Park Drive Sacramento CA 95822 United States;X-APPLE-RADIUS=500;X-TITLE=3901 Land Park Drive:geo:-121.5010551,38.539381
END:VEVENT
END:VCALENDAR