BEGIN:VCALENDAR
VERSION:2.0
PRODID:-//Fairytale Town - ECPv6.15.20//NONSGML v1.0//EN
CALSCALE:GREGORIAN
METHOD:PUBLISH
X-WR-CALNAME:Fairytale Town
X-ORIGINAL-URL:https://www.fairytaletown.org
X-WR-CALDESC:Events for Fairytale Town
REFRESH-INTERVAL;VALUE=DURATION:PT1H
X-Robots-Tag:noindex
X-PUBLISHED-TTL:PT1H
BEGIN:VTIMEZONE
TZID:America/Los_Angeles
BEGIN:DAYLIGHT
TZOFFSETFROM:-0800
TZOFFSETTO:-0700
TZNAME:PDT
DTSTART:20250309T100000
END:DAYLIGHT
BEGIN:STANDARD
TZOFFSETFROM:-0700
TZOFFSETTO:-0800
TZNAME:PST
DTSTART:20251102T090000
END:STANDARD
BEGIN:DAYLIGHT
TZOFFSETFROM:-0800
TZOFFSETTO:-0700
TZNAME:PDT
DTSTART:20260308T100000
END:DAYLIGHT
BEGIN:STANDARD
TZOFFSETFROM:-0700
TZOFFSETTO:-0800
TZNAME:PST
DTSTART:20261101T090000
END:STANDARD
BEGIN:DAYLIGHT
TZOFFSETFROM:-0800
TZOFFSETTO:-0700
TZNAME:PDT
DTSTART:20270314T100000
END:DAYLIGHT
BEGIN:STANDARD
TZOFFSETFROM:-0700
TZOFFSETTO:-0800
TZNAME:PST
DTSTART:20271107T090000
END:STANDARD
END:VTIMEZONE
BEGIN:VEVENT
DTSTART;TZID=America/Los_Angeles:20260205T110000
DTEND;TZID=America/Los_Angeles:20260208T120000
DTSTAMP:20260421T080128
CREATED:20260129T224704Z
LAST-MODIFIED:20260129T224900Z
UID:10002466-1770289200-1770552000@www.fairytaletown.org
SUMMARY:Story Center Activities | Week 1
DESCRIPTION:February Story Center Schedule\nCheck out the story center page for more information!\n 
URL:https://www.fairytaletown.org/calendar/story-center-activities/
LOCATION:Fairytale Town\, 3901 Land Park Drive\, Sacramento\, CA\, 95822\, United States
CATEGORIES:Story Center
ATTACH;FMTTYPE=image/png:https://www.fairytaletown.org/wp-content/uploads/2026/01/Website-Calendar-Images-623-x-265-px-13.png
GEO:38.539381;-121.5010551
X-APPLE-STRUCTURED-LOCATION;VALUE=URI;X-ADDRESS=Fairytale Town 3901 Land Park Drive Sacramento CA 95822 United States;X-APPLE-RADIUS=500;X-TITLE=3901 Land Park Drive:geo:-121.5010551,38.539381
END:VEVENT
BEGIN:VEVENT
DTSTART;TZID=America/Los_Angeles:20260208T123000
DTEND;TZID=America/Los_Angeles:20260208T130000
DTSTAMP:20260421T080128
CREATED:20260205T015454Z
LAST-MODIFIED:20260205T015554Z
UID:10002535-1770553800-1770555600@www.fairytaletown.org
SUMMARY:Theater Show: Goldilocks
DESCRIPTION:Join us for a magical\, original fairytale performance created especially for young audiences this weekend in the Children’s Theater\, thanks to NorCal Arts! \nTheater shows are free with the cost of paid park admission.\nAll performances take place in Fairytale Town’s indoor Children’s Theater. \nShow dates: Saturday & Sunday\, February 7th & 8th\nShow times: 12:30 & 2\nRun time: Approx. 30 minutes \nAuditions: Interested in being a part of the show? Visit the NorCal Arts website to find out how to get involved! \nPlease note: \n\nAdults must be accompanied by children\, and children must be accompanied by adults in order to gain admittance to Fairytale Town.
URL:https://www.fairytaletown.org/calendar/theater-show-goldilocks/2026-02-08/1/
LOCATION:Fairytale Town\, 3901 Land Park Drive\, Sacramento\, CA\, 95822\, United States
CATEGORIES:NorCal School of Arts Show
ATTACH;FMTTYPE=image/png:https://www.fairytaletown.org/wp-content/uploads/2026/02/Website-Calendar-Images-623-x-265-px-15.png
GEO:38.539381;-121.5010551
X-APPLE-STRUCTURED-LOCATION;VALUE=URI;X-ADDRESS=Fairytale Town 3901 Land Park Drive Sacramento CA 95822 United States;X-APPLE-RADIUS=500;X-TITLE=3901 Land Park Drive:geo:-121.5010551,38.539381
END:VEVENT
BEGIN:VEVENT
DTSTART;TZID=America/Los_Angeles:20260208T140000
DTEND;TZID=America/Los_Angeles:20260208T143000
DTSTAMP:20260421T080128
CREATED:20260205T015454Z
LAST-MODIFIED:20260205T015554Z
UID:10002536-1770559200-1770561000@www.fairytaletown.org
SUMMARY:Theater Show: Goldilocks
DESCRIPTION:Join us for a magical\, original fairytale performance created especially for young audiences this weekend in the Children’s Theater\, thanks to NorCal Arts! \nTheater shows are free with the cost of paid park admission.\nAll performances take place in Fairytale Town’s indoor Children’s Theater. \nShow dates: Saturday & Sunday\, February 7th & 8th\nShow times: 12:30 & 2\nRun time: Approx. 30 minutes \nAuditions: Interested in being a part of the show? Visit the NorCal Arts website to find out how to get involved! \nPlease note: \n\nAdults must be accompanied by children\, and children must be accompanied by adults in order to gain admittance to Fairytale Town.
URL:https://www.fairytaletown.org/calendar/theater-show-goldilocks/2026-02-08/2/
LOCATION:Fairytale Town\, 3901 Land Park Drive\, Sacramento\, CA\, 95822\, United States
CATEGORIES:NorCal School of Arts Show
ATTACH;FMTTYPE=image/png:https://www.fairytaletown.org/wp-content/uploads/2026/02/Website-Calendar-Images-623-x-265-px-15.png
GEO:38.539381;-121.5010551
X-APPLE-STRUCTURED-LOCATION;VALUE=URI;X-ADDRESS=Fairytale Town 3901 Land Park Drive Sacramento CA 95822 United States;X-APPLE-RADIUS=500;X-TITLE=3901 Land Park Drive:geo:-121.5010551,38.539381
END:VEVENT
BEGIN:VEVENT
DTSTART;TZID=America/Los_Angeles:20260212T100000
DTEND;TZID=America/Los_Angeles:20260212T110000
DTSTAMP:20260421T080128
CREATED:20260114T210042Z
LAST-MODIFIED:20260131T012538Z
UID:10002421-1770890400-1770894000@www.fairytaletown.org
SUMMARY:Toddler Time Pop Up!
DESCRIPTION:Register Today! \nPuppy Love With Service Dog Interaction\nLittle ones ages 2 through 5 will engage in activities that are literacy-based and meet the animals that call Fairytale Town home through up-close introductions. Storytime\, songs\, and sensory activities bring the stories to life. Advance registration is required. \nRegistration\nThe registration fee is per session and includes the class and park admission for one child age 2 through 5 and one parent or caregiver.\n \n$12 per session for members\n$16 per session for nonmembers \nHave siblings? A discount will be automatically applied when registering more than one child. \nQuestions\nIf you have a question about Toddler Time\, please contact us at education@fairytaletown.org.
URL:https://www.fairytaletown.org/calendar/toddler-time-pop-up/
LOCATION:Fairytale Town\, 3901 Land Park Drive\, Sacramento\, CA\, 95822\, United States
CATEGORIES:Toddler Time
ATTACH;FMTTYPE=image/png:https://www.fairytaletown.org/wp-content/uploads/2026/01/36.png
GEO:38.539381;-121.5010551
X-APPLE-STRUCTURED-LOCATION;VALUE=URI;X-ADDRESS=Fairytale Town 3901 Land Park Drive Sacramento CA 95822 United States;X-APPLE-RADIUS=500;X-TITLE=3901 Land Park Drive:geo:-121.5010551,38.539381
END:VEVENT
BEGIN:VEVENT
DTSTART;TZID=America/Los_Angeles:20260212T110000
DTEND;TZID=America/Los_Angeles:20260215T120000
DTSTAMP:20260421T080128
CREATED:20260129T232444Z
LAST-MODIFIED:20260129T232458Z
UID:10002467-1770894000-1771156800@www.fairytaletown.org
SUMMARY:Story Center Activities | Week 2
DESCRIPTION:February Story Center Schedule\nCheck out the story center page for more information!\n 
URL:https://www.fairytaletown.org/calendar/story-center-activities-week-2/
LOCATION:Fairytale Town\, 3901 Land Park Drive\, Sacramento\, CA\, 95822\, United States
CATEGORIES:Story Center
ATTACH;FMTTYPE=image/png:https://www.fairytaletown.org/wp-content/uploads/2026/01/Website-Calendar-Images-623-x-265-px-13.png
GEO:38.539381;-121.5010551
X-APPLE-STRUCTURED-LOCATION;VALUE=URI;X-ADDRESS=Fairytale Town 3901 Land Park Drive Sacramento CA 95822 United States;X-APPLE-RADIUS=500;X-TITLE=3901 Land Park Drive:geo:-121.5010551,38.539381
END:VEVENT
BEGIN:VEVENT
DTSTART;TZID=America/Los_Angeles:20260214T123000
DTEND;TZID=America/Los_Angeles:20260214T130000
DTSTAMP:20260421T080128
CREATED:20260211T035239Z
LAST-MODIFIED:20260211T035513Z
UID:10002541-1771072200-1771074000@www.fairytaletown.org
SUMMARY:Theater Show: Goldilocks
DESCRIPTION:Join us for a magical\, original fairytale performance created especially for young audiences this weekend in the Children’s Theater\, thanks to NorCal Arts! \nTheater shows are free with the cost of paid park admission.\nAll performances take place in Fairytale Town’s indoor Children’s Theater. \nShow dates: Saturday & Sunday\, February 14th & 15th\nShow times: 12:30 & 2\nRun time: Approx. 30 minutes \nAuditions: Interested in being a part of the show? Visit the NorCal Arts website to find out how to get involved! \nPlease note: \n\nAdults must be accompanied by children\, and children must be accompanied by adults in order to gain admittance to Fairytale Town.
URL:https://www.fairytaletown.org/calendar/theater-show-goldilocks-2/2026-02-14/1/
LOCATION:Fairytale Town\, 3901 Land Park Drive\, Sacramento\, CA\, 95822\, United States
CATEGORIES:NorCal School of Arts Show
ATTACH;FMTTYPE=image/png:https://www.fairytaletown.org/wp-content/uploads/2026/02/Website-Calendar-Images-623-x-265-px-15.png
GEO:38.539381;-121.5010551
X-APPLE-STRUCTURED-LOCATION;VALUE=URI;X-ADDRESS=Fairytale Town 3901 Land Park Drive Sacramento CA 95822 United States;X-APPLE-RADIUS=500;X-TITLE=3901 Land Park Drive:geo:-121.5010551,38.539381
END:VEVENT
BEGIN:VEVENT
DTSTART;TZID=America/Los_Angeles:20260214T140000
DTEND;TZID=America/Los_Angeles:20260214T143000
DTSTAMP:20260421T080128
CREATED:20260211T035239Z
LAST-MODIFIED:20260211T035513Z
UID:10002542-1771077600-1771079400@www.fairytaletown.org
SUMMARY:Theater Show: Goldilocks
DESCRIPTION:Join us for a magical\, original fairytale performance created especially for young audiences this weekend in the Children’s Theater\, thanks to NorCal Arts! \nTheater shows are free with the cost of paid park admission.\nAll performances take place in Fairytale Town’s indoor Children’s Theater. \nShow dates: Saturday & Sunday\, February 14th & 15th\nShow times: 12:30 & 2\nRun time: Approx. 30 minutes \nAuditions: Interested in being a part of the show? Visit the NorCal Arts website to find out how to get involved! \nPlease note: \n\nAdults must be accompanied by children\, and children must be accompanied by adults in order to gain admittance to Fairytale Town.
URL:https://www.fairytaletown.org/calendar/theater-show-goldilocks-2/2026-02-14/2/
LOCATION:Fairytale Town\, 3901 Land Park Drive\, Sacramento\, CA\, 95822\, United States
CATEGORIES:NorCal School of Arts Show
ATTACH;FMTTYPE=image/png:https://www.fairytaletown.org/wp-content/uploads/2026/02/Website-Calendar-Images-623-x-265-px-15.png
GEO:38.539381;-121.5010551
X-APPLE-STRUCTURED-LOCATION;VALUE=URI;X-ADDRESS=Fairytale Town 3901 Land Park Drive Sacramento CA 95822 United States;X-APPLE-RADIUS=500;X-TITLE=3901 Land Park Drive:geo:-121.5010551,38.539381
END:VEVENT
END:VCALENDAR