BEGIN:VCALENDAR
VERSION:2.0
PRODID:-//Fairytale Town - ECPv6.15.20//NONSGML v1.0//EN
CALSCALE:GREGORIAN
METHOD:PUBLISH
X-WR-CALNAME:Fairytale Town
X-ORIGINAL-URL:https://www.fairytaletown.org
X-WR-CALDESC:Events for Fairytale Town
REFRESH-INTERVAL;VALUE=DURATION:PT1H
X-Robots-Tag:noindex
X-PUBLISHED-TTL:PT1H
BEGIN:VTIMEZONE
TZID:America/Los_Angeles
BEGIN:DAYLIGHT
TZOFFSETFROM:-0800
TZOFFSETTO:-0700
TZNAME:PDT
DTSTART:20250309T100000
END:DAYLIGHT
BEGIN:STANDARD
TZOFFSETFROM:-0700
TZOFFSETTO:-0800
TZNAME:PST
DTSTART:20251102T090000
END:STANDARD
BEGIN:DAYLIGHT
TZOFFSETFROM:-0800
TZOFFSETTO:-0700
TZNAME:PDT
DTSTART:20260308T100000
END:DAYLIGHT
BEGIN:STANDARD
TZOFFSETFROM:-0700
TZOFFSETTO:-0800
TZNAME:PST
DTSTART:20261101T090000
END:STANDARD
BEGIN:DAYLIGHT
TZOFFSETFROM:-0800
TZOFFSETTO:-0700
TZNAME:PDT
DTSTART:20270314T100000
END:DAYLIGHT
BEGIN:STANDARD
TZOFFSETFROM:-0700
TZOFFSETTO:-0800
TZNAME:PST
DTSTART:20271107T090000
END:STANDARD
END:VTIMEZONE
BEGIN:VEVENT
DTSTART;TZID=America/Los_Angeles:20260122T110000
DTEND;TZID=America/Los_Angeles:20260125T120000
DTSTAMP:20260421T075601
CREATED:20260110T030106Z
LAST-MODIFIED:20260112T234141Z
UID:10002401-1769079600-1769342400@www.fairytaletown.org
SUMMARY:Theme Week: Mythical Creatures
DESCRIPTION:Join us for Story Time and guided crafts inspired by mythical creatures from January 22–25 at 11am! This activity is free with park admission\, which can be purchased at the box office. \n\n 
URL:https://www.fairytaletown.org/calendar/theme-week-mythical-creatures/
LOCATION:Fairytale Town\, 3901 Land Park Drive\, Sacramento\, CA\, 95822\, United States
CATEGORIES:Theme Week
ATTACH;FMTTYPE=image/png:https://www.fairytaletown.org/wp-content/uploads/2026/01/1.png
GEO:38.539381;-121.5010551
X-APPLE-STRUCTURED-LOCATION;VALUE=URI;X-ADDRESS=Fairytale Town 3901 Land Park Drive Sacramento CA 95822 United States;X-APPLE-RADIUS=500;X-TITLE=3901 Land Park Drive:geo:-121.5010551,38.539381
END:VEVENT
BEGIN:VEVENT
DTSTART;TZID=America/Los_Angeles:20260131T110000
DTEND;TZID=America/Los_Angeles:20260131T120000
DTSTAMP:20260421T075601
CREATED:20260131T003626Z
LAST-MODIFIED:20260131T004526Z
UID:10002518-1769857200-1769860800@www.fairytaletown.org
SUMMARY:Tractor Tales
DESCRIPTION:Join us this weekend at 11am in the Story Center Classroom for Tractor Tales! Perfect for little animal lovers\, this interactive event combines the magic of books with the joy of meeting animals in a safe\, hands-on way. Get ready to read\, explore\, and meet some new animal friends! \nThis activity is free with park admission\, which can be purchased at the box office.
URL:https://www.fairytaletown.org/calendar/tractor-tales/2026-01-31/
LOCATION:Fairytale Town\, 3901 Land Park Drive\, Sacramento\, CA\, 95822\, United States
CATEGORIES:Story Center
ATTACH;FMTTYPE=image/png:https://www.fairytaletown.org/wp-content/uploads/2026/01/Website-Calendar-Images-623-x-265-px-14.png
GEO:38.539381;-121.5010551
X-APPLE-STRUCTURED-LOCATION;VALUE=URI;X-ADDRESS=Fairytale Town 3901 Land Park Drive Sacramento CA 95822 United States;X-APPLE-RADIUS=500;X-TITLE=3901 Land Park Drive:geo:-121.5010551,38.539381
END:VEVENT
BEGIN:VEVENT
DTSTART;TZID=America/Los_Angeles:20260131T120000
DTEND;TZID=America/Los_Angeles:20260131T123000
DTSTAMP:20260421T075601
CREATED:20250401T230036Z
LAST-MODIFIED:20260108T224522Z
UID:10001480-1769860800-1769862600@www.fairytaletown.org
SUMMARY:Volunteer Orientation
DESCRIPTION:Do you want to help us make magic? Become a Fairytale Town Volunteer! \nMeet us in the Story Center for orientation. \nOur New Volunteer Orientation sessions provide an in-person showcase of our different Volunteer Programs\, how to navigate our Volunteer online database\, Better Impact\, and a tour of Fairytale Town. \nTo get started\, visit our Volunteer page to create your Better Impact account\, sign up for a session\, and we’ll see you at Orientation! \n  \n  Better Impact Sign Up  \n  \n  Learn more: Volunteer Page \n  \n 
URL:https://www.fairytaletown.org/calendar/volunteer-orientation-7/
LOCATION:Fairytale Town\, 3901 Land Park Drive\, Sacramento\, CA\, 95822\, United States
CATEGORIES:Volunteers
ATTACH;FMTTYPE=image/png:https://www.fairytaletown.org/wp-content/uploads/2026/01/Website-Calendar-Images-623-x-265-px-7.png
GEO:38.539381;-121.5010551
X-APPLE-STRUCTURED-LOCATION;VALUE=URI;X-ADDRESS=Fairytale Town 3901 Land Park Drive Sacramento CA 95822 United States;X-APPLE-RADIUS=500;X-TITLE=3901 Land Park Drive:geo:-121.5010551,38.539381
END:VEVENT
END:VCALENDAR