BEGIN:VCALENDAR
VERSION:2.0
PRODID:-//Fairytale Town - ECPv6.15.20//NONSGML v1.0//EN
CALSCALE:GREGORIAN
METHOD:PUBLISH
X-ORIGINAL-URL:https://www.fairytaletown.org
X-WR-CALDESC:Events for Fairytale Town
REFRESH-INTERVAL;VALUE=DURATION:PT1H
X-Robots-Tag:noindex
X-PUBLISHED-TTL:PT1H
BEGIN:VTIMEZONE
TZID:America/Los_Angeles
BEGIN:DAYLIGHT
TZOFFSETFROM:-0800
TZOFFSETTO:-0700
TZNAME:PDT
DTSTART:20250309T100000
END:DAYLIGHT
BEGIN:STANDARD
TZOFFSETFROM:-0700
TZOFFSETTO:-0800
TZNAME:PST
DTSTART:20251102T090000
END:STANDARD
BEGIN:DAYLIGHT
TZOFFSETFROM:-0800
TZOFFSETTO:-0700
TZNAME:PDT
DTSTART:20260308T100000
END:DAYLIGHT
BEGIN:STANDARD
TZOFFSETFROM:-0700
TZOFFSETTO:-0800
TZNAME:PST
DTSTART:20261101T090000
END:STANDARD
BEGIN:DAYLIGHT
TZOFFSETFROM:-0800
TZOFFSETTO:-0700
TZNAME:PDT
DTSTART:20270314T100000
END:DAYLIGHT
BEGIN:STANDARD
TZOFFSETFROM:-0700
TZOFFSETTO:-0800
TZNAME:PST
DTSTART:20271107T090000
END:STANDARD
END:VTIMEZONE
BEGIN:VEVENT
DTSTART;TZID=America/Los_Angeles:20260118T123000
DTEND;TZID=America/Los_Angeles:20260118T130000
DTSTAMP:20260421T091133
CREATED:20260113T233258Z
LAST-MODIFIED:20260113T233322Z
UID:10002436-1768739400-1768741200@www.fairytaletown.org
SUMMARY:Theater Show: The Ice Princess and the Frozen Wish
DESCRIPTION:Join us for a magical\, original fairytale performance created especially for young audiences this weekend in the Children’s Theater\, thanks to NorCal Arts! \nTheater shows are free with the cost of paid park admission.\nAll performances take place in Fairytale Town’s indoor Children’s Theater. \nShow dates: Saturday & Sunday\, January 17th & 18th\nShow times: 12:30 & 2\nRun time: Approx. 30 minutes \nAuditions: Interested in being a part of the show? Visit the NorCal Arts website to find out how to get involved! \nPlease note: \n\nAdults must be accompanied by children\, and children must be accompanied by adults in order to gain admittance to Fairytale Town.
URL:https://www.fairytaletown.org/calendar/theater-show-the-ice-princess-and-the-frozen-wish-3/2026-01-18/1/
LOCATION:Fairytale Town\, 3901 Land Park Drive\, Sacramento\, CA\, 95822\, United States
CATEGORIES:NorCal School of Arts Show
ATTACH;FMTTYPE=image/png:https://www.fairytaletown.org/wp-content/uploads/2025/12/Website-Banner-NorCal-Theater-Shows.png
GEO:38.539381;-121.5010551
X-APPLE-STRUCTURED-LOCATION;VALUE=URI;X-ADDRESS=Fairytale Town 3901 Land Park Drive Sacramento CA 95822 United States;X-APPLE-RADIUS=500;X-TITLE=3901 Land Park Drive:geo:-121.5010551,38.539381
END:VEVENT
BEGIN:VEVENT
DTSTART;TZID=America/Los_Angeles:20260118T140000
DTEND;TZID=America/Los_Angeles:20260118T143000
DTSTAMP:20260421T091133
CREATED:20260113T233258Z
LAST-MODIFIED:20260113T233322Z
UID:10002437-1768744800-1768746600@www.fairytaletown.org
SUMMARY:Theater Show: The Ice Princess and the Frozen Wish
DESCRIPTION:Join us for a magical\, original fairytale performance created especially for young audiences this weekend in the Children’s Theater\, thanks to NorCal Arts! \nTheater shows are free with the cost of paid park admission.\nAll performances take place in Fairytale Town’s indoor Children’s Theater. \nShow dates: Saturday & Sunday\, January 17th & 18th\nShow times: 12:30 & 2\nRun time: Approx. 30 minutes \nAuditions: Interested in being a part of the show? Visit the NorCal Arts website to find out how to get involved! \nPlease note: \n\nAdults must be accompanied by children\, and children must be accompanied by adults in order to gain admittance to Fairytale Town.
URL:https://www.fairytaletown.org/calendar/theater-show-the-ice-princess-and-the-frozen-wish-3/2026-01-18/2/
LOCATION:Fairytale Town\, 3901 Land Park Drive\, Sacramento\, CA\, 95822\, United States
CATEGORIES:NorCal School of Arts Show
ATTACH;FMTTYPE=image/png:https://www.fairytaletown.org/wp-content/uploads/2025/12/Website-Banner-NorCal-Theater-Shows.png
GEO:38.539381;-121.5010551
X-APPLE-STRUCTURED-LOCATION;VALUE=URI;X-ADDRESS=Fairytale Town 3901 Land Park Drive Sacramento CA 95822 United States;X-APPLE-RADIUS=500;X-TITLE=3901 Land Park Drive:geo:-121.5010551,38.539381
END:VEVENT
BEGIN:VEVENT
DTSTART;TZID=America/Los_Angeles:20260119T100000
DTEND;TZID=America/Los_Angeles:20260119T160000
DTSTAMP:20260421T091133
CREATED:20180122T183912Z
LAST-MODIFIED:20260108T233022Z
UID:10000691-1768816800-1768838400@www.fairytaletown.org
SUMMARY:Open For Play: Martin Luther King Jr. Day
DESCRIPTION:Weather Permitting \nFairytale Town will be open for play on Martin Luther King Jr. Day\, weather permitting. \nAdmission is $10 for adults and children ages 2 and older. Members and children ages 1 and under are free. \nPlease note: \n\nAdults must be accompanied by children and children must be accompanied by adults in order to gain admittance to Fairytale Town.
URL:https://www.fairytaletown.org/calendar/open-for-play-martin-luther-king-jr-day/
LOCATION:Fairytale Town\, 3901 Land Park Drive\, Sacramento\, CA\, 95822\, United States
CATEGORIES:Holiday: Open for Play
ATTACH;FMTTYPE=image/png:https://www.fairytaletown.org/wp-content/uploads/2018/01/Website-Calendar-Images-623-x-265-px-8.png
GEO:38.539381;-121.5010551
X-APPLE-STRUCTURED-LOCATION;VALUE=URI;X-ADDRESS=Fairytale Town 3901 Land Park Drive Sacramento CA 95822 United States;X-APPLE-RADIUS=500;X-TITLE=3901 Land Park Drive:geo:-121.5010551,38.539381
END:VEVENT
BEGIN:VEVENT
DTSTART;TZID=America/Los_Angeles:20260122T110000
DTEND;TZID=America/Los_Angeles:20260125T120000
DTSTAMP:20260421T091133
CREATED:20260110T030106Z
LAST-MODIFIED:20260112T234141Z
UID:10002401-1769079600-1769342400@www.fairytaletown.org
SUMMARY:Theme Week: Mythical Creatures
DESCRIPTION:Join us for Story Time and guided crafts inspired by mythical creatures from January 22–25 at 11am! This activity is free with park admission\, which can be purchased at the box office. \n\n 
URL:https://www.fairytaletown.org/calendar/theme-week-mythical-creatures/
LOCATION:Fairytale Town\, 3901 Land Park Drive\, Sacramento\, CA\, 95822\, United States
CATEGORIES:Theme Week
ATTACH;FMTTYPE=image/png:https://www.fairytaletown.org/wp-content/uploads/2026/01/1.png
GEO:38.539381;-121.5010551
X-APPLE-STRUCTURED-LOCATION;VALUE=URI;X-ADDRESS=Fairytale Town 3901 Land Park Drive Sacramento CA 95822 United States;X-APPLE-RADIUS=500;X-TITLE=3901 Land Park Drive:geo:-121.5010551,38.539381
END:VEVENT
END:VCALENDAR