BEGIN:VCALENDAR
VERSION:2.0
PRODID:-//Fairytale Town - ECPv6.15.20//NONSGML v1.0//EN
CALSCALE:GREGORIAN
METHOD:PUBLISH
X-WR-CALNAME:Fairytale Town
X-ORIGINAL-URL:https://www.fairytaletown.org
X-WR-CALDESC:Events for Fairytale Town
REFRESH-INTERVAL;VALUE=DURATION:PT1H
X-Robots-Tag:noindex
X-PUBLISHED-TTL:PT1H
BEGIN:VTIMEZONE
TZID:America/Los_Angeles
BEGIN:DAYLIGHT
TZOFFSETFROM:-0800
TZOFFSETTO:-0700
TZNAME:PDT
DTSTART:20250309T100000
END:DAYLIGHT
BEGIN:STANDARD
TZOFFSETFROM:-0700
TZOFFSETTO:-0800
TZNAME:PST
DTSTART:20251102T090000
END:STANDARD
BEGIN:DAYLIGHT
TZOFFSETFROM:-0800
TZOFFSETTO:-0700
TZNAME:PDT
DTSTART:20260308T100000
END:DAYLIGHT
BEGIN:STANDARD
TZOFFSETFROM:-0700
TZOFFSETTO:-0800
TZNAME:PST
DTSTART:20261101T090000
END:STANDARD
BEGIN:DAYLIGHT
TZOFFSETFROM:-0800
TZOFFSETTO:-0700
TZNAME:PDT
DTSTART:20270314T100000
END:DAYLIGHT
BEGIN:STANDARD
TZOFFSETFROM:-0700
TZOFFSETTO:-0800
TZNAME:PST
DTSTART:20271107T090000
END:STANDARD
END:VTIMEZONE
BEGIN:VEVENT
DTSTART;TZID=America/Los_Angeles:20260111T123000
DTEND;TZID=America/Los_Angeles:20260111T130000
DTSTAMP:20260421T102355
CREATED:20251224T202513Z
LAST-MODIFIED:20260105T230631Z
UID:10002395-1768134600-1768136400@www.fairytaletown.org
SUMMARY:Theater Show: The Ice Princess and the Frozen Wish
DESCRIPTION:Join us for a magical\, original fairytale performance created especially for young audiences this weekend in the Children’s Theater\, thanks to NorCal Arts! \nTheater shows are free with the cost of paid park admission.\nAll performances take place in Fairytale Town’s indoor Children’s Theater. \nShow dates: Saturday & Sunday\, January 10th & 11th\nShow times: 12:30 & 2\nRun time: Approx. 30 minutes \nAuditions: Interested in being a part of the show? Visit the NorCal Arts website to find out how to get involved! \nPlease note: \n\nAdults must be accompanied by children\, and children must be accompanied by adults in order to gain admittance to Fairytale Town.
URL:https://www.fairytaletown.org/calendar/theater-show-the-ice-princess-and-the-frozen-wish-2/2026-01-11/1/
LOCATION:Fairytale Town\, 3901 Land Park Drive\, Sacramento\, CA\, 95822\, United States
CATEGORIES:NorCal School of Arts Show
ATTACH;FMTTYPE=image/png:https://www.fairytaletown.org/wp-content/uploads/2025/12/Website-Banner-NorCal-Theater-Shows.png
GEO:38.539381;-121.5010551
X-APPLE-STRUCTURED-LOCATION;VALUE=URI;X-ADDRESS=Fairytale Town 3901 Land Park Drive Sacramento CA 95822 United States;X-APPLE-RADIUS=500;X-TITLE=3901 Land Park Drive:geo:-121.5010551,38.539381
END:VEVENT
BEGIN:VEVENT
DTSTART;TZID=America/Los_Angeles:20260111T140000
DTEND;TZID=America/Los_Angeles:20260111T143000
DTSTAMP:20260421T102355
CREATED:20251224T202513Z
LAST-MODIFIED:20260105T230631Z
UID:10002396-1768140000-1768141800@www.fairytaletown.org
SUMMARY:Theater Show: The Ice Princess and the Frozen Wish
DESCRIPTION:Join us for a magical\, original fairytale performance created especially for young audiences this weekend in the Children’s Theater\, thanks to NorCal Arts! \nTheater shows are free with the cost of paid park admission.\nAll performances take place in Fairytale Town’s indoor Children’s Theater. \nShow dates: Saturday & Sunday\, January 10th & 11th\nShow times: 12:30 & 2\nRun time: Approx. 30 minutes \nAuditions: Interested in being a part of the show? Visit the NorCal Arts website to find out how to get involved! \nPlease note: \n\nAdults must be accompanied by children\, and children must be accompanied by adults in order to gain admittance to Fairytale Town.
URL:https://www.fairytaletown.org/calendar/theater-show-the-ice-princess-and-the-frozen-wish-2/2026-01-11/2/
LOCATION:Fairytale Town\, 3901 Land Park Drive\, Sacramento\, CA\, 95822\, United States
CATEGORIES:NorCal School of Arts Show
ATTACH;FMTTYPE=image/png:https://www.fairytaletown.org/wp-content/uploads/2025/12/Website-Banner-NorCal-Theater-Shows.png
GEO:38.539381;-121.5010551
X-APPLE-STRUCTURED-LOCATION;VALUE=URI;X-ADDRESS=Fairytale Town 3901 Land Park Drive Sacramento CA 95822 United States;X-APPLE-RADIUS=500;X-TITLE=3901 Land Park Drive:geo:-121.5010551,38.539381
END:VEVENT
BEGIN:VEVENT
DTSTART;TZID=America/Los_Angeles:20260117T123000
DTEND;TZID=America/Los_Angeles:20260117T130000
DTSTAMP:20260421T102355
CREATED:20260113T233258Z
LAST-MODIFIED:20260113T233322Z
UID:10002434-1768653000-1768654800@www.fairytaletown.org
SUMMARY:Theater Show: The Ice Princess and the Frozen Wish
DESCRIPTION:Join us for a magical\, original fairytale performance created especially for young audiences this weekend in the Children’s Theater\, thanks to NorCal Arts! \nTheater shows are free with the cost of paid park admission.\nAll performances take place in Fairytale Town’s indoor Children’s Theater. \nShow dates: Saturday & Sunday\, January 17th & 18th\nShow times: 12:30 & 2\nRun time: Approx. 30 minutes \nAuditions: Interested in being a part of the show? Visit the NorCal Arts website to find out how to get involved! \nPlease note: \n\nAdults must be accompanied by children\, and children must be accompanied by adults in order to gain admittance to Fairytale Town.
URL:https://www.fairytaletown.org/calendar/theater-show-the-ice-princess-and-the-frozen-wish-3/2026-01-17/1/
LOCATION:Fairytale Town\, 3901 Land Park Drive\, Sacramento\, CA\, 95822\, United States
CATEGORIES:NorCal School of Arts Show
ATTACH;FMTTYPE=image/png:https://www.fairytaletown.org/wp-content/uploads/2025/12/Website-Banner-NorCal-Theater-Shows.png
GEO:38.539381;-121.5010551
X-APPLE-STRUCTURED-LOCATION;VALUE=URI;X-ADDRESS=Fairytale Town 3901 Land Park Drive Sacramento CA 95822 United States;X-APPLE-RADIUS=500;X-TITLE=3901 Land Park Drive:geo:-121.5010551,38.539381
END:VEVENT
BEGIN:VEVENT
DTSTART;TZID=America/Los_Angeles:20260117T140000
DTEND;TZID=America/Los_Angeles:20260117T143000
DTSTAMP:20260421T102355
CREATED:20260113T233258Z
LAST-MODIFIED:20260113T233322Z
UID:10002435-1768658400-1768660200@www.fairytaletown.org
SUMMARY:Theater Show: The Ice Princess and the Frozen Wish
DESCRIPTION:Join us for a magical\, original fairytale performance created especially for young audiences this weekend in the Children’s Theater\, thanks to NorCal Arts! \nTheater shows are free with the cost of paid park admission.\nAll performances take place in Fairytale Town’s indoor Children’s Theater. \nShow dates: Saturday & Sunday\, January 17th & 18th\nShow times: 12:30 & 2\nRun time: Approx. 30 minutes \nAuditions: Interested in being a part of the show? Visit the NorCal Arts website to find out how to get involved! \nPlease note: \n\nAdults must be accompanied by children\, and children must be accompanied by adults in order to gain admittance to Fairytale Town.
URL:https://www.fairytaletown.org/calendar/theater-show-the-ice-princess-and-the-frozen-wish-3/2026-01-17/2/
LOCATION:Fairytale Town\, 3901 Land Park Drive\, Sacramento\, CA\, 95822\, United States
CATEGORIES:NorCal School of Arts Show
ATTACH;FMTTYPE=image/png:https://www.fairytaletown.org/wp-content/uploads/2025/12/Website-Banner-NorCal-Theater-Shows.png
GEO:38.539381;-121.5010551
X-APPLE-STRUCTURED-LOCATION;VALUE=URI;X-ADDRESS=Fairytale Town 3901 Land Park Drive Sacramento CA 95822 United States;X-APPLE-RADIUS=500;X-TITLE=3901 Land Park Drive:geo:-121.5010551,38.539381
END:VEVENT
END:VCALENDAR