BEGIN:VCALENDAR
VERSION:2.0
PRODID:-//Fairytale Town - ECPv6.15.20//NONSGML v1.0//EN
CALSCALE:GREGORIAN
METHOD:PUBLISH
X-WR-CALNAME:Fairytale Town
X-ORIGINAL-URL:https://www.fairytaletown.org
X-WR-CALDESC:Events for Fairytale Town
REFRESH-INTERVAL;VALUE=DURATION:PT1H
X-Robots-Tag:noindex
X-PUBLISHED-TTL:PT1H
BEGIN:VTIMEZONE
TZID:America/Los_Angeles
BEGIN:DAYLIGHT
TZOFFSETFROM:-0800
TZOFFSETTO:-0700
TZNAME:PDT
DTSTART:20220313T100000
END:DAYLIGHT
BEGIN:STANDARD
TZOFFSETFROM:-0700
TZOFFSETTO:-0800
TZNAME:PST
DTSTART:20221106T090000
END:STANDARD
BEGIN:DAYLIGHT
TZOFFSETFROM:-0800
TZOFFSETTO:-0700
TZNAME:PDT
DTSTART:20230312T100000
END:DAYLIGHT
BEGIN:STANDARD
TZOFFSETFROM:-0700
TZOFFSETTO:-0800
TZNAME:PST
DTSTART:20231105T090000
END:STANDARD
BEGIN:DAYLIGHT
TZOFFSETFROM:-0800
TZOFFSETTO:-0700
TZNAME:PDT
DTSTART:20240310T100000
END:DAYLIGHT
BEGIN:STANDARD
TZOFFSETFROM:-0700
TZOFFSETTO:-0800
TZNAME:PST
DTSTART:20241103T090000
END:STANDARD
END:VTIMEZONE
BEGIN:VEVENT
DTSTART;TZID=America/Los_Angeles:20230418T100000
DTEND;TZID=America/Los_Angeles:20230418T150000
DTSTAMP:20260422T004706
CREATED:20230125T185219Z
LAST-MODIFIED:20230125T203646Z
UID:10000923-1681812000-1681830000@www.fairytaletown.org
SUMMARY:Book Fair
DESCRIPTION:Fairytale Town’s Book Fair starts Wednesday\, April 18! \nFrom 9 AM – 4 PM\, April 18 – 23 you can shop for books at the Scholastic Book Fair in the Children’s Story Center. Don’t miss out! \n\nWeekday admission is $7 for adults and children ages 2 and older and $8 on the weekend. Members and children ages 1 and under are free.\n\n\nMore fun happening this week!\n\nSunday\, April 23 is World Book Day Celebration in the park! Enjoy back-to-back readings and presentations from featured authors and illustrators on the Mother Goose Stage\, then shop at our Scholastic Book Fair to purchase your favorite story.\n\nPlease note: \n\nAdults must be accompanied by children and children must be accompanied by adults in order to gain admittance to the park.
URL:https://www.fairytaletown.org/calendar/book-fair/2023-04-18/
LOCATION:Fairytale Town\, 3901 Land Park Drive\, Sacramento\, CA\, 95822\, United States
ATTACH;FMTTYPE=image/jpeg:https://www.fairytaletown.org/wp-content/uploads/2022/09/1.25.23-Book-Fair-Web-Banner-1.jpg
GEO:38.539381;-121.5010551
X-APPLE-STRUCTURED-LOCATION;VALUE=URI;X-ADDRESS=Fairytale Town 3901 Land Park Drive Sacramento CA 95822 United States;X-APPLE-RADIUS=500;X-TITLE=3901 Land Park Drive:geo:-121.5010551,38.539381
END:VEVENT
BEGIN:VEVENT
DTSTART;TZID=America/Los_Angeles:20230419T100000
DTEND;TZID=America/Los_Angeles:20230419T150000
DTSTAMP:20260422T004706
CREATED:20230125T185219Z
LAST-MODIFIED:20230125T203646Z
UID:10000924-1681898400-1681916400@www.fairytaletown.org
SUMMARY:Book Fair
DESCRIPTION:Fairytale Town’s Book Fair starts Wednesday\, April 18! \nFrom 9 AM – 4 PM\, April 18 – 23 you can shop for books at the Scholastic Book Fair in the Children’s Story Center. Don’t miss out! \n\nWeekday admission is $7 for adults and children ages 2 and older and $8 on the weekend. Members and children ages 1 and under are free.\n\n\nMore fun happening this week!\n\nSunday\, April 23 is World Book Day Celebration in the park! Enjoy back-to-back readings and presentations from featured authors and illustrators on the Mother Goose Stage\, then shop at our Scholastic Book Fair to purchase your favorite story.\n\nPlease note: \n\nAdults must be accompanied by children and children must be accompanied by adults in order to gain admittance to the park.
URL:https://www.fairytaletown.org/calendar/book-fair/2023-04-19/
LOCATION:Fairytale Town\, 3901 Land Park Drive\, Sacramento\, CA\, 95822\, United States
ATTACH;FMTTYPE=image/jpeg:https://www.fairytaletown.org/wp-content/uploads/2022/09/1.25.23-Book-Fair-Web-Banner-1.jpg
GEO:38.539381;-121.5010551
X-APPLE-STRUCTURED-LOCATION;VALUE=URI;X-ADDRESS=Fairytale Town 3901 Land Park Drive Sacramento CA 95822 United States;X-APPLE-RADIUS=500;X-TITLE=3901 Land Park Drive:geo:-121.5010551,38.539381
END:VEVENT
BEGIN:VEVENT
DTSTART;TZID=America/Los_Angeles:20230419T170000
DTEND;TZID=America/Los_Angeles:20230419T193000
DTSTAMP:20260422T004707
CREATED:20191129T080031Z
LAST-MODIFIED:20230103T191433Z
UID:10000710-1681923600-1681932600@www.fairytaletown.org
SUMMARY:Girl Scout Badge Night - Bugs
DESCRIPTION:Calling all Girl Scout Brownies! Join us for an evening of fun and earn your Bugs badge. This two-and-a-half-hour workshop will fulfill all badge requirements and include a snack break. \nExplore the world of bugs and learn more about these little creatures that do so much. \nGirls will receive a certificate and their badge at the conclusion of the event. \nPlease note: \n\nAdults must be accompanied by children and children must be accompanied by adults in order to gain admittance to Fairytale Town.\n\nBadge Night Registration\nRegister Now! \n$15 per scout\nCost includes a snack and badge \nQuestions\nFor more information\, please call (916) 808-8884 or email education@fairytaletown.org. \ncancellation policy\nTo be eligible for a 100% refund\, you must cancel the Badge Night at least 30 days prior to the start date. If you cancel within 30 days\, you may be eligible to receive up to a 50% refund. Badge workshops cancelled within 14 days of the start date are not eligible for a refund. Fairytale Town reserves the right to cancel any workshop\, in which case you will be notified promptly and 100% of the fees paid will be refunded.
URL:https://www.fairytaletown.org/calendar/girl-scout-badge-night-bugs/
LOCATION:Fairytale Town\, 3901 Land Park Drive\, Sacramento\, CA\, 95822\, United States
ATTACH;FMTTYPE=image/png:https://www.fairytaletown.org/wp-content/uploads/2020/02/FTT.BadgeNight.Web-WEBBANNER-NO-GS-LOGO.png
GEO:38.539381;-121.5010551
X-APPLE-STRUCTURED-LOCATION;VALUE=URI;X-ADDRESS=Fairytale Town 3901 Land Park Drive Sacramento CA 95822 United States;X-APPLE-RADIUS=500;X-TITLE=3901 Land Park Drive:geo:-121.5010551,38.539381
END:VEVENT
BEGIN:VEVENT
DTSTART;TZID=America/Los_Angeles:20230420T100000
DTEND;TZID=America/Los_Angeles:20230420T150000
DTSTAMP:20260422T004707
CREATED:20230125T185219Z
LAST-MODIFIED:20230125T203646Z
UID:10000925-1681984800-1682002800@www.fairytaletown.org
SUMMARY:Book Fair
DESCRIPTION:Fairytale Town’s Book Fair starts Wednesday\, April 18! \nFrom 9 AM – 4 PM\, April 18 – 23 you can shop for books at the Scholastic Book Fair in the Children’s Story Center. Don’t miss out! \n\nWeekday admission is $7 for adults and children ages 2 and older and $8 on the weekend. Members and children ages 1 and under are free.\n\n\nMore fun happening this week!\n\nSunday\, April 23 is World Book Day Celebration in the park! Enjoy back-to-back readings and presentations from featured authors and illustrators on the Mother Goose Stage\, then shop at our Scholastic Book Fair to purchase your favorite story.\n\nPlease note: \n\nAdults must be accompanied by children and children must be accompanied by adults in order to gain admittance to the park.
URL:https://www.fairytaletown.org/calendar/book-fair/2023-04-20/
LOCATION:Fairytale Town\, 3901 Land Park Drive\, Sacramento\, CA\, 95822\, United States
ATTACH;FMTTYPE=image/jpeg:https://www.fairytaletown.org/wp-content/uploads/2022/09/1.25.23-Book-Fair-Web-Banner-1.jpg
GEO:38.539381;-121.5010551
X-APPLE-STRUCTURED-LOCATION;VALUE=URI;X-ADDRESS=Fairytale Town 3901 Land Park Drive Sacramento CA 95822 United States;X-APPLE-RADIUS=500;X-TITLE=3901 Land Park Drive:geo:-121.5010551,38.539381
END:VEVENT
BEGIN:VEVENT
DTSTART;TZID=America/Los_Angeles:20230421T100000
DTEND;TZID=America/Los_Angeles:20230421T150000
DTSTAMP:20260422T004707
CREATED:20230125T185219Z
LAST-MODIFIED:20230125T203646Z
UID:10000926-1682071200-1682089200@www.fairytaletown.org
SUMMARY:Book Fair
DESCRIPTION:Fairytale Town’s Book Fair starts Wednesday\, April 18! \nFrom 9 AM – 4 PM\, April 18 – 23 you can shop for books at the Scholastic Book Fair in the Children’s Story Center. Don’t miss out! \n\nWeekday admission is $7 for adults and children ages 2 and older and $8 on the weekend. Members and children ages 1 and under are free.\n\n\nMore fun happening this week!\n\nSunday\, April 23 is World Book Day Celebration in the park! Enjoy back-to-back readings and presentations from featured authors and illustrators on the Mother Goose Stage\, then shop at our Scholastic Book Fair to purchase your favorite story.\n\nPlease note: \n\nAdults must be accompanied by children and children must be accompanied by adults in order to gain admittance to the park.
URL:https://www.fairytaletown.org/calendar/book-fair/2023-04-21/
LOCATION:Fairytale Town\, 3901 Land Park Drive\, Sacramento\, CA\, 95822\, United States
ATTACH;FMTTYPE=image/jpeg:https://www.fairytaletown.org/wp-content/uploads/2022/09/1.25.23-Book-Fair-Web-Banner-1.jpg
GEO:38.539381;-121.5010551
X-APPLE-STRUCTURED-LOCATION;VALUE=URI;X-ADDRESS=Fairytale Town 3901 Land Park Drive Sacramento CA 95822 United States;X-APPLE-RADIUS=500;X-TITLE=3901 Land Park Drive:geo:-121.5010551,38.539381
END:VEVENT
BEGIN:VEVENT
DTSTART;TZID=America/Los_Angeles:20230422T100000
DTEND;TZID=America/Los_Angeles:20230422T150000
DTSTAMP:20260422T004707
CREATED:20230125T185219Z
LAST-MODIFIED:20230125T203646Z
UID:10000927-1682157600-1682175600@www.fairytaletown.org
SUMMARY:Book Fair
DESCRIPTION:Fairytale Town’s Book Fair starts Wednesday\, April 18! \nFrom 9 AM – 4 PM\, April 18 – 23 you can shop for books at the Scholastic Book Fair in the Children’s Story Center. Don’t miss out! \n\nWeekday admission is $7 for adults and children ages 2 and older and $8 on the weekend. Members and children ages 1 and under are free.\n\n\nMore fun happening this week!\n\nSunday\, April 23 is World Book Day Celebration in the park! Enjoy back-to-back readings and presentations from featured authors and illustrators on the Mother Goose Stage\, then shop at our Scholastic Book Fair to purchase your favorite story.\n\nPlease note: \n\nAdults must be accompanied by children and children must be accompanied by adults in order to gain admittance to the park.
URL:https://www.fairytaletown.org/calendar/book-fair/2023-04-22/
LOCATION:Fairytale Town\, 3901 Land Park Drive\, Sacramento\, CA\, 95822\, United States
ATTACH;FMTTYPE=image/jpeg:https://www.fairytaletown.org/wp-content/uploads/2022/09/1.25.23-Book-Fair-Web-Banner-1.jpg
GEO:38.539381;-121.5010551
X-APPLE-STRUCTURED-LOCATION;VALUE=URI;X-ADDRESS=Fairytale Town 3901 Land Park Drive Sacramento CA 95822 United States;X-APPLE-RADIUS=500;X-TITLE=3901 Land Park Drive:geo:-121.5010551,38.539381
END:VEVENT
END:VCALENDAR