BEGIN:VCALENDAR
VERSION:2.0
PRODID:-//Fairytale Town - ECPv6.15.20//NONSGML v1.0//EN
CALSCALE:GREGORIAN
METHOD:PUBLISH
X-ORIGINAL-URL:https://www.fairytaletown.org
X-WR-CALDESC:Events for Fairytale Town
REFRESH-INTERVAL;VALUE=DURATION:PT1H
X-Robots-Tag:noindex
X-PUBLISHED-TTL:PT1H
BEGIN:VTIMEZONE
TZID:America/Los_Angeles
BEGIN:DAYLIGHT
TZOFFSETFROM:-0800
TZOFFSETTO:-0700
TZNAME:PDT
DTSTART:20210314T100000
END:DAYLIGHT
BEGIN:STANDARD
TZOFFSETFROM:-0700
TZOFFSETTO:-0800
TZNAME:PST
DTSTART:20211107T090000
END:STANDARD
BEGIN:DAYLIGHT
TZOFFSETFROM:-0800
TZOFFSETTO:-0700
TZNAME:PDT
DTSTART:20220313T100000
END:DAYLIGHT
BEGIN:STANDARD
TZOFFSETFROM:-0700
TZOFFSETTO:-0800
TZNAME:PST
DTSTART:20221106T090000
END:STANDARD
BEGIN:DAYLIGHT
TZOFFSETFROM:-0800
TZOFFSETTO:-0700
TZNAME:PDT
DTSTART:20230312T100000
END:DAYLIGHT
BEGIN:STANDARD
TZOFFSETFROM:-0700
TZOFFSETTO:-0800
TZNAME:PST
DTSTART:20231105T090000
END:STANDARD
END:VTIMEZONE
BEGIN:VEVENT
DTSTART;TZID=America/Los_Angeles:20221202T173000
DTEND;TZID=America/Los_Angeles:20221202T210000
DTSTAMP:20260421T024831
CREATED:20221012T232908Z
LAST-MODIFIED:20230117T185647Z
UID:10000882-1670002200-1670014800@www.fairytaletown.org
SUMMARY:Kid's Night Out!
DESCRIPTION:SOLD OUT.\nCome to Fairytale Town for a Kid’s Night Out! Let your kids (ages 4-10) have a night just for them. Drop them off at Fairytale Town for a fun night filled with supervised activities\, including craft projects\, games\, dinner\, and a movie. Take this opportunity to finish your holiday shopping or enjoy a long overdue date night! Space is limited so register early to guarantee your child’s participation.   \nSchedule: \n5:30 PM – 6:00 PM: Check-in/Free Time \n6:00 PM – 6:30 PM: Dinner \n6:30 PM – 7:00 PM: Activity 1 \n7:00 PM – 7:30 PM: Activity 2 \n7:30 PM – 8:00 PM: Activity 3 \n8:00 PM – 9:00 PM: Movie and Free Play   \nSOLD OUT\nPlease note: \n\nKid’s Night Out is intended to be a drop-off event\, but parents are always welcome.\nAll activities will be supervised by Fairytale Town staff.\nTo be eligible for a refund\, you must cancel at least 14 days prior to the event date. If for some reason you are unable to attend Kid’s Night Out please contact: education@fairytaletown.org 916.808.8884
URL:https://www.fairytaletown.org/calendar/kids-night-out/
LOCATION:Fairytale Town\, 3901 Land Park Drive\, Sacramento\, CA\, 95822\, United States
ATTACH;FMTTYPE=image/jpeg:https://www.fairytaletown.org/wp-content/uploads/2022/10/10.12.22-Kids-Night-Out-FTT-Web-Banner-1-1.jpg
GEO:38.539381;-121.5010551
X-APPLE-STRUCTURED-LOCATION;VALUE=URI;X-ADDRESS=Fairytale Town 3901 Land Park Drive Sacramento CA 95822 United States;X-APPLE-RADIUS=500;X-TITLE=3901 Land Park Drive:geo:-121.5010551,38.539381
END:VEVENT
BEGIN:VEVENT
DTSTART;TZID=America/Los_Angeles:20221203T100000
DTEND;TZID=America/Los_Angeles:20221203T110000
DTSTAMP:20260421T024831
CREATED:20210604T213307Z
LAST-MODIFIED:20220712T163048Z
UID:10000624-1670061600-1670065200@www.fairytaletown.org
SUMMARY:Volunteer Orientation
DESCRIPTION:Do you want to help us make magic?! Become a Fairytale Town Volunteer! \nOur New Volunteer Orientation sessions provide an in-person showcase of our different Volunteer Programs\, how to navigate our Volunteer online database\, Better Impact\, and a tour of Fairytale Town. \nTo get started\, visit our Volunteer page to create your Better Impact account\, sign up for a session\, and we’ll see you at Orientation!
URL:https://www.fairytaletown.org/calendar/volunteer-orientation-4/2022-12-03/
LOCATION:Fairytale Town\, 3901 Land Park Drive\, Sacramento\, CA\, 95822\, United States
CATEGORIES:Volunteers
ATTACH;FMTTYPE=image/jpeg:https://www.fairytaletown.org/wp-content/uploads/2021/06/Volunteers2.jpg
GEO:38.539381;-121.5010551
X-APPLE-STRUCTURED-LOCATION;VALUE=URI;X-ADDRESS=Fairytale Town 3901 Land Park Drive Sacramento CA 95822 United States;X-APPLE-RADIUS=500;X-TITLE=3901 Land Park Drive:geo:-121.5010551,38.539381
END:VEVENT
END:VCALENDAR