BEGIN:VCALENDAR
VERSION:2.0
PRODID:-//Fairytale Town - ECPv6.15.20//NONSGML v1.0//EN
CALSCALE:GREGORIAN
METHOD:PUBLISH
X-WR-CALNAME:Fairytale Town
X-ORIGINAL-URL:https://www.fairytaletown.org
X-WR-CALDESC:Events for Fairytale Town
REFRESH-INTERVAL;VALUE=DURATION:PT1H
X-Robots-Tag:noindex
X-PUBLISHED-TTL:PT1H
BEGIN:VTIMEZONE
TZID:America/Los_Angeles
BEGIN:DAYLIGHT
TZOFFSETFROM:-0800
TZOFFSETTO:-0700
TZNAME:PDT
DTSTART:20210314T100000
END:DAYLIGHT
BEGIN:STANDARD
TZOFFSETFROM:-0700
TZOFFSETTO:-0800
TZNAME:PST
DTSTART:20211107T090000
END:STANDARD
BEGIN:DAYLIGHT
TZOFFSETFROM:-0800
TZOFFSETTO:-0700
TZNAME:PDT
DTSTART:20220313T100000
END:DAYLIGHT
BEGIN:STANDARD
TZOFFSETFROM:-0700
TZOFFSETTO:-0800
TZNAME:PST
DTSTART:20221106T090000
END:STANDARD
BEGIN:DAYLIGHT
TZOFFSETFROM:-0800
TZOFFSETTO:-0700
TZNAME:PDT
DTSTART:20230312T100000
END:DAYLIGHT
BEGIN:STANDARD
TZOFFSETFROM:-0700
TZOFFSETTO:-0800
TZNAME:PST
DTSTART:20231105T090000
END:STANDARD
END:VTIMEZONE
BEGIN:VEVENT
DTSTART;TZID=America/Los_Angeles:20220714T190000
DTEND;TZID=America/Los_Angeles:20220714T210000
DTSTAMP:20260421T061609
CREATED:20220511T182043Z
LAST-MODIFIED:20220707T161614Z
UID:10000642-1657825200-1657832400@www.fairytaletown.org
SUMMARY:Concert Series: Soundtrack
DESCRIPTION:When it comes to entertainment Soundtrack rolls out the red carpet! You can expect to dance the night away to hits from Saturday Night Fever\, Footloose\, Flashdance\, Purple Rain and many more. They’ll take you “back in time” through music and clips from your favorite films. Join us for a live performance on Thursday\, July 14. \nThe gates will open at 6 pm\, with plenty of time to get settled in on Mother Goose Lawn with your comfiest blankets and chairs. After you get situated\, all concerts will go from 7 pm – 9 pm. \nNo kids\, no problem! Everyone is welcome to this concert series. \nTickets\nNon-Member: $15 \nMember: $10 \nChildren 12 & under: Free \nClick Here to Purchase Tickets!
URL:https://www.fairytaletown.org/calendar/concert-series-soundtrack/
LOCATION:Fairytale Town\, 3901 Land Park Drive\, Sacramento\, CA\, 95822\, United States
ATTACH;FMTTYPE=image/jpeg:https://www.fairytaletown.org/wp-content/uploads/2022/07/2022-Concert-Series-Web-Banner.jpg
GEO:38.539381;-121.5010551
X-APPLE-STRUCTURED-LOCATION;VALUE=URI;X-ADDRESS=Fairytale Town 3901 Land Park Drive Sacramento CA 95822 United States;X-APPLE-RADIUS=500;X-TITLE=3901 Land Park Drive:geo:-121.5010551,38.539381
END:VEVENT
END:VCALENDAR