BEGIN:VCALENDAR
VERSION:2.0
PRODID:-//Fairytale Town - ECPv6.15.20//NONSGML v1.0//EN
CALSCALE:GREGORIAN
METHOD:PUBLISH
X-ORIGINAL-URL:https://www.fairytaletown.org
X-WR-CALDESC:Events for Fairytale Town
REFRESH-INTERVAL;VALUE=DURATION:PT1H
X-Robots-Tag:noindex
X-PUBLISHED-TTL:PT1H
BEGIN:VTIMEZONE
TZID:America/Los_Angeles
BEGIN:DAYLIGHT
TZOFFSETFROM:-0800
TZOFFSETTO:-0700
TZNAME:PDT
DTSTART:20210314T100000
END:DAYLIGHT
BEGIN:STANDARD
TZOFFSETFROM:-0700
TZOFFSETTO:-0800
TZNAME:PST
DTSTART:20211107T090000
END:STANDARD
BEGIN:DAYLIGHT
TZOFFSETFROM:-0800
TZOFFSETTO:-0700
TZNAME:PDT
DTSTART:20220313T100000
END:DAYLIGHT
BEGIN:STANDARD
TZOFFSETFROM:-0700
TZOFFSETTO:-0800
TZNAME:PST
DTSTART:20221106T090000
END:STANDARD
BEGIN:DAYLIGHT
TZOFFSETFROM:-0800
TZOFFSETTO:-0700
TZNAME:PDT
DTSTART:20230312T100000
END:DAYLIGHT
BEGIN:STANDARD
TZOFFSETFROM:-0700
TZOFFSETTO:-0800
TZNAME:PST
DTSTART:20231105T090000
END:STANDARD
END:VTIMEZONE
BEGIN:VEVENT
DTSTART;TZID=America/Los_Angeles:20220529T113000
DTEND;TZID=America/Los_Angeles:20220529T120000
DTSTAMP:20260421T063047
CREATED:20220225T203924Z
LAST-MODIFIED:20220428T225042Z
UID:10000638-1653823800-1653825600@www.fairytaletown.org
SUMMARY:Fairytale Town's Got Talent 3
DESCRIPTION:See talented young performers from the Sacramento area perform LIVE on our Mother Goose Stage in this fast and funny entertainment experiment. Enjoy singing\, dancing\, comedy\, and more! There will be 2 performances per day. Showtimes are 11:30 AM & 12:30 PM on May 21\, 22\, 28\, & 29. \nWeekend admission is $8 for adults and children ages 2 and older. Members and children ages 1 and under are free. Reservations required. \nPlease note:\n• Adults must be accompanied by children and children must be accompanied by adults in order to gain admittance to Fairytale Town.\n• All performances are FREE with paid park admission.\n• All performances are outdoors & “Weather Permitting.” \nSpecial Thanks to the CARES ACT for making this production possible. \nIf you are interested in more information about the Fairytale Town Troupers\, please e-mail: mrlee@fairytaletown.org \n  \nMake Your Reservation Today!
URL:https://www.fairytaletown.org/calendar/fairytale-towns-got-talent-3/2022-05-29/1/
LOCATION:Fairytale Town\, 3901 Land Park Drive\, Sacramento\, CA\, 95822\, United States
ATTACH;FMTTYPE=image/jpeg:https://www.fairytaletown.org/wp-content/uploads/2021/05/Theatre-Arts-Troupers--scaled.jpg
GEO:38.539381;-121.5010551
X-APPLE-STRUCTURED-LOCATION;VALUE=URI;X-ADDRESS=Fairytale Town 3901 Land Park Drive Sacramento CA 95822 United States;X-APPLE-RADIUS=500;X-TITLE=3901 Land Park Drive:geo:-121.5010551,38.539381
END:VEVENT
BEGIN:VEVENT
DTSTART;TZID=America/Los_Angeles:20220529T123000
DTEND;TZID=America/Los_Angeles:20220529T130000
DTSTAMP:20260421T063047
CREATED:20220225T203924Z
LAST-MODIFIED:20220428T225042Z
UID:10000639-1653827400-1653829200@www.fairytaletown.org
SUMMARY:Fairytale Town's Got Talent 3
DESCRIPTION:See talented young performers from the Sacramento area perform LIVE on our Mother Goose Stage in this fast and funny entertainment experiment. Enjoy singing\, dancing\, comedy\, and more! There will be 2 performances per day. Showtimes are 11:30 AM & 12:30 PM on May 21\, 22\, 28\, & 29. \nWeekend admission is $8 for adults and children ages 2 and older. Members and children ages 1 and under are free. Reservations required. \nPlease note:\n• Adults must be accompanied by children and children must be accompanied by adults in order to gain admittance to Fairytale Town.\n• All performances are FREE with paid park admission.\n• All performances are outdoors & “Weather Permitting.” \nSpecial Thanks to the CARES ACT for making this production possible. \nIf you are interested in more information about the Fairytale Town Troupers\, please e-mail: mrlee@fairytaletown.org \n  \nMake Your Reservation Today!
URL:https://www.fairytaletown.org/calendar/fairytale-towns-got-talent-3/2022-05-29/2/
LOCATION:Fairytale Town\, 3901 Land Park Drive\, Sacramento\, CA\, 95822\, United States
ATTACH;FMTTYPE=image/jpeg:https://www.fairytaletown.org/wp-content/uploads/2021/05/Theatre-Arts-Troupers--scaled.jpg
GEO:38.539381;-121.5010551
X-APPLE-STRUCTURED-LOCATION;VALUE=URI;X-ADDRESS=Fairytale Town 3901 Land Park Drive Sacramento CA 95822 United States;X-APPLE-RADIUS=500;X-TITLE=3901 Land Park Drive:geo:-121.5010551,38.539381
END:VEVENT
BEGIN:VEVENT
DTSTART;TZID=America/Los_Angeles:20220602T190000
DTEND;TZID=America/Los_Angeles:20220602T210000
DTSTAMP:20260421T063047
CREATED:20220511T163649Z
LAST-MODIFIED:20220512T234047Z
UID:10000640-1654196400-1654203600@www.fairytaletown.org
SUMMARY:Concert Series: The Gold Souls
DESCRIPTION:  \nThe Gold Souls are bringing the driving grooves of funk\, the rich textures of soul\, and the compelling storytelling of the blues to the Northern California scene and beyond to Fairytale Town for a live performance on Thursday\, June 2. \nThe gates will open at 6 pm\, with plenty of time to get settled in on Mother Goose Lawn with your comfiest blankets and chairs. After you get situated\, all concerts will go from 7 pm – 9 pm.\n\nNo kids\, no problem! Everyone is welcome to this concert series.\n\nTickets\nNon-Member: $15 \nMember: $10 \nChildren 12 & under: Free \n  \nClick Here to Purchase Tickets!
URL:https://www.fairytaletown.org/calendar/concert-series-the-gold-souls/
LOCATION:Fairytale Town\, 3901 Land Park Drive\, Sacramento\, CA\, 95822\, United States
ATTACH;FMTTYPE=image/jpeg:https://www.fairytaletown.org/wp-content/uploads/2022/05/5.10.22-Concert-Series-Line-Up-Banner-1-scaled.jpg
GEO:38.539381;-121.5010551
X-APPLE-STRUCTURED-LOCATION;VALUE=URI;X-ADDRESS=Fairytale Town 3901 Land Park Drive Sacramento CA 95822 United States;X-APPLE-RADIUS=500;X-TITLE=3901 Land Park Drive:geo:-121.5010551,38.539381
END:VEVENT
BEGIN:VEVENT
DTSTART;TZID=America/Los_Angeles:20220604T123000
DTEND;TZID=America/Los_Angeles:20220604T125000
DTSTAMP:20260421T063047
CREATED:20220224T211209Z
LAST-MODIFIED:20220602T222312Z
UID:10000876-1654345800-1654347000@www.fairytaletown.org
SUMMARY:Puppet Show: Jack and the Beanstalk
DESCRIPTION:Masks are strongly suggested for all people over 2 years of age while inside the theater. \nShow dates: Saturday & Sunday\, June 4 & 5\nShow times: 12:30\, 1:30 & 2:30 PM\nRun time: Approx. 20 minutes \nPuppet Art Theater Company presents the tale of Jack and The Beanstalk  in the Children’s Theater. Jack has traded his cow for magic wishing beans much to his mother’s dismay.  In frustration\, Jack’s mom tosses the beans out the window where they grow into a huge beanstalk.  Up the beanstalk goes Jack and the adventure begins! Will Jack defeat the Giant? Will he take home the golden egg laying chicken? Find out in Jack and the Beanstalk. \nTickets are a $1 for members and $2 for nonmembers\, in addition to paid park admission. Tickets can be purchased at the Fairytale Town Box Office or at the entrance to the Children’s Theater 15 minutes prior to show time. All performances take place in Fairytale Town’s indoor Children’s Theater.
URL:https://www.fairytaletown.org/calendar/jack-and-the-beanstalk-1/2022-06-04/1/
LOCATION:Fairytale Town\, 3901 Land Park Drive\, Sacramento\, CA\, 95822\, United States
ATTACH;FMTTYPE=image/jpeg:https://www.fairytaletown.org/wp-content/uploads/2022/02/Jack-2021-publicity-Low-Res-Banner-scaled.jpg
GEO:38.539381;-121.5010551
X-APPLE-STRUCTURED-LOCATION;VALUE=URI;X-ADDRESS=Fairytale Town 3901 Land Park Drive Sacramento CA 95822 United States;X-APPLE-RADIUS=500;X-TITLE=3901 Land Park Drive:geo:-121.5010551,38.539381
END:VEVENT
BEGIN:VEVENT
DTSTART;TZID=America/Los_Angeles:20220604T133000
DTEND;TZID=America/Los_Angeles:20220604T135000
DTSTAMP:20260421T063047
CREATED:20220224T211209Z
LAST-MODIFIED:20220602T222312Z
UID:10000877-1654349400-1654350600@www.fairytaletown.org
SUMMARY:Puppet Show: Jack and the Beanstalk
DESCRIPTION:Masks are strongly suggested for all people over 2 years of age while inside the theater. \nShow dates: Saturday & Sunday\, June 4 & 5\nShow times: 12:30\, 1:30 & 2:30 PM\nRun time: Approx. 20 minutes \nPuppet Art Theater Company presents the tale of Jack and The Beanstalk  in the Children’s Theater. Jack has traded his cow for magic wishing beans much to his mother’s dismay.  In frustration\, Jack’s mom tosses the beans out the window where they grow into a huge beanstalk.  Up the beanstalk goes Jack and the adventure begins! Will Jack defeat the Giant? Will he take home the golden egg laying chicken? Find out in Jack and the Beanstalk. \nTickets are a $1 for members and $2 for nonmembers\, in addition to paid park admission. Tickets can be purchased at the Fairytale Town Box Office or at the entrance to the Children’s Theater 15 minutes prior to show time. All performances take place in Fairytale Town’s indoor Children’s Theater.
URL:https://www.fairytaletown.org/calendar/jack-and-the-beanstalk-1/2022-06-04/2/
LOCATION:Fairytale Town\, 3901 Land Park Drive\, Sacramento\, CA\, 95822\, United States
ATTACH;FMTTYPE=image/jpeg:https://www.fairytaletown.org/wp-content/uploads/2022/02/Jack-2021-publicity-Low-Res-Banner-scaled.jpg
GEO:38.539381;-121.5010551
X-APPLE-STRUCTURED-LOCATION;VALUE=URI;X-ADDRESS=Fairytale Town 3901 Land Park Drive Sacramento CA 95822 United States;X-APPLE-RADIUS=500;X-TITLE=3901 Land Park Drive:geo:-121.5010551,38.539381
END:VEVENT
BEGIN:VEVENT
DTSTART;TZID=America/Los_Angeles:20220604T143000
DTEND;TZID=America/Los_Angeles:20220604T145000
DTSTAMP:20260421T063047
CREATED:20220224T211209Z
LAST-MODIFIED:20220602T222312Z
UID:10000878-1654353000-1654354200@www.fairytaletown.org
SUMMARY:Puppet Show: Jack and the Beanstalk
DESCRIPTION:Masks are strongly suggested for all people over 2 years of age while inside the theater. \nShow dates: Saturday & Sunday\, June 4 & 5\nShow times: 12:30\, 1:30 & 2:30 PM\nRun time: Approx. 20 minutes \nPuppet Art Theater Company presents the tale of Jack and The Beanstalk  in the Children’s Theater. Jack has traded his cow for magic wishing beans much to his mother’s dismay.  In frustration\, Jack’s mom tosses the beans out the window where they grow into a huge beanstalk.  Up the beanstalk goes Jack and the adventure begins! Will Jack defeat the Giant? Will he take home the golden egg laying chicken? Find out in Jack and the Beanstalk. \nTickets are a $1 for members and $2 for nonmembers\, in addition to paid park admission. Tickets can be purchased at the Fairytale Town Box Office or at the entrance to the Children’s Theater 15 minutes prior to show time. All performances take place in Fairytale Town’s indoor Children’s Theater.
URL:https://www.fairytaletown.org/calendar/jack-and-the-beanstalk-1/2022-06-04/3/
LOCATION:Fairytale Town\, 3901 Land Park Drive\, Sacramento\, CA\, 95822\, United States
ATTACH;FMTTYPE=image/jpeg:https://www.fairytaletown.org/wp-content/uploads/2022/02/Jack-2021-publicity-Low-Res-Banner-scaled.jpg
GEO:38.539381;-121.5010551
X-APPLE-STRUCTURED-LOCATION;VALUE=URI;X-ADDRESS=Fairytale Town 3901 Land Park Drive Sacramento CA 95822 United States;X-APPLE-RADIUS=500;X-TITLE=3901 Land Park Drive:geo:-121.5010551,38.539381
END:VEVENT
END:VCALENDAR