BEGIN:VCALENDAR
VERSION:2.0
PRODID:-//Fairytale Town - ECPv6.15.20//NONSGML v1.0//EN
CALSCALE:GREGORIAN
METHOD:PUBLISH
X-ORIGINAL-URL:https://www.fairytaletown.org
X-WR-CALDESC:Events for Fairytale Town
REFRESH-INTERVAL;VALUE=DURATION:PT1H
X-Robots-Tag:noindex
X-PUBLISHED-TTL:PT1H
BEGIN:VTIMEZONE
TZID:America/Los_Angeles
BEGIN:DAYLIGHT
TZOFFSETFROM:-0800
TZOFFSETTO:-0700
TZNAME:PDT
DTSTART:20210314T100000
END:DAYLIGHT
BEGIN:STANDARD
TZOFFSETFROM:-0700
TZOFFSETTO:-0800
TZNAME:PST
DTSTART:20211107T090000
END:STANDARD
BEGIN:DAYLIGHT
TZOFFSETFROM:-0800
TZOFFSETTO:-0700
TZNAME:PDT
DTSTART:20220313T100000
END:DAYLIGHT
BEGIN:STANDARD
TZOFFSETFROM:-0700
TZOFFSETTO:-0800
TZNAME:PST
DTSTART:20221106T090000
END:STANDARD
BEGIN:DAYLIGHT
TZOFFSETFROM:-0800
TZOFFSETTO:-0700
TZNAME:PDT
DTSTART:20230312T100000
END:DAYLIGHT
BEGIN:STANDARD
TZOFFSETFROM:-0700
TZOFFSETTO:-0800
TZNAME:PST
DTSTART:20231105T090000
END:STANDARD
END:VTIMEZONE
BEGIN:VEVENT
DTSTART;TZID=America/Los_Angeles:20220522T113000
DTEND;TZID=America/Los_Angeles:20220522T120000
DTSTAMP:20260422T154907
CREATED:20220225T203924Z
LAST-MODIFIED:20220428T225042Z
UID:10000636-1653219000-1653220800@www.fairytaletown.org
SUMMARY:Fairytale Town's Got Talent 3
DESCRIPTION:See talented young performers from the Sacramento area perform LIVE on our Mother Goose Stage in this fast and funny entertainment experiment. Enjoy singing\, dancing\, comedy\, and more! There will be 2 performances per day. Showtimes are 11:30 AM & 12:30 PM on May 21\, 22\, 28\, & 29. \nWeekend admission is $8 for adults and children ages 2 and older. Members and children ages 1 and under are free. Reservations required. \nPlease note:\n• Adults must be accompanied by children and children must be accompanied by adults in order to gain admittance to Fairytale Town.\n• All performances are FREE with paid park admission.\n• All performances are outdoors & “Weather Permitting.” \nSpecial Thanks to the CARES ACT for making this production possible. \nIf you are interested in more information about the Fairytale Town Troupers\, please e-mail: mrlee@fairytaletown.org \n  \nMake Your Reservation Today!
URL:https://www.fairytaletown.org/calendar/fairytale-towns-got-talent-3/2022-05-22/1/
LOCATION:Fairytale Town\, 3901 Land Park Drive\, Sacramento\, CA\, 95822\, United States
ATTACH;FMTTYPE=image/jpeg:https://www.fairytaletown.org/wp-content/uploads/2021/05/Theatre-Arts-Troupers--scaled.jpg
GEO:38.539381;-121.5010551
X-APPLE-STRUCTURED-LOCATION;VALUE=URI;X-ADDRESS=Fairytale Town 3901 Land Park Drive Sacramento CA 95822 United States;X-APPLE-RADIUS=500;X-TITLE=3901 Land Park Drive:geo:-121.5010551,38.539381
END:VEVENT
BEGIN:VEVENT
DTSTART;TZID=America/Los_Angeles:20220522T123000
DTEND;TZID=America/Los_Angeles:20220522T130000
DTSTAMP:20260422T154907
CREATED:20220225T203924Z
LAST-MODIFIED:20220428T225042Z
UID:10000637-1653222600-1653224400@www.fairytaletown.org
SUMMARY:Fairytale Town's Got Talent 3
DESCRIPTION:See talented young performers from the Sacramento area perform LIVE on our Mother Goose Stage in this fast and funny entertainment experiment. Enjoy singing\, dancing\, comedy\, and more! There will be 2 performances per day. Showtimes are 11:30 AM & 12:30 PM on May 21\, 22\, 28\, & 29. \nWeekend admission is $8 for adults and children ages 2 and older. Members and children ages 1 and under are free. Reservations required. \nPlease note:\n• Adults must be accompanied by children and children must be accompanied by adults in order to gain admittance to Fairytale Town.\n• All performances are FREE with paid park admission.\n• All performances are outdoors & “Weather Permitting.” \nSpecial Thanks to the CARES ACT for making this production possible. \nIf you are interested in more information about the Fairytale Town Troupers\, please e-mail: mrlee@fairytaletown.org \n  \nMake Your Reservation Today!
URL:https://www.fairytaletown.org/calendar/fairytale-towns-got-talent-3/2022-05-22/2/
LOCATION:Fairytale Town\, 3901 Land Park Drive\, Sacramento\, CA\, 95822\, United States
ATTACH;FMTTYPE=image/jpeg:https://www.fairytaletown.org/wp-content/uploads/2021/05/Theatre-Arts-Troupers--scaled.jpg
GEO:38.539381;-121.5010551
X-APPLE-STRUCTURED-LOCATION;VALUE=URI;X-ADDRESS=Fairytale Town 3901 Land Park Drive Sacramento CA 95822 United States;X-APPLE-RADIUS=500;X-TITLE=3901 Land Park Drive:geo:-121.5010551,38.539381
END:VEVENT
END:VCALENDAR