BEGIN:VCALENDAR
VERSION:2.0
PRODID:-//Fairytale Town - ECPv6.15.20//NONSGML v1.0//EN
CALSCALE:GREGORIAN
METHOD:PUBLISH
X-WR-CALNAME:Fairytale Town
X-ORIGINAL-URL:https://www.fairytaletown.org
X-WR-CALDESC:Events for Fairytale Town
REFRESH-INTERVAL;VALUE=DURATION:PT1H
X-Robots-Tag:noindex
X-PUBLISHED-TTL:PT1H
BEGIN:VTIMEZONE
TZID:America/Los_Angeles
BEGIN:DAYLIGHT
TZOFFSETFROM:-0800
TZOFFSETTO:-0700
TZNAME:PDT
DTSTART:20210314T100000
END:DAYLIGHT
BEGIN:STANDARD
TZOFFSETFROM:-0700
TZOFFSETTO:-0800
TZNAME:PST
DTSTART:20211107T090000
END:STANDARD
BEGIN:DAYLIGHT
TZOFFSETFROM:-0800
TZOFFSETTO:-0700
TZNAME:PDT
DTSTART:20220313T100000
END:DAYLIGHT
BEGIN:STANDARD
TZOFFSETFROM:-0700
TZOFFSETTO:-0800
TZNAME:PST
DTSTART:20221106T090000
END:STANDARD
BEGIN:DAYLIGHT
TZOFFSETFROM:-0800
TZOFFSETTO:-0700
TZNAME:PDT
DTSTART:20230312T100000
END:DAYLIGHT
BEGIN:STANDARD
TZOFFSETFROM:-0700
TZOFFSETTO:-0800
TZNAME:PST
DTSTART:20231105T090000
END:STANDARD
END:VTIMEZONE
BEGIN:VEVENT
DTSTART;TZID=America/Los_Angeles:20220515T100000
DTEND;TZID=America/Los_Angeles:20220515T140000
DTSTAMP:20260421T113200
CREATED:20200102T231638Z
LAST-MODIFIED:20220225T190824Z
UID:10000515-1652608800-1652623200@www.fairytaletown.org
SUMMARY:Dinosaur Day
DESCRIPTION:RAWR! Join Fairytale Town in celebrating Dinosaur Day. Step back to prehistoric times to explore and learn all about dinosaurs through interactive hands on activities. Play themed games and enjoy a craft activity from 10 AM – 2 PM. \nWeekend admission is $8 for adults and children ages 2 and older. Members and children ages 1 and under are free. \nPlease note: \n\nAdults must be accompanied by children and children must be accompanied by adults in order to gain admittance to Fairytale Town.\n\n  \nMake Your Reservation Today!
URL:https://www.fairytaletown.org/calendar/dinosaur-day/
LOCATION:Fairytale Town\, 3901 Land Park Drive\, Sacramento\, CA\, 95822\, United States
ATTACH;FMTTYPE=image/jpeg:https://www.fairytaletown.org/wp-content/uploads/2015/04/SpringHumptyGate_CoverPhoto.jpg
GEO:38.539381;-121.5010551
X-APPLE-STRUCTURED-LOCATION;VALUE=URI;X-ADDRESS=Fairytale Town 3901 Land Park Drive Sacramento CA 95822 United States;X-APPLE-RADIUS=500;X-TITLE=3901 Land Park Drive:geo:-121.5010551,38.539381
END:VEVENT
BEGIN:VEVENT
DTSTART;TZID=America/Los_Angeles:20220515T123000
DTEND;TZID=America/Los_Angeles:20220515T125000
DTSTAMP:20260421T113200
CREATED:20180111T225312Z
LAST-MODIFIED:20220413T230519Z
UID:10000776-1652617800-1652619000@www.fairytaletown.org
SUMMARY:Puppet Show: Clay and the Sugarsarus Rex
DESCRIPTION:Masks are strongly suggested for all people over 2 years of age while inside the theater. \nShow dates: Saturday & Sunday\, May 14 & 15\nShow times: 12:30\, 1:30 & 2:30 PM\nRun time: Approx. 20 minutes \nPuppet Art Theater Company presents Clay and the Sugarsaurus Rex . Clay the cave boy and Sabey his pet saber tooth tiger kitten go on an adventure of a lifetime! While on their adventure they learn how to keep their smiles healthy by brushing twice a day\, visiting the dentist regularly\, eating healthy foods and avoiding the Sugarsaurus Rex.
URL:https://www.fairytaletown.org/calendar/clay-and-the-sugarsarus-rex-2-2022-05-14-3/2022-05-15/1/
LOCATION:Fairytale Town\, 3901 Land Park Drive\, Sacramento\, CA\, 95822\, United States
CATEGORIES:Puppet Shows
ATTACH;FMTTYPE=image/jpeg:https://www.fairytaletown.org/wp-content/uploads/2018/01/Publicity-image-Clay-Sugarsaurus-Rex_EDITED2.jpg
GEO:38.539381;-121.5010551
X-APPLE-STRUCTURED-LOCATION;VALUE=URI;X-ADDRESS=Fairytale Town 3901 Land Park Drive Sacramento CA 95822 United States;X-APPLE-RADIUS=500;X-TITLE=3901 Land Park Drive:geo:-121.5010551,38.539381
END:VEVENT
BEGIN:VEVENT
DTSTART;TZID=America/Los_Angeles:20220515T133000
DTEND;TZID=America/Los_Angeles:20220515T135000
DTSTAMP:20260421T113200
CREATED:20180111T225312Z
LAST-MODIFIED:20220413T230519Z
UID:10000777-1652621400-1652622600@www.fairytaletown.org
SUMMARY:Puppet Show: Clay and the Sugarsarus Rex
DESCRIPTION:Masks are strongly suggested for all people over 2 years of age while inside the theater. \nShow dates: Saturday & Sunday\, May 14 & 15\nShow times: 12:30\, 1:30 & 2:30 PM\nRun time: Approx. 20 minutes \nPuppet Art Theater Company presents Clay and the Sugarsaurus Rex . Clay the cave boy and Sabey his pet saber tooth tiger kitten go on an adventure of a lifetime! While on their adventure they learn how to keep their smiles healthy by brushing twice a day\, visiting the dentist regularly\, eating healthy foods and avoiding the Sugarsaurus Rex.
URL:https://www.fairytaletown.org/calendar/clay-and-the-sugarsarus-rex-2-2022-05-14-3/2022-05-15/2/
LOCATION:Fairytale Town\, 3901 Land Park Drive\, Sacramento\, CA\, 95822\, United States
CATEGORIES:Puppet Shows
ATTACH;FMTTYPE=image/jpeg:https://www.fairytaletown.org/wp-content/uploads/2018/01/Publicity-image-Clay-Sugarsaurus-Rex_EDITED2.jpg
GEO:38.539381;-121.5010551
X-APPLE-STRUCTURED-LOCATION;VALUE=URI;X-ADDRESS=Fairytale Town 3901 Land Park Drive Sacramento CA 95822 United States;X-APPLE-RADIUS=500;X-TITLE=3901 Land Park Drive:geo:-121.5010551,38.539381
END:VEVENT
BEGIN:VEVENT
DTSTART;TZID=America/Los_Angeles:20220515T143000
DTEND;TZID=America/Los_Angeles:20220515T145000
DTSTAMP:20260421T113200
CREATED:20180111T225312Z
LAST-MODIFIED:20220413T230519Z
UID:10000778-1652625000-1652626200@www.fairytaletown.org
SUMMARY:Puppet Show: Clay and the Sugarsarus Rex
DESCRIPTION:Masks are strongly suggested for all people over 2 years of age while inside the theater. \nShow dates: Saturday & Sunday\, May 14 & 15\nShow times: 12:30\, 1:30 & 2:30 PM\nRun time: Approx. 20 minutes \nPuppet Art Theater Company presents Clay and the Sugarsaurus Rex . Clay the cave boy and Sabey his pet saber tooth tiger kitten go on an adventure of a lifetime! While on their adventure they learn how to keep their smiles healthy by brushing twice a day\, visiting the dentist regularly\, eating healthy foods and avoiding the Sugarsaurus Rex.
URL:https://www.fairytaletown.org/calendar/clay-and-the-sugarsarus-rex-2-2022-05-14-3/2022-05-15/3/
LOCATION:Fairytale Town\, 3901 Land Park Drive\, Sacramento\, CA\, 95822\, United States
CATEGORIES:Puppet Shows
ATTACH;FMTTYPE=image/jpeg:https://www.fairytaletown.org/wp-content/uploads/2018/01/Publicity-image-Clay-Sugarsaurus-Rex_EDITED2.jpg
GEO:38.539381;-121.5010551
X-APPLE-STRUCTURED-LOCATION;VALUE=URI;X-ADDRESS=Fairytale Town 3901 Land Park Drive Sacramento CA 95822 United States;X-APPLE-RADIUS=500;X-TITLE=3901 Land Park Drive:geo:-121.5010551,38.539381
END:VEVENT
BEGIN:VEVENT
DTSTART;TZID=America/Los_Angeles:20220521T113000
DTEND;TZID=America/Los_Angeles:20220521T120000
DTSTAMP:20260421T113200
CREATED:20220225T203924Z
LAST-MODIFIED:20220428T225042Z
UID:10000634-1653132600-1653134400@www.fairytaletown.org
SUMMARY:Fairytale Town's Got Talent 3
DESCRIPTION:See talented young performers from the Sacramento area perform LIVE on our Mother Goose Stage in this fast and funny entertainment experiment. Enjoy singing\, dancing\, comedy\, and more! There will be 2 performances per day. Showtimes are 11:30 AM & 12:30 PM on May 21\, 22\, 28\, & 29. \nWeekend admission is $8 for adults and children ages 2 and older. Members and children ages 1 and under are free. Reservations required. \nPlease note:\n• Adults must be accompanied by children and children must be accompanied by adults in order to gain admittance to Fairytale Town.\n• All performances are FREE with paid park admission.\n• All performances are outdoors & “Weather Permitting.” \nSpecial Thanks to the CARES ACT for making this production possible. \nIf you are interested in more information about the Fairytale Town Troupers\, please e-mail: mrlee@fairytaletown.org \n  \nMake Your Reservation Today!
URL:https://www.fairytaletown.org/calendar/fairytale-towns-got-talent-3/2022-05-21/1/
LOCATION:Fairytale Town\, 3901 Land Park Drive\, Sacramento\, CA\, 95822\, United States
ATTACH;FMTTYPE=image/jpeg:https://www.fairytaletown.org/wp-content/uploads/2021/05/Theatre-Arts-Troupers--scaled.jpg
GEO:38.539381;-121.5010551
X-APPLE-STRUCTURED-LOCATION;VALUE=URI;X-ADDRESS=Fairytale Town 3901 Land Park Drive Sacramento CA 95822 United States;X-APPLE-RADIUS=500;X-TITLE=3901 Land Park Drive:geo:-121.5010551,38.539381
END:VEVENT
BEGIN:VEVENT
DTSTART;TZID=America/Los_Angeles:20220521T123000
DTEND;TZID=America/Los_Angeles:20220521T130000
DTSTAMP:20260421T113200
CREATED:20220225T203924Z
LAST-MODIFIED:20220428T225042Z
UID:10000635-1653136200-1653138000@www.fairytaletown.org
SUMMARY:Fairytale Town's Got Talent 3
DESCRIPTION:See talented young performers from the Sacramento area perform LIVE on our Mother Goose Stage in this fast and funny entertainment experiment. Enjoy singing\, dancing\, comedy\, and more! There will be 2 performances per day. Showtimes are 11:30 AM & 12:30 PM on May 21\, 22\, 28\, & 29. \nWeekend admission is $8 for adults and children ages 2 and older. Members and children ages 1 and under are free. Reservations required. \nPlease note:\n• Adults must be accompanied by children and children must be accompanied by adults in order to gain admittance to Fairytale Town.\n• All performances are FREE with paid park admission.\n• All performances are outdoors & “Weather Permitting.” \nSpecial Thanks to the CARES ACT for making this production possible. \nIf you are interested in more information about the Fairytale Town Troupers\, please e-mail: mrlee@fairytaletown.org \n  \nMake Your Reservation Today!
URL:https://www.fairytaletown.org/calendar/fairytale-towns-got-talent-3/2022-05-21/2/
LOCATION:Fairytale Town\, 3901 Land Park Drive\, Sacramento\, CA\, 95822\, United States
ATTACH;FMTTYPE=image/jpeg:https://www.fairytaletown.org/wp-content/uploads/2021/05/Theatre-Arts-Troupers--scaled.jpg
GEO:38.539381;-121.5010551
X-APPLE-STRUCTURED-LOCATION;VALUE=URI;X-ADDRESS=Fairytale Town 3901 Land Park Drive Sacramento CA 95822 United States;X-APPLE-RADIUS=500;X-TITLE=3901 Land Park Drive:geo:-121.5010551,38.539381
END:VEVENT
END:VCALENDAR