BEGIN:VCALENDAR
VERSION:2.0
PRODID:-//Fairytale Town - ECPv6.15.20//NONSGML v1.0//EN
CALSCALE:GREGORIAN
METHOD:PUBLISH
X-ORIGINAL-URL:https://www.fairytaletown.org
X-WR-CALDESC:Events for Fairytale Town
REFRESH-INTERVAL;VALUE=DURATION:PT1H
X-Robots-Tag:noindex
X-PUBLISHED-TTL:PT1H
BEGIN:VTIMEZONE
TZID:America/Los_Angeles
BEGIN:DAYLIGHT
TZOFFSETFROM:-0800
TZOFFSETTO:-0700
TZNAME:PDT
DTSTART:20210314T100000
END:DAYLIGHT
BEGIN:STANDARD
TZOFFSETFROM:-0700
TZOFFSETTO:-0800
TZNAME:PST
DTSTART:20211107T090000
END:STANDARD
BEGIN:DAYLIGHT
TZOFFSETFROM:-0800
TZOFFSETTO:-0700
TZNAME:PDT
DTSTART:20220313T100000
END:DAYLIGHT
BEGIN:STANDARD
TZOFFSETFROM:-0700
TZOFFSETTO:-0800
TZNAME:PST
DTSTART:20221106T090000
END:STANDARD
BEGIN:DAYLIGHT
TZOFFSETFROM:-0800
TZOFFSETTO:-0700
TZNAME:PDT
DTSTART:20230312T100000
END:DAYLIGHT
BEGIN:STANDARD
TZOFFSETFROM:-0700
TZOFFSETTO:-0800
TZNAME:PST
DTSTART:20231105T090000
END:STANDARD
END:VTIMEZONE
BEGIN:VEVENT
DTSTART;TZID=America/Los_Angeles:20220502T100000
DTEND;TZID=America/Los_Angeles:20220502T150000
DTSTAMP:20260421T113258
CREATED:20191210T080015Z
LAST-MODIFIED:20220427T191222Z
UID:10000830-1651485600-1651503600@www.fairytaletown.org
SUMMARY:Children's Book Week
DESCRIPTION:Monday – Sunday\, May 2 – 8\n10 AM – 3 PM\nWeather Permitting \nCelebrate Children’s Book Week with storytime\, activities\, and giveaways each day of the week! From May 2 – 8\, join us on the Mother Goose Stage each day at 12 PM. A different book will be featured each day with storytime and craft activities inspired by the selected book. There will also be a Scholastic Book Fair with books and more for sale. It’s a week of literary fun! \nWeekday admission is $7 for adults and children ages 2 and older. Weekend admission is $8 for adults and children ages 2 and older. Members and children ages 1 and under are free. \nChildren’s Book Week is the annual celebration of books for young people and the joy of reading. \nActivity Schedule:\n10 AM – 3 PM: Shop for books at the Scholastic Book Fair\n12 PM: Join us for storytime\, activities\, and giveaways on the Mother Goose Stage \nMonday:\nThe World Needs More Purple People by Kristin Bell & Benjamin Hart\nGuest Reader:\nLinda Farley\, CEO of Girl Scouts\n\nTuesday:\nGoldilocks and the Three Bears Completely Ruined by Cabbage by Andy Domek\nGuest Reader:\nWild Sisters Book Company\n\nWednesday:\nA Jedi You Will Be by Preeti Chhibber\nGuest Reader:\nA Jedi\n\nThursday:\nThe Carousel King and the Space Mission by Leticia Ordaz\nGuest Reader:\nLeticia Ordaz\n\nFriday:\nI Found a Kitty by Troy Cummings\nGuest Reader:\nTBD\n\nSaturday:\nHere and Now by Julia Denos\, E. B. Goodale\nGuest Reader:\nCalifornia Middle School Students\n\nSunday:\nMe & Mama by Cozbi A. Cabrera\nGuest Reader:\nKrystal Coles\n\n  \nPlease note: \n\nAdults must be accompanied by children and children must be accompanied by adults in order to gain admittance to the park.\n\n  \nMake Your Reservation Today!
URL:https://www.fairytaletown.org/calendar/book-week/2022-05-02/
LOCATION:Fairytale Town\, 3901 Land Park Drive\, Sacramento\, CA\, 95822\, United States
ATTACH;FMTTYPE=image/png:https://www.fairytaletown.org/wp-content/uploads/2018/01/CBW_WebBanner.png
GEO:38.539381;-121.5010551
X-APPLE-STRUCTURED-LOCATION;VALUE=URI;X-ADDRESS=Fairytale Town 3901 Land Park Drive Sacramento CA 95822 United States;X-APPLE-RADIUS=500;X-TITLE=3901 Land Park Drive:geo:-121.5010551,38.539381
END:VEVENT
BEGIN:VEVENT
DTSTART;TZID=America/Los_Angeles:20220503T100000
DTEND;TZID=America/Los_Angeles:20220503T150000
DTSTAMP:20260421T113258
CREATED:20191210T080015Z
LAST-MODIFIED:20220427T191222Z
UID:10000831-1651572000-1651590000@www.fairytaletown.org
SUMMARY:Children's Book Week
DESCRIPTION:Monday – Sunday\, May 2 – 8\n10 AM – 3 PM\nWeather Permitting \nCelebrate Children’s Book Week with storytime\, activities\, and giveaways each day of the week! From May 2 – 8\, join us on the Mother Goose Stage each day at 12 PM. A different book will be featured each day with storytime and craft activities inspired by the selected book. There will also be a Scholastic Book Fair with books and more for sale. It’s a week of literary fun! \nWeekday admission is $7 for adults and children ages 2 and older. Weekend admission is $8 for adults and children ages 2 and older. Members and children ages 1 and under are free. \nChildren’s Book Week is the annual celebration of books for young people and the joy of reading. \nActivity Schedule:\n10 AM – 3 PM: Shop for books at the Scholastic Book Fair\n12 PM: Join us for storytime\, activities\, and giveaways on the Mother Goose Stage \nMonday:\nThe World Needs More Purple People by Kristin Bell & Benjamin Hart\nGuest Reader:\nLinda Farley\, CEO of Girl Scouts\n\nTuesday:\nGoldilocks and the Three Bears Completely Ruined by Cabbage by Andy Domek\nGuest Reader:\nWild Sisters Book Company\n\nWednesday:\nA Jedi You Will Be by Preeti Chhibber\nGuest Reader:\nA Jedi\n\nThursday:\nThe Carousel King and the Space Mission by Leticia Ordaz\nGuest Reader:\nLeticia Ordaz\n\nFriday:\nI Found a Kitty by Troy Cummings\nGuest Reader:\nTBD\n\nSaturday:\nHere and Now by Julia Denos\, E. B. Goodale\nGuest Reader:\nCalifornia Middle School Students\n\nSunday:\nMe & Mama by Cozbi A. Cabrera\nGuest Reader:\nKrystal Coles\n\n  \nPlease note: \n\nAdults must be accompanied by children and children must be accompanied by adults in order to gain admittance to the park.\n\n  \nMake Your Reservation Today!
URL:https://www.fairytaletown.org/calendar/book-week/2022-05-03/
LOCATION:Fairytale Town\, 3901 Land Park Drive\, Sacramento\, CA\, 95822\, United States
ATTACH;FMTTYPE=image/png:https://www.fairytaletown.org/wp-content/uploads/2018/01/CBW_WebBanner.png
GEO:38.539381;-121.5010551
X-APPLE-STRUCTURED-LOCATION;VALUE=URI;X-ADDRESS=Fairytale Town 3901 Land Park Drive Sacramento CA 95822 United States;X-APPLE-RADIUS=500;X-TITLE=3901 Land Park Drive:geo:-121.5010551,38.539381
END:VEVENT
BEGIN:VEVENT
DTSTART;TZID=America/Los_Angeles:20220504T100000
DTEND;TZID=America/Los_Angeles:20220504T150000
DTSTAMP:20260421T113258
CREATED:20191210T080015Z
LAST-MODIFIED:20220427T191222Z
UID:10000832-1651658400-1651676400@www.fairytaletown.org
SUMMARY:Children's Book Week
DESCRIPTION:Monday – Sunday\, May 2 – 8\n10 AM – 3 PM\nWeather Permitting \nCelebrate Children’s Book Week with storytime\, activities\, and giveaways each day of the week! From May 2 – 8\, join us on the Mother Goose Stage each day at 12 PM. A different book will be featured each day with storytime and craft activities inspired by the selected book. There will also be a Scholastic Book Fair with books and more for sale. It’s a week of literary fun! \nWeekday admission is $7 for adults and children ages 2 and older. Weekend admission is $8 for adults and children ages 2 and older. Members and children ages 1 and under are free. \nChildren’s Book Week is the annual celebration of books for young people and the joy of reading. \nActivity Schedule:\n10 AM – 3 PM: Shop for books at the Scholastic Book Fair\n12 PM: Join us for storytime\, activities\, and giveaways on the Mother Goose Stage \nMonday:\nThe World Needs More Purple People by Kristin Bell & Benjamin Hart\nGuest Reader:\nLinda Farley\, CEO of Girl Scouts\n\nTuesday:\nGoldilocks and the Three Bears Completely Ruined by Cabbage by Andy Domek\nGuest Reader:\nWild Sisters Book Company\n\nWednesday:\nA Jedi You Will Be by Preeti Chhibber\nGuest Reader:\nA Jedi\n\nThursday:\nThe Carousel King and the Space Mission by Leticia Ordaz\nGuest Reader:\nLeticia Ordaz\n\nFriday:\nI Found a Kitty by Troy Cummings\nGuest Reader:\nTBD\n\nSaturday:\nHere and Now by Julia Denos\, E. B. Goodale\nGuest Reader:\nCalifornia Middle School Students\n\nSunday:\nMe & Mama by Cozbi A. Cabrera\nGuest Reader:\nKrystal Coles\n\n  \nPlease note: \n\nAdults must be accompanied by children and children must be accompanied by adults in order to gain admittance to the park.\n\n  \nMake Your Reservation Today!
URL:https://www.fairytaletown.org/calendar/book-week/2022-05-04/
LOCATION:Fairytale Town\, 3901 Land Park Drive\, Sacramento\, CA\, 95822\, United States
ATTACH;FMTTYPE=image/png:https://www.fairytaletown.org/wp-content/uploads/2018/01/CBW_WebBanner.png
GEO:38.539381;-121.5010551
X-APPLE-STRUCTURED-LOCATION;VALUE=URI;X-ADDRESS=Fairytale Town 3901 Land Park Drive Sacramento CA 95822 United States;X-APPLE-RADIUS=500;X-TITLE=3901 Land Park Drive:geo:-121.5010551,38.539381
END:VEVENT
BEGIN:VEVENT
DTSTART;TZID=America/Los_Angeles:20220505T100000
DTEND;TZID=America/Los_Angeles:20220505T150000
DTSTAMP:20260421T113258
CREATED:20191210T080015Z
LAST-MODIFIED:20220427T191222Z
UID:10000833-1651744800-1651762800@www.fairytaletown.org
SUMMARY:Children's Book Week
DESCRIPTION:Monday – Sunday\, May 2 – 8\n10 AM – 3 PM\nWeather Permitting \nCelebrate Children’s Book Week with storytime\, activities\, and giveaways each day of the week! From May 2 – 8\, join us on the Mother Goose Stage each day at 12 PM. A different book will be featured each day with storytime and craft activities inspired by the selected book. There will also be a Scholastic Book Fair with books and more for sale. It’s a week of literary fun! \nWeekday admission is $7 for adults and children ages 2 and older. Weekend admission is $8 for adults and children ages 2 and older. Members and children ages 1 and under are free. \nChildren’s Book Week is the annual celebration of books for young people and the joy of reading. \nActivity Schedule:\n10 AM – 3 PM: Shop for books at the Scholastic Book Fair\n12 PM: Join us for storytime\, activities\, and giveaways on the Mother Goose Stage \nMonday:\nThe World Needs More Purple People by Kristin Bell & Benjamin Hart\nGuest Reader:\nLinda Farley\, CEO of Girl Scouts\n\nTuesday:\nGoldilocks and the Three Bears Completely Ruined by Cabbage by Andy Domek\nGuest Reader:\nWild Sisters Book Company\n\nWednesday:\nA Jedi You Will Be by Preeti Chhibber\nGuest Reader:\nA Jedi\n\nThursday:\nThe Carousel King and the Space Mission by Leticia Ordaz\nGuest Reader:\nLeticia Ordaz\n\nFriday:\nI Found a Kitty by Troy Cummings\nGuest Reader:\nTBD\n\nSaturday:\nHere and Now by Julia Denos\, E. B. Goodale\nGuest Reader:\nCalifornia Middle School Students\n\nSunday:\nMe & Mama by Cozbi A. Cabrera\nGuest Reader:\nKrystal Coles\n\n  \nPlease note: \n\nAdults must be accompanied by children and children must be accompanied by adults in order to gain admittance to the park.\n\n  \nMake Your Reservation Today!
URL:https://www.fairytaletown.org/calendar/book-week/2022-05-05/
LOCATION:Fairytale Town\, 3901 Land Park Drive\, Sacramento\, CA\, 95822\, United States
ATTACH;FMTTYPE=image/png:https://www.fairytaletown.org/wp-content/uploads/2018/01/CBW_WebBanner.png
GEO:38.539381;-121.5010551
X-APPLE-STRUCTURED-LOCATION;VALUE=URI;X-ADDRESS=Fairytale Town 3901 Land Park Drive Sacramento CA 95822 United States;X-APPLE-RADIUS=500;X-TITLE=3901 Land Park Drive:geo:-121.5010551,38.539381
END:VEVENT
BEGIN:VEVENT
DTSTART;TZID=America/Los_Angeles:20220506T100000
DTEND;TZID=America/Los_Angeles:20220506T150000
DTSTAMP:20260421T113258
CREATED:20191210T080015Z
LAST-MODIFIED:20220427T191222Z
UID:10000834-1651831200-1651849200@www.fairytaletown.org
SUMMARY:Children's Book Week
DESCRIPTION:Monday – Sunday\, May 2 – 8\n10 AM – 3 PM\nWeather Permitting \nCelebrate Children’s Book Week with storytime\, activities\, and giveaways each day of the week! From May 2 – 8\, join us on the Mother Goose Stage each day at 12 PM. A different book will be featured each day with storytime and craft activities inspired by the selected book. There will also be a Scholastic Book Fair with books and more for sale. It’s a week of literary fun! \nWeekday admission is $7 for adults and children ages 2 and older. Weekend admission is $8 for adults and children ages 2 and older. Members and children ages 1 and under are free. \nChildren’s Book Week is the annual celebration of books for young people and the joy of reading. \nActivity Schedule:\n10 AM – 3 PM: Shop for books at the Scholastic Book Fair\n12 PM: Join us for storytime\, activities\, and giveaways on the Mother Goose Stage \nMonday:\nThe World Needs More Purple People by Kristin Bell & Benjamin Hart\nGuest Reader:\nLinda Farley\, CEO of Girl Scouts\n\nTuesday:\nGoldilocks and the Three Bears Completely Ruined by Cabbage by Andy Domek\nGuest Reader:\nWild Sisters Book Company\n\nWednesday:\nA Jedi You Will Be by Preeti Chhibber\nGuest Reader:\nA Jedi\n\nThursday:\nThe Carousel King and the Space Mission by Leticia Ordaz\nGuest Reader:\nLeticia Ordaz\n\nFriday:\nI Found a Kitty by Troy Cummings\nGuest Reader:\nTBD\n\nSaturday:\nHere and Now by Julia Denos\, E. B. Goodale\nGuest Reader:\nCalifornia Middle School Students\n\nSunday:\nMe & Mama by Cozbi A. Cabrera\nGuest Reader:\nKrystal Coles\n\n  \nPlease note: \n\nAdults must be accompanied by children and children must be accompanied by adults in order to gain admittance to the park.\n\n  \nMake Your Reservation Today!
URL:https://www.fairytaletown.org/calendar/book-week/2022-05-06/
LOCATION:Fairytale Town\, 3901 Land Park Drive\, Sacramento\, CA\, 95822\, United States
ATTACH;FMTTYPE=image/png:https://www.fairytaletown.org/wp-content/uploads/2018/01/CBW_WebBanner.png
GEO:38.539381;-121.5010551
X-APPLE-STRUCTURED-LOCATION;VALUE=URI;X-ADDRESS=Fairytale Town 3901 Land Park Drive Sacramento CA 95822 United States;X-APPLE-RADIUS=500;X-TITLE=3901 Land Park Drive:geo:-121.5010551,38.539381
END:VEVENT
BEGIN:VEVENT
DTSTART;TZID=America/Los_Angeles:20220507T100000
DTEND;TZID=America/Los_Angeles:20220507T150000
DTSTAMP:20260421T113258
CREATED:20191210T080015Z
LAST-MODIFIED:20220427T191222Z
UID:10000835-1651917600-1651935600@www.fairytaletown.org
SUMMARY:Children's Book Week
DESCRIPTION:Monday – Sunday\, May 2 – 8\n10 AM – 3 PM\nWeather Permitting \nCelebrate Children’s Book Week with storytime\, activities\, and giveaways each day of the week! From May 2 – 8\, join us on the Mother Goose Stage each day at 12 PM. A different book will be featured each day with storytime and craft activities inspired by the selected book. There will also be a Scholastic Book Fair with books and more for sale. It’s a week of literary fun! \nWeekday admission is $7 for adults and children ages 2 and older. Weekend admission is $8 for adults and children ages 2 and older. Members and children ages 1 and under are free. \nChildren’s Book Week is the annual celebration of books for young people and the joy of reading. \nActivity Schedule:\n10 AM – 3 PM: Shop for books at the Scholastic Book Fair\n12 PM: Join us for storytime\, activities\, and giveaways on the Mother Goose Stage \nMonday:\nThe World Needs More Purple People by Kristin Bell & Benjamin Hart\nGuest Reader:\nLinda Farley\, CEO of Girl Scouts\n\nTuesday:\nGoldilocks and the Three Bears Completely Ruined by Cabbage by Andy Domek\nGuest Reader:\nWild Sisters Book Company\n\nWednesday:\nA Jedi You Will Be by Preeti Chhibber\nGuest Reader:\nA Jedi\n\nThursday:\nThe Carousel King and the Space Mission by Leticia Ordaz\nGuest Reader:\nLeticia Ordaz\n\nFriday:\nI Found a Kitty by Troy Cummings\nGuest Reader:\nTBD\n\nSaturday:\nHere and Now by Julia Denos\, E. B. Goodale\nGuest Reader:\nCalifornia Middle School Students\n\nSunday:\nMe & Mama by Cozbi A. Cabrera\nGuest Reader:\nKrystal Coles\n\n  \nPlease note: \n\nAdults must be accompanied by children and children must be accompanied by adults in order to gain admittance to the park.\n\n  \nMake Your Reservation Today!
URL:https://www.fairytaletown.org/calendar/book-week/2022-05-07/
LOCATION:Fairytale Town\, 3901 Land Park Drive\, Sacramento\, CA\, 95822\, United States
ATTACH;FMTTYPE=image/png:https://www.fairytaletown.org/wp-content/uploads/2018/01/CBW_WebBanner.png
GEO:38.539381;-121.5010551
X-APPLE-STRUCTURED-LOCATION;VALUE=URI;X-ADDRESS=Fairytale Town 3901 Land Park Drive Sacramento CA 95822 United States;X-APPLE-RADIUS=500;X-TITLE=3901 Land Park Drive:geo:-121.5010551,38.539381
END:VEVENT
END:VCALENDAR