BEGIN:VCALENDAR
VERSION:2.0
PRODID:-//Fairytale Town - ECPv6.15.20//NONSGML v1.0//EN
CALSCALE:GREGORIAN
METHOD:PUBLISH
X-ORIGINAL-URL:https://www.fairytaletown.org
X-WR-CALDESC:Events for Fairytale Town
REFRESH-INTERVAL;VALUE=DURATION:PT1H
X-Robots-Tag:noindex
X-PUBLISHED-TTL:PT1H
BEGIN:VTIMEZONE
TZID:America/Los_Angeles
BEGIN:DAYLIGHT
TZOFFSETFROM:-0800
TZOFFSETTO:-0700
TZNAME:PDT
DTSTART:20210314T100000
END:DAYLIGHT
BEGIN:STANDARD
TZOFFSETFROM:-0700
TZOFFSETTO:-0800
TZNAME:PST
DTSTART:20211107T090000
END:STANDARD
BEGIN:DAYLIGHT
TZOFFSETFROM:-0800
TZOFFSETTO:-0700
TZNAME:PDT
DTSTART:20220313T100000
END:DAYLIGHT
BEGIN:STANDARD
TZOFFSETFROM:-0700
TZOFFSETTO:-0800
TZNAME:PST
DTSTART:20221106T090000
END:STANDARD
BEGIN:DAYLIGHT
TZOFFSETFROM:-0800
TZOFFSETTO:-0700
TZNAME:PDT
DTSTART:20230312T100000
END:DAYLIGHT
BEGIN:STANDARD
TZOFFSETFROM:-0700
TZOFFSETTO:-0800
TZNAME:PST
DTSTART:20231105T090000
END:STANDARD
END:VTIMEZONE
BEGIN:VEVENT
DTSTART;TZID=America/Los_Angeles:20220312T123000
DTEND;TZID=America/Los_Angeles:20220312T125000
DTSTAMP:20260421T124611
CREATED:20220224T204213Z
LAST-MODIFIED:20220407T165405Z
UID:10000870-1647088200-1647089400@www.fairytaletown.org
SUMMARY:Puppet Show: The Boy Who Cried Wolf
DESCRIPTION:Masks are required for unvaccinated guests 3 years of age and older while inside the theater. \nShow dates: Saturday & Sunday\, March 12 & 13\nShow times: 12:30\, 1:30 & 2:30 PM\nRun time: Approx. 20 minutes \nPuppet Art Theater Company presents the tale of The Boy Who Cried Wolf in the Children’s Theater. An updated zany version of a classic tale. The boy is bored watching his lamb and decides to make things more exciting by turning on his dad’s wolf alarm\, the “Wolf Alert 3000.” Tricking his dad is all fun and games until a real wolf shows up. Will the audience help the boy escape from the wolf? Find out in “The Boy Who Cried Wolf.” \nTickets are a $1 for members and $2 for nonmembers\, in addition to paid park admission. Tickets can be purchased at the Fairytale Town Box Office or at the entrance to the Children’s Theater 15 minutes prior to show time. All performances take place in Fairytale Town’s indoor Children’s Theater. \n  \n 
URL:https://www.fairytaletown.org/calendar/the-boy-who-cried-wolf-1/2022-03-12/1/
LOCATION:Fairytale Town\, 3901 Land Park Drive\, Sacramento\, CA\, 95822\, United States
CATEGORIES:Puppet Shows
ATTACH;FMTTYPE=image/png:https://www.fairytaletown.org/wp-content/uploads/2018/01/Hi-Res-BOY-WHO-CRIED-WOLF-2020.png
GEO:38.539381;-121.5010551
X-APPLE-STRUCTURED-LOCATION;VALUE=URI;X-ADDRESS=Fairytale Town 3901 Land Park Drive Sacramento CA 95822 United States;X-APPLE-RADIUS=500;X-TITLE=3901 Land Park Drive:geo:-121.5010551,38.539381
END:VEVENT
BEGIN:VEVENT
DTSTART;TZID=America/Los_Angeles:20220312T133000
DTEND;TZID=America/Los_Angeles:20220312T135000
DTSTAMP:20260421T124611
CREATED:20220224T204213Z
LAST-MODIFIED:20220407T165405Z
UID:10000871-1647091800-1647093000@www.fairytaletown.org
SUMMARY:Puppet Show: The Boy Who Cried Wolf
DESCRIPTION:Masks are required for unvaccinated guests 3 years of age and older while inside the theater. \nShow dates: Saturday & Sunday\, March 12 & 13\nShow times: 12:30\, 1:30 & 2:30 PM\nRun time: Approx. 20 minutes \nPuppet Art Theater Company presents the tale of The Boy Who Cried Wolf in the Children’s Theater. An updated zany version of a classic tale. The boy is bored watching his lamb and decides to make things more exciting by turning on his dad’s wolf alarm\, the “Wolf Alert 3000.” Tricking his dad is all fun and games until a real wolf shows up. Will the audience help the boy escape from the wolf? Find out in “The Boy Who Cried Wolf.” \nTickets are a $1 for members and $2 for nonmembers\, in addition to paid park admission. Tickets can be purchased at the Fairytale Town Box Office or at the entrance to the Children’s Theater 15 minutes prior to show time. All performances take place in Fairytale Town’s indoor Children’s Theater. \n  \n 
URL:https://www.fairytaletown.org/calendar/the-boy-who-cried-wolf-1/2022-03-12/2/
LOCATION:Fairytale Town\, 3901 Land Park Drive\, Sacramento\, CA\, 95822\, United States
CATEGORIES:Puppet Shows
ATTACH;FMTTYPE=image/png:https://www.fairytaletown.org/wp-content/uploads/2018/01/Hi-Res-BOY-WHO-CRIED-WOLF-2020.png
GEO:38.539381;-121.5010551
X-APPLE-STRUCTURED-LOCATION;VALUE=URI;X-ADDRESS=Fairytale Town 3901 Land Park Drive Sacramento CA 95822 United States;X-APPLE-RADIUS=500;X-TITLE=3901 Land Park Drive:geo:-121.5010551,38.539381
END:VEVENT
BEGIN:VEVENT
DTSTART;TZID=America/Los_Angeles:20220312T143000
DTEND;TZID=America/Los_Angeles:20220312T145000
DTSTAMP:20260421T124611
CREATED:20220224T204213Z
LAST-MODIFIED:20220407T165405Z
UID:10000872-1647095400-1647096600@www.fairytaletown.org
SUMMARY:Puppet Show: The Boy Who Cried Wolf
DESCRIPTION:Masks are required for unvaccinated guests 3 years of age and older while inside the theater. \nShow dates: Saturday & Sunday\, March 12 & 13\nShow times: 12:30\, 1:30 & 2:30 PM\nRun time: Approx. 20 minutes \nPuppet Art Theater Company presents the tale of The Boy Who Cried Wolf in the Children’s Theater. An updated zany version of a classic tale. The boy is bored watching his lamb and decides to make things more exciting by turning on his dad’s wolf alarm\, the “Wolf Alert 3000.” Tricking his dad is all fun and games until a real wolf shows up. Will the audience help the boy escape from the wolf? Find out in “The Boy Who Cried Wolf.” \nTickets are a $1 for members and $2 for nonmembers\, in addition to paid park admission. Tickets can be purchased at the Fairytale Town Box Office or at the entrance to the Children’s Theater 15 minutes prior to show time. All performances take place in Fairytale Town’s indoor Children’s Theater. \n  \n 
URL:https://www.fairytaletown.org/calendar/the-boy-who-cried-wolf-1/2022-03-12/3/
LOCATION:Fairytale Town\, 3901 Land Park Drive\, Sacramento\, CA\, 95822\, United States
CATEGORIES:Puppet Shows
ATTACH;FMTTYPE=image/png:https://www.fairytaletown.org/wp-content/uploads/2018/01/Hi-Res-BOY-WHO-CRIED-WOLF-2020.png
GEO:38.539381;-121.5010551
X-APPLE-STRUCTURED-LOCATION;VALUE=URI;X-ADDRESS=Fairytale Town 3901 Land Park Drive Sacramento CA 95822 United States;X-APPLE-RADIUS=500;X-TITLE=3901 Land Park Drive:geo:-121.5010551,38.539381
END:VEVENT
END:VCALENDAR