BEGIN:VCALENDAR
VERSION:2.0
PRODID:-//Fairytale Town - ECPv6.15.20//NONSGML v1.0//EN
CALSCALE:GREGORIAN
METHOD:PUBLISH
X-ORIGINAL-URL:https://www.fairytaletown.org
X-WR-CALDESC:Events for Fairytale Town
REFRESH-INTERVAL;VALUE=DURATION:PT1H
X-Robots-Tag:noindex
X-PUBLISHED-TTL:PT1H
BEGIN:VTIMEZONE
TZID:America/Los_Angeles
BEGIN:DAYLIGHT
TZOFFSETFROM:-0800
TZOFFSETTO:-0700
TZNAME:PDT
DTSTART:20200308T100000
END:DAYLIGHT
BEGIN:STANDARD
TZOFFSETFROM:-0700
TZOFFSETTO:-0800
TZNAME:PST
DTSTART:20201101T090000
END:STANDARD
BEGIN:DAYLIGHT
TZOFFSETFROM:-0800
TZOFFSETTO:-0700
TZNAME:PDT
DTSTART:20210314T100000
END:DAYLIGHT
BEGIN:STANDARD
TZOFFSETFROM:-0700
TZOFFSETTO:-0800
TZNAME:PST
DTSTART:20211107T090000
END:STANDARD
BEGIN:DAYLIGHT
TZOFFSETFROM:-0800
TZOFFSETTO:-0700
TZNAME:PDT
DTSTART:20220313T100000
END:DAYLIGHT
BEGIN:STANDARD
TZOFFSETFROM:-0700
TZOFFSETTO:-0800
TZNAME:PST
DTSTART:20221106T090000
END:STANDARD
END:VTIMEZONE
BEGIN:VEVENT
DTSTART;TZID=America/Los_Angeles:20211114T113000
DTEND;TZID=America/Los_Angeles:20211114T120000
DTSTAMP:20260421T183151
CREATED:20211004T184132Z
LAST-MODIFIED:20211004T190052Z
UID:10000868-1636889400-1636891200@www.fairytaletown.org
SUMMARY:Fairytale Town Troupers Present: The Princess of Camelot!
DESCRIPTION:See talented young performers from the Sacramento area perform LIVE on our Mother Goose Stage in this fast and funny entertainment experiment. \nEnjoy an Original Musical Fantasy inspired by Classic Arthurian Legends\, freely Adapted by John E. Lee\, featuring: Action\, Adventure\, Magic & Swordplay! PLUS a lost Princess\, a mysterious Wizard\, and the Secret Sword of Camelot. \nThere will be 2 performances per day. Showtimes are 11:30 AM & 12:30 PM on November 6\, 7\, 13\, & 14. \nWeekday admission is $6 for adults and children ages 2 and older. Weekend admission is $7 for adults and children ages 2 and older. Members and children ages 1 and under are free. Reservations required. \nPlease note:\n• Adults must be accompanied by children and children must be accompanied by adults in order to gain admittance to Fairytale Town.\n• All performances are FREE with paid park admission.\n• All performances are outdoors & “Weather Permitting.” \n  \nIf you are interested in more information about the Fairytale Town Troupers\, please e-mail: mrlee@fairytaletown.org.
URL:https://www.fairytaletown.org/calendar/fairytale-town-troupers-present-the-princess-of-camelot-3-2-2/
LOCATION:CA
ATTACH;FMTTYPE=image/jpeg:https://www.fairytaletown.org/wp-content/uploads/2021/10/The-Princess-of-Camelot-scaled-e1633373564761.jpg
END:VEVENT
END:VCALENDAR