BEGIN:VCALENDAR
VERSION:2.0
PRODID:-//Fairytale Town - ECPv6.15.20//NONSGML v1.0//EN
CALSCALE:GREGORIAN
METHOD:PUBLISH
X-ORIGINAL-URL:https://www.fairytaletown.org
X-WR-CALDESC:Events for Fairytale Town
REFRESH-INTERVAL;VALUE=DURATION:PT1H
X-Robots-Tag:noindex
X-PUBLISHED-TTL:PT1H
BEGIN:VTIMEZONE
TZID:America/Los_Angeles
BEGIN:DAYLIGHT
TZOFFSETFROM:-0800
TZOFFSETTO:-0700
TZNAME:PDT
DTSTART:20200308T100000
END:DAYLIGHT
BEGIN:STANDARD
TZOFFSETFROM:-0700
TZOFFSETTO:-0800
TZNAME:PST
DTSTART:20201101T090000
END:STANDARD
BEGIN:DAYLIGHT
TZOFFSETFROM:-0800
TZOFFSETTO:-0700
TZNAME:PDT
DTSTART:20210314T100000
END:DAYLIGHT
BEGIN:STANDARD
TZOFFSETFROM:-0700
TZOFFSETTO:-0800
TZNAME:PST
DTSTART:20211107T090000
END:STANDARD
BEGIN:DAYLIGHT
TZOFFSETFROM:-0800
TZOFFSETTO:-0700
TZNAME:PDT
DTSTART:20220313T100000
END:DAYLIGHT
BEGIN:STANDARD
TZOFFSETFROM:-0700
TZOFFSETTO:-0800
TZNAME:PST
DTSTART:20221106T090000
END:STANDARD
END:VTIMEZONE
BEGIN:VEVENT
DTSTART;TZID=America/Los_Angeles:20210428T140000
DTEND;TZID=America/Los_Angeles:20210428T150000
DTSTAMP:20260422T002518
CREATED:20201113T000438Z
LAST-MODIFIED:20210318T194126Z
UID:10000601-1619618400-1619622000@www.fairytaletown.org
SUMMARY:Spring Animal Workshops
DESCRIPTION:Join us every Wednesday afternoon this spring for Animal Workshops! \nEnrich your visit to Fairytale Town with engaging workshops. Workshops will be run by our Fairytale Town educators and support a variety of lessons in physical and life Sciences\, including conservation\, horticulture\, and animal husbandry. Each week is a different lesson and theme\, so parents and little ones can sign up for one or more weeks! Advance registration is required. \n\nWorkshops will be in groups of 10 students and adults\, outside and practicing social distancing. This is a parent participation program. Advance registration is required. \nCheck out our calendar to sign up for more workshops! Each week there will be new fun and engaging lessons taught by Fairytale Town educators. See the list of workshops we offer below. \n\nMarch 24: Barnyard Bash\nMarch 31: Rocking Reptiles\nApril 7: Fun with Bugs\nApril 14: Barnyard Bash\nApril 21: Rocking Reptiles\nApril 28: Fun with Bugs\nMay 5: Barnyard Bash\nMay 12: Fun with Bugs\nMay 19: Rocking Reptiles\nMay 26: Barnyard Bash \n\nRegistration\nFee is per session and includes the class and park admission for one child and one parent or caregiver. \n$10 for members\n$15 for nonmembers \nRegister Today! \n  \n\nQuestions\nIf you have a question about Fall Workshops\, please contact us at education@fairytaletown.org.
URL:https://www.fairytaletown.org/calendar/fall-workshops-insects-vs-spiders-5-2/2021-04-28/
LOCATION:CA\, United States
END:VEVENT
BEGIN:VEVENT
DTSTART;TZID=America/Los_Angeles:20210429T103000
DTEND;TZID=America/Los_Angeles:20210429T113000
DTSTAMP:20260422T002518
CREATED:20200205T080051Z
LAST-MODIFIED:20210312T202645Z
UID:10000846-1619692200-1619695800@www.fairytaletown.org
SUMMARY:Toddler Time
DESCRIPTION:Join us on Thursday mornings for a play-based learning experience just for little ones ages 2 through 5! Each week is a different lesson exploring a children’s book. Parents and little ones can sign up for one or more weeks. Advance registration is required. \nThis week’s Toddler Time is focused on The Little Blue Truck. Enjoy storytime\, interactive craft time\, singing and sensory play. Enjoy an up-close interaction with Maddie the cow and our donkey Eeyore. \nRegistration\nThe registration fee is per session and includes the class and park admission for one child age 2 through 5 and one parent or caregiver.\n \n$10 per session for members\n$15 per session for nonmembers \nHave siblings? A discount will be automatically applied when registering more than one child. \nRegister Today! \nQuestions\nIf you have a question about Toddler Time\, please contact us at education@fairytaletown.org.
URL:https://www.fairytaletown.org/calendar/toddler-time-13-2-2-2-2-2-2/
LOCATION:Fairytale Town\, 3901 Land Park Drive\, Sacramento\, CA\, 95822\, United States
CATEGORIES:Toddler Time
ATTACH;FMTTYPE=image/jpeg:https://www.fairytaletown.org/wp-content/uploads/2018/01/Toddler-Time-Website-Photo.jpg
GEO:38.539381;-121.5010551
X-APPLE-STRUCTURED-LOCATION;VALUE=URI;X-ADDRESS=Fairytale Town 3901 Land Park Drive Sacramento CA 95822 United States;X-APPLE-RADIUS=500;X-TITLE=3901 Land Park Drive:geo:-121.5010551,38.539381
END:VEVENT
END:VCALENDAR