BEGIN:VCALENDAR
VERSION:2.0
PRODID:-//Fairytale Town - ECPv6.15.20//NONSGML v1.0//EN
CALSCALE:GREGORIAN
METHOD:PUBLISH
X-ORIGINAL-URL:https://www.fairytaletown.org
X-WR-CALDESC:Events for Fairytale Town
REFRESH-INTERVAL;VALUE=DURATION:PT1H
X-Robots-Tag:noindex
X-PUBLISHED-TTL:PT1H
BEGIN:VTIMEZONE
TZID:America/Los_Angeles
BEGIN:DAYLIGHT
TZOFFSETFROM:-0800
TZOFFSETTO:-0700
TZNAME:PDT
DTSTART:20200308T100000
END:DAYLIGHT
BEGIN:STANDARD
TZOFFSETFROM:-0700
TZOFFSETTO:-0800
TZNAME:PST
DTSTART:20201101T090000
END:STANDARD
BEGIN:DAYLIGHT
TZOFFSETFROM:-0800
TZOFFSETTO:-0700
TZNAME:PDT
DTSTART:20210314T100000
END:DAYLIGHT
BEGIN:STANDARD
TZOFFSETFROM:-0700
TZOFFSETTO:-0800
TZNAME:PST
DTSTART:20211107T090000
END:STANDARD
BEGIN:DAYLIGHT
TZOFFSETFROM:-0800
TZOFFSETTO:-0700
TZNAME:PDT
DTSTART:20220313T100000
END:DAYLIGHT
BEGIN:STANDARD
TZOFFSETFROM:-0700
TZOFFSETTO:-0800
TZNAME:PST
DTSTART:20221106T090000
END:STANDARD
END:VTIMEZONE
BEGIN:VEVENT
DTSTART;TZID=America/Los_Angeles:20210331T140000
DTEND;TZID=America/Los_Angeles:20210331T150000
DTSTAMP:20260422T013417
CREATED:20201113T000438Z
LAST-MODIFIED:20210318T194126Z
UID:10000597-1617199200-1617202800@www.fairytaletown.org
SUMMARY:Spring Animal Workshops
DESCRIPTION:Join us every Wednesday afternoon this spring for Animal Workshops! \nEnrich your visit to Fairytale Town with engaging workshops. Workshops will be run by our Fairytale Town educators and support a variety of lessons in physical and life Sciences\, including conservation\, horticulture\, and animal husbandry. Each week is a different lesson and theme\, so parents and little ones can sign up for one or more weeks! Advance registration is required. \n\nWorkshops will be in groups of 10 students and adults\, outside and practicing social distancing. This is a parent participation program. Advance registration is required. \nCheck out our calendar to sign up for more workshops! Each week there will be new fun and engaging lessons taught by Fairytale Town educators. See the list of workshops we offer below. \n\nMarch 24: Barnyard Bash\nMarch 31: Rocking Reptiles\nApril 7: Fun with Bugs\nApril 14: Barnyard Bash\nApril 21: Rocking Reptiles\nApril 28: Fun with Bugs\nMay 5: Barnyard Bash\nMay 12: Fun with Bugs\nMay 19: Rocking Reptiles\nMay 26: Barnyard Bash \n\nRegistration\nFee is per session and includes the class and park admission for one child and one parent or caregiver. \n$10 for members\n$15 for nonmembers \nRegister Today! \n  \n\nQuestions\nIf you have a question about Fall Workshops\, please contact us at education@fairytaletown.org.
URL:https://www.fairytaletown.org/calendar/fall-workshops-insects-vs-spiders-5-2/2021-03-31/
LOCATION:CA\, United States
END:VEVENT
BEGIN:VEVENT
DTSTART;TZID=America/Los_Angeles:20210401T103000
DTEND;TZID=America/Los_Angeles:20210401T113000
DTSTAMP:20260422T013417
CREATED:20200205T080051Z
LAST-MODIFIED:20210312T201913Z
UID:10000842-1617273000-1617276600@www.fairytaletown.org
SUMMARY:Toddler Time
DESCRIPTION:Join us on Thursday mornings for a play-based learning experience just for little ones ages 2 through 5! Each week is a different lesson exploring a children’s book. Parents and little ones can sign up for one or more weeks. Advance registration is required. \nThis week’s Toddler Time is focused on The Mixed Up Chameleon. Enjoy storytime and an up-close interaction with the snakes that call Fairytale Town home. Interactive craft time\, singing and sensory play are also part of the fun. \nRegistration\nThe registration fee is per session and includes the class and park admission for one child age 2 through 5 and one parent or caregiver.\n \n$10 per session for members\n$15 per session for nonmembers \nHave siblings? A discount will be automatically applied when registering more than one child. \nRegister Today! \nQuestions\nIf you have a question about Toddler Time\, please contact us at education@fairytaletown.org.
URL:https://www.fairytaletown.org/calendar/toddler-time-13-2-2/
LOCATION:Fairytale Town\, 3901 Land Park Drive\, Sacramento\, CA\, 95822\, United States
CATEGORIES:Toddler Time
ATTACH;FMTTYPE=image/jpeg:https://www.fairytaletown.org/wp-content/uploads/2018/01/Toddler-Time-Website-Photo.jpg
GEO:38.539381;-121.5010551
X-APPLE-STRUCTURED-LOCATION;VALUE=URI;X-ADDRESS=Fairytale Town 3901 Land Park Drive Sacramento CA 95822 United States;X-APPLE-RADIUS=500;X-TITLE=3901 Land Park Drive:geo:-121.5010551,38.539381
END:VEVENT
BEGIN:VEVENT
DTSTART;TZID=America/Los_Angeles:20210402T170000
DTEND;TZID=America/Los_Angeles:20210402T210000
DTSTAMP:20260422T013417
CREATED:20210312T214923Z
LAST-MODIFIED:20210323T211053Z
UID:10000607-1617382800-1617397200@www.fairytaletown.org
SUMMARY:CHP South Sacramento and SAL Present: Glow in the Dark Easter Egg Event
DESCRIPTION:Get your tickets here!\nCome join CHP and the Sheriff’s Activities League at Fairytale Town for a glow-in-the-dark Easter egg hunt! There are two time slots\, 5 PM and 7 PM on April 2nd and 3rd\, please only sign up for one date and one time slot. Egg hunts will be separated by age groups ranging from 0-12 years of age and will take place starting at 5:15 and then 7:15. Additionally\, guests will have one hour or so of playtime in the park. \nUpon arrival\, guests will receive an Easter basket in which to collect the eggs and a goodie bag with prizes on the way out of the park. There will be food on-site for an additional fee. Please no balloons or straws within the park. \nCHP will be doing free car seat inspections/presentations for anyone interested on the front deck. \nEnjoy music\, take pictures on your own device with the Easter bunny\, and hunt for the golden eggs for a special surprise! \nThis is a COVID-strict event. Masks must be worn unless eating or drinking\, there will be some provided at the front gate. Tickets MUST be purchased online before the event-NO TICKETS WILL BE SOLD AT THE DOOR. Tickets will sell out so make sure to sign up quick as this is a limited guest event to adhere to COVID guidelines. \n***This is a SEPARATE Easter event from that of Fairytale Town. Please e-mail Kayla\nWillett at: kwillett@sacsheriff.com for any questions you may have.
URL:https://www.fairytaletown.org/calendar/chp-south-sacramento-and-sal-present-glow-in-the-dark-easter-egg-event/2021-04-02/
LOCATION:Fairytale Town\, 3901 Land Park Drive\, Sacramento\, CA\, 95822\, United States
ATTACH;FMTTYPE=image/png:https://www.fairytaletown.org/wp-content/uploads/2021/03/sheriffs-event-banner.png
GEO:38.539381;-121.5010551
X-APPLE-STRUCTURED-LOCATION;VALUE=URI;X-ADDRESS=Fairytale Town 3901 Land Park Drive Sacramento CA 95822 United States;X-APPLE-RADIUS=500;X-TITLE=3901 Land Park Drive:geo:-121.5010551,38.539381
END:VEVENT
BEGIN:VEVENT
DTSTART;TZID=America/Los_Angeles:20210403T100000
DTEND;TZID=America/Los_Angeles:20210403T140000
DTSTAMP:20260422T013417
CREATED:20200929T171231Z
LAST-MODIFIED:20210223T194015Z
UID:10000574-1617444000-1617458400@www.fairytaletown.org
SUMMARY:Spring Fun Days
DESCRIPTION:Join us for themed crafts and activities from 10 AM – 2 PM on April 3 & 4. Enjoy socially distanced photos with Peter Rabbit\, grab-and-go crafts\, and a family scavenger hunt. Each young guest will receive a treat bag. \nWeekend admission is $7 for adults and children ages 2 and older. Members and children ages 1 and under are free. Reservations required. \nPlease note:\n• Adults must be accompanied by children and children must be accompanied by adults in order to gain admittance to Fairytale Town.\n• To learn more about our new precautions and rules for our reopening please visit our blog post.
URL:https://www.fairytaletown.org/calendar/spring-fun-days/2021-04-03/
LOCATION:CA\, United States
ATTACH;FMTTYPE=image/jpeg:https://www.fairytaletown.org/wp-content/uploads/2020/09/Spring-fun-days-web-banner-scaled.jpg
END:VEVENT
BEGIN:VEVENT
DTSTART;TZID=America/Los_Angeles:20210403T170000
DTEND;TZID=America/Los_Angeles:20210403T210000
DTSTAMP:20260422T013417
CREATED:20210312T214923Z
LAST-MODIFIED:20210323T211053Z
UID:10000608-1617469200-1617483600@www.fairytaletown.org
SUMMARY:CHP South Sacramento and SAL Present: Glow in the Dark Easter Egg Event
DESCRIPTION:Get your tickets here!\nCome join CHP and the Sheriff’s Activities League at Fairytale Town for a glow-in-the-dark Easter egg hunt! There are two time slots\, 5 PM and 7 PM on April 2nd and 3rd\, please only sign up for one date and one time slot. Egg hunts will be separated by age groups ranging from 0-12 years of age and will take place starting at 5:15 and then 7:15. Additionally\, guests will have one hour or so of playtime in the park. \nUpon arrival\, guests will receive an Easter basket in which to collect the eggs and a goodie bag with prizes on the way out of the park. There will be food on-site for an additional fee. Please no balloons or straws within the park. \nCHP will be doing free car seat inspections/presentations for anyone interested on the front deck. \nEnjoy music\, take pictures on your own device with the Easter bunny\, and hunt for the golden eggs for a special surprise! \nThis is a COVID-strict event. Masks must be worn unless eating or drinking\, there will be some provided at the front gate. Tickets MUST be purchased online before the event-NO TICKETS WILL BE SOLD AT THE DOOR. Tickets will sell out so make sure to sign up quick as this is a limited guest event to adhere to COVID guidelines. \n***This is a SEPARATE Easter event from that of Fairytale Town. Please e-mail Kayla\nWillett at: kwillett@sacsheriff.com for any questions you may have.
URL:https://www.fairytaletown.org/calendar/chp-south-sacramento-and-sal-present-glow-in-the-dark-easter-egg-event/2021-04-03/
LOCATION:Fairytale Town\, 3901 Land Park Drive\, Sacramento\, CA\, 95822\, United States
ATTACH;FMTTYPE=image/png:https://www.fairytaletown.org/wp-content/uploads/2021/03/sheriffs-event-banner.png
GEO:38.539381;-121.5010551
X-APPLE-STRUCTURED-LOCATION;VALUE=URI;X-ADDRESS=Fairytale Town 3901 Land Park Drive Sacramento CA 95822 United States;X-APPLE-RADIUS=500;X-TITLE=3901 Land Park Drive:geo:-121.5010551,38.539381
END:VEVENT
END:VCALENDAR