BEGIN:VCALENDAR
VERSION:2.0
PRODID:-//Fairytale Town - ECPv6.15.20//NONSGML v1.0//EN
CALSCALE:GREGORIAN
METHOD:PUBLISH
X-ORIGINAL-URL:https://www.fairytaletown.org
X-WR-CALDESC:Events for Fairytale Town
REFRESH-INTERVAL;VALUE=DURATION:PT1H
X-Robots-Tag:noindex
X-PUBLISHED-TTL:PT1H
BEGIN:VTIMEZONE
TZID:America/Los_Angeles
BEGIN:DAYLIGHT
TZOFFSETFROM:-0800
TZOFFSETTO:-0700
TZNAME:PDT
DTSTART:20190310T100000
END:DAYLIGHT
BEGIN:STANDARD
TZOFFSETFROM:-0700
TZOFFSETTO:-0800
TZNAME:PST
DTSTART:20191103T090000
END:STANDARD
BEGIN:DAYLIGHT
TZOFFSETFROM:-0800
TZOFFSETTO:-0700
TZNAME:PDT
DTSTART:20200308T100000
END:DAYLIGHT
BEGIN:STANDARD
TZOFFSETFROM:-0700
TZOFFSETTO:-0800
TZNAME:PST
DTSTART:20201101T090000
END:STANDARD
BEGIN:DAYLIGHT
TZOFFSETFROM:-0800
TZOFFSETTO:-0700
TZNAME:PDT
DTSTART:20210314T100000
END:DAYLIGHT
BEGIN:STANDARD
TZOFFSETFROM:-0700
TZOFFSETTO:-0800
TZNAME:PST
DTSTART:20211107T090000
END:STANDARD
END:VTIMEZONE
BEGIN:VEVENT
DTSTART;TZID=America/Los_Angeles:20200303T100000
DTEND;TZID=America/Los_Angeles:20200303T113000
DTSTAMP:20260422T191144
CREATED:20190205T080046Z
LAST-MODIFIED:20200206T205201Z
UID:10000823-1583229600-1583235000@www.fairytaletown.org
SUMMARY:Toddler Time
DESCRIPTION:Join us on Tuesday mornings for a play-based learning experience just for little ones ages 2 through 5! Each week is a different lesson exploring a children’s book. Parents and little ones can sign up for one or more weeks. Advance registration is required. \nThis week’s Toddler Time is focused on The Cow Loves Cookies. Enjoy storytime\, interactive craft time\, singing and sensory play. Enjoy an up-close interaction with Maddie the cow and our donkey Eeyore. \nRegistration\nThe registration fee is per session and includes the class and park admission for one child age 2 through 5 and one parent or caregiver.\n \n$10 per session for members\n$15 per session for nonmembers \nHave siblings? You may apply these discount codes on the check out page:\nFor Members: MEMBERSIBLING\nFor NonMembers: NONMEMSIBLING \nRegister Today! \nQuestions\nIf you have a question about Toddler Time\, please contact us at education@fairytaletown.org.
URL:https://www.fairytaletown.org/calendar/toddler-time/
LOCATION:Fairytale Town\, 3901 Land Park Drive\, Sacramento\, CA\, 95822\, United States
CATEGORIES:Toddler Time
ATTACH;FMTTYPE=image/jpeg:https://www.fairytaletown.org/wp-content/uploads/2018/01/Toddler-Time-Website-Photo.jpg
GEO:38.539381;-121.5010551
X-APPLE-STRUCTURED-LOCATION;VALUE=URI;X-ADDRESS=Fairytale Town 3901 Land Park Drive Sacramento CA 95822 United States;X-APPLE-RADIUS=500;X-TITLE=3901 Land Park Drive:geo:-121.5010551,38.539381
END:VEVENT
END:VCALENDAR