BEGIN:VCALENDAR
VERSION:2.0
PRODID:-//Fairytale Town - ECPv6.15.20//NONSGML v1.0//EN
CALSCALE:GREGORIAN
METHOD:PUBLISH
X-ORIGINAL-URL:https://www.fairytaletown.org
X-WR-CALDESC:Events for Fairytale Town
REFRESH-INTERVAL;VALUE=DURATION:PT1H
X-Robots-Tag:noindex
X-PUBLISHED-TTL:PT1H
BEGIN:VTIMEZONE
TZID:America/Los_Angeles
BEGIN:DAYLIGHT
TZOFFSETFROM:-0800
TZOFFSETTO:-0700
TZNAME:PDT
DTSTART:20180311T100000
END:DAYLIGHT
BEGIN:STANDARD
TZOFFSETFROM:-0700
TZOFFSETTO:-0800
TZNAME:PST
DTSTART:20181104T090000
END:STANDARD
BEGIN:DAYLIGHT
TZOFFSETFROM:-0800
TZOFFSETTO:-0700
TZNAME:PDT
DTSTART:20190310T100000
END:DAYLIGHT
BEGIN:STANDARD
TZOFFSETFROM:-0700
TZOFFSETTO:-0800
TZNAME:PST
DTSTART:20191103T090000
END:STANDARD
BEGIN:DAYLIGHT
TZOFFSETFROM:-0800
TZOFFSETTO:-0700
TZNAME:PDT
DTSTART:20200308T100000
END:DAYLIGHT
BEGIN:STANDARD
TZOFFSETFROM:-0700
TZOFFSETTO:-0800
TZNAME:PST
DTSTART:20201101T090000
END:STANDARD
END:VTIMEZONE
BEGIN:VEVENT
DTSTART;TZID=America/Los_Angeles:20190918T100000
DTEND;TZID=America/Los_Angeles:20190918T104500
DTSTAMP:20260423T085825
CREATED:20180228T194024Z
LAST-MODIFIED:20190930T221106Z
UID:10000801-1568800800-1568803500@www.fairytaletown.org
SUMMARY:Zumbini
DESCRIPTION:Join us for a six-week Zumbini class! Designed for children from infancy to age 4 and their caregivers\, Zumbini combines music and movement to create the ultimate bonding experience! Sing\, dance\, and play together while developing your little one’s social\, cognitive\, emotional\, and motor skills. Silliness and wacky dance moves are not required – but highly encouraged. \nThe six-week class includes an original songbook for TJ and his PJs\, plush doll\, and music to continue the fun at home! Classes will be held in the indoor Children’s Theater. \nCreated by Zumba® and BabyFirst for kids ages 0-4\, the Zumbini® program combines music\, dance and educational tools for 45 minutes of can’t-stop\, won’t-stop bonding\, learning\, and fun! \nSpace is limited\, so sign up today! \nRegister for Zumbini \nZumbini Fees & Registration\nSix-week Zumbini Class: Wednesdays\, September 18 October 2\, 9\, 16\, 23\, & 30 \n$80 for the six-week class for members\n$100 for the six-week class for nonmembers \nThe registration fee is for the six-week class for one little one from infancy to age 4 and one parent/caregiver. The fee includes the classes\, park admission for both participants\, songbook\, plush doll\, and music. If you are registering late please call 916-808-8884 to have your registration prorated.\n \nPreview Class\nMeet the instructor and try out Zumbini at a special preview class on Wednesday\, September 11\, from 10 AM – 11 AM. Advance registration is not required. The Preview Class is free with paid park admission. \nCancellation Policy\nTo be eligible for a 100% refund\, you must cancel the program at least 7 days prior to the start date. If you cancel within 7 days\, you may be eligible to receive up to a 50% refund if your spot can be filled from a wait list. Programs cancelled within 24 hours of the start date and time are not eligible for a refund. Fairytale Town reserves the right to cancel any program\, in which case you will be notified promptly and 100% of the fees paid will be refunded. \nQuestions\nIf you have a question about Zumbini\, please contact us at (916) 808-8884 or education@fairytaletown.org. \nhttps://www.fairytaletown.org/wp-content/uploads/2018/02/Promo-Video.mp4
URL:https://www.fairytaletown.org/calendar/zumbini/2019-09-18/
LOCATION:Fairytale Town\, 3901 Land Park Drive\, Sacramento\, CA\, 95822\, United States
ATTACH;FMTTYPE=image/png:https://www.fairytaletown.org/wp-content/uploads/2018/02/facebook-cover-image.png
GEO:38.539381;-121.5010551
X-APPLE-STRUCTURED-LOCATION;VALUE=URI;X-ADDRESS=Fairytale Town 3901 Land Park Drive Sacramento CA 95822 United States;X-APPLE-RADIUS=500;X-TITLE=3901 Land Park Drive:geo:-121.5010551,38.539381
END:VEVENT
BEGIN:VEVENT
DTSTART;TZID=America/Los_Angeles:20190919T090000
DTEND;TZID=America/Los_Angeles:20190919T160000
DTSTAMP:20260423T085825
CREATED:20180119T020124Z
LAST-MODIFIED:20190828T165438Z
UID:10000470-1568883600-1568908800@www.fairytaletown.org
SUMMARY:Talk Like A Pirate Day
DESCRIPTION:Ahoy\, me hearties! Join Fairytale Town in celebrating international Talk Like a Pirate Day. The Pirates of Sacramento will be on hand to present “Pyrate Skool” and other games along with plenty of pirate themed fun and activities for yer whole family\, savvy? Mermaids will also be on hand for mermaid fun and games. \nGuests who wear pirate themed attire (eyepatches\, bandanas\, pirate hats\, hooks\, etc.) will receive one free child admission with a paid adult. Special offer valid Thursday\, September 19\, 2019. Not valid with combo ticket\, special ticketed events\, birthday parties\, field trips\, or any other offer or discount. \nTalk Like a Pirate Day is free with paid park admission. Weekday admission is $5 for adults and children ages 2 and older. Members and children ages 1 and under are free. \nPlease note: \n\nAdults must be accompanied by children and children must be accompanied by adults in order to gain admittance to Fairytale Town.
URL:https://www.fairytaletown.org/calendar/talk-like-pirate-day/
LOCATION:Fairytale Town\, 3901 Land Park Drive\, Sacramento\, CA\, 95822\, United States
ATTACH;FMTTYPE=image/jpeg:https://www.fairytaletown.org/wp-content/uploads/2014/01/TalkLikeAPirateDay.jpg
GEO:38.539381;-121.5010551
X-APPLE-STRUCTURED-LOCATION;VALUE=URI;X-ADDRESS=Fairytale Town 3901 Land Park Drive Sacramento CA 95822 United States;X-APPLE-RADIUS=500;X-TITLE=3901 Land Park Drive:geo:-121.5010551,38.539381
END:VEVENT
BEGIN:VEVENT
DTSTART;TZID=America/Los_Angeles:20190919T100000
DTEND;TZID=America/Los_Angeles:20190919T113000
DTSTAMP:20260423T085825
CREATED:20180122T185246Z
LAST-MODIFIED:20190821T185207Z
UID:10000481-1568887200-1568892600@www.fairytaletown.org
SUMMARY:Toddler Time
DESCRIPTION:Join us for a play-based learning experience just for little ones ages 2 through 5! Each week is a different lesson exploring a children’s book. Parents and little ones can sign up for one or more weeks. Advance registration is required. \nThis week’s Toddler Time is focused on Pete the Cat and the Treasure Map. September 19th is Talk like a Pirate Day!  Enjoy pirate themed storytime and an up-close interaction with the parrots that call Fairytale Town home. Interactive craft time\, singing and sensory play are also part of the fun. \nRegistration\nThe registration fee is per session and includes the class and park admission for one child age 2 through 5 and one parent or caregiver.\n \n$9 per session for members\n$14 per session for nonmembers\nAdditional siblings are $4.50 per sibling for members and $7 per sibling for nonmembers \nRegister for Toddler Time \nQuestions\nIf you have a question about Toddler Time\, please contact us at education@fairytaletown.org.
URL:https://www.fairytaletown.org/calendar/toddler-time-2-2-2-2/
LOCATION:Fairytale Town\, 3901 Land Park Drive\, Sacramento\, CA\, 95822\, United States
CATEGORIES:Toddler Time
ATTACH;FMTTYPE=image/jpeg:https://www.fairytaletown.org/wp-content/uploads/2018/01/Toddler-Time-Website-Photo.jpg
GEO:38.539381;-121.5010551
X-APPLE-STRUCTURED-LOCATION;VALUE=URI;X-ADDRESS=Fairytale Town 3901 Land Park Drive Sacramento CA 95822 United States;X-APPLE-RADIUS=500;X-TITLE=3901 Land Park Drive:geo:-121.5010551,38.539381
END:VEVENT
END:VCALENDAR