BEGIN:VCALENDAR
VERSION:2.0
PRODID:-//Fairytale Town - ECPv6.15.20//NONSGML v1.0//EN
CALSCALE:GREGORIAN
METHOD:PUBLISH
X-ORIGINAL-URL:https://www.fairytaletown.org
X-WR-CALDESC:Events for Fairytale Town
REFRESH-INTERVAL;VALUE=DURATION:PT1H
X-Robots-Tag:noindex
X-PUBLISHED-TTL:PT1H
BEGIN:VTIMEZONE
TZID:America/Los_Angeles
BEGIN:DAYLIGHT
TZOFFSETFROM:-0800
TZOFFSETTO:-0700
TZNAME:PDT
DTSTART:20180311T100000
END:DAYLIGHT
BEGIN:STANDARD
TZOFFSETFROM:-0700
TZOFFSETTO:-0800
TZNAME:PST
DTSTART:20181104T090000
END:STANDARD
BEGIN:DAYLIGHT
TZOFFSETFROM:-0800
TZOFFSETTO:-0700
TZNAME:PDT
DTSTART:20190310T100000
END:DAYLIGHT
BEGIN:STANDARD
TZOFFSETFROM:-0700
TZOFFSETTO:-0800
TZNAME:PST
DTSTART:20191103T090000
END:STANDARD
BEGIN:DAYLIGHT
TZOFFSETFROM:-0800
TZOFFSETTO:-0700
TZNAME:PDT
DTSTART:20200308T100000
END:DAYLIGHT
BEGIN:STANDARD
TZOFFSETFROM:-0700
TZOFFSETTO:-0800
TZNAME:PST
DTSTART:20201101T090000
END:STANDARD
END:VTIMEZONE
BEGIN:VEVENT
DTSTART;TZID=America/Los_Angeles:20190911T100000
DTEND;TZID=America/Los_Angeles:20190911T104500
DTSTAMP:20260423T085825
CREATED:20180301T214343Z
LAST-MODIFIED:20190821T201427Z
UID:10000807-1568196000-1568198700@www.fairytaletown.org
SUMMARY:Zumbini Preview Class
DESCRIPTION:Enjoy a preview of Zumbini before the six-week class starts on September 18! You’ll get to try out Zumbini and meet the instructor.  Advance registration is not required. \nThe Preview Class is free with paid park admission. Weekday admission is $5 for adults and children ages 2 and older. Members and children ages 1 and under are free. \nDesigned for children from infancy to age 4 and their caregivers\, Zumbini combines music and movement to create the ultimate bonding experience! Sing\, dance\, and play together while developing your little one’s social\, cognitive\, emotional\, and motor skills. Silliness and wacky dance moves are not required – but highly encouraged. \nCreated by Zumba® and BabyFirst for kids ages 0-4\, the Zumbini® program combines music\, dance and educational tools for 45 minutes of can’t-stop\, won’t-stop bonding\, learning\, and fun! \nQuestions\nIf you have a question about Zumbini\, please contact us at (916) 808-8884 or education@fairytaletown.org. \nhttps://www.fairytaletown.org/wp-content/uploads/2018/02/Promo-Video.mp4
URL:https://www.fairytaletown.org/calendar/zumbini-preview-class/
LOCATION:Fairytale Town\, 3901 Land Park Drive\, Sacramento\, CA\, 95822\, United States
ATTACH;FMTTYPE=image/png:https://www.fairytaletown.org/wp-content/uploads/2018/02/facebook-cover-image.png
GEO:38.539381;-121.5010551
X-APPLE-STRUCTURED-LOCATION;VALUE=URI;X-ADDRESS=Fairytale Town 3901 Land Park Drive Sacramento CA 95822 United States;X-APPLE-RADIUS=500;X-TITLE=3901 Land Park Drive:geo:-121.5010551,38.539381
END:VEVENT
BEGIN:VEVENT
DTSTART;TZID=America/Los_Angeles:20190912T100000
DTEND;TZID=America/Los_Angeles:20190912T113000
DTSTAMP:20260423T085825
CREATED:20180122T185246Z
LAST-MODIFIED:20190821T184936Z
UID:10000480-1568282400-1568287800@www.fairytaletown.org
SUMMARY:Toddler Time
DESCRIPTION:Join us for a play-based learning experience just for little ones ages 2 through 5! Each week is a different lesson exploring a children’s book. Parents and little ones can sign up for one or more weeks. Advance registration is required. \nThis week’s Toddler Time is focused on The Three Ninja Pigs.  Enjoy storytime and an up-close interaction with the pigs that call Fairytale Town home. Interactive craft time\, singing and sensory play are also part of the fun. \nRegistration\nThe registration fee is per session and includes the class and park admission for one child age 2 through 5 and one parent or caregiver.\n \n$9 per session for members\n$14 per session for nonmembers\nAdditional siblings are $4.50 per sibling for members and $7 per sibling for nonmembers \nRegister for Toddler Time \nQuestions\nIf you have a question about Toddler Time\, please contact us at education@fairytaletown.org.
URL:https://www.fairytaletown.org/calendar/toddler-time-2-2-2/
LOCATION:Fairytale Town\, 3901 Land Park Drive\, Sacramento\, CA\, 95822\, United States
CATEGORIES:Toddler Time
ATTACH;FMTTYPE=image/jpeg:https://www.fairytaletown.org/wp-content/uploads/2018/01/Toddler-Time-Website-Photo.jpg
GEO:38.539381;-121.5010551
X-APPLE-STRUCTURED-LOCATION;VALUE=URI;X-ADDRESS=Fairytale Town 3901 Land Park Drive Sacramento CA 95822 United States;X-APPLE-RADIUS=500;X-TITLE=3901 Land Park Drive:geo:-121.5010551,38.539381
END:VEVENT
END:VCALENDAR