BEGIN:VCALENDAR
VERSION:2.0
PRODID:-//Fairytale Town - ECPv6.15.20//NONSGML v1.0//EN
CALSCALE:GREGORIAN
METHOD:PUBLISH
X-ORIGINAL-URL:https://www.fairytaletown.org
X-WR-CALDESC:Events for Fairytale Town
REFRESH-INTERVAL;VALUE=DURATION:PT1H
X-Robots-Tag:noindex
X-PUBLISHED-TTL:PT1H
BEGIN:VTIMEZONE
TZID:America/Los_Angeles
BEGIN:DAYLIGHT
TZOFFSETFROM:-0800
TZOFFSETTO:-0700
TZNAME:PDT
DTSTART:20170312T100000
END:DAYLIGHT
BEGIN:STANDARD
TZOFFSETFROM:-0700
TZOFFSETTO:-0800
TZNAME:PST
DTSTART:20171105T090000
END:STANDARD
BEGIN:DAYLIGHT
TZOFFSETFROM:-0800
TZOFFSETTO:-0700
TZNAME:PDT
DTSTART:20180311T100000
END:DAYLIGHT
BEGIN:STANDARD
TZOFFSETFROM:-0700
TZOFFSETTO:-0800
TZNAME:PST
DTSTART:20181104T090000
END:STANDARD
BEGIN:DAYLIGHT
TZOFFSETFROM:-0800
TZOFFSETTO:-0700
TZNAME:PDT
DTSTART:20190310T100000
END:DAYLIGHT
BEGIN:STANDARD
TZOFFSETFROM:-0700
TZOFFSETTO:-0800
TZNAME:PST
DTSTART:20191103T090000
END:STANDARD
END:VTIMEZONE
BEGIN:VEVENT
DTSTART;TZID=America/Los_Angeles:20180928T153000
DTEND;TZID=America/Los_Angeles:20180928T193000
DTSTAMP:20260425T163759
CREATED:20180522T200632Z
LAST-MODIFIED:20180522T223324Z
UID:10000495-1538148600-1538163000@www.fairytaletown.org
SUMMARY:Pop-Up Adventure Play Day at McKinley Library
DESCRIPTION:Join Fairytale Town and Sacramento Adventure Playground for a day of free play and fun at Sacramento Public Library – McKinley Library!  \nChildren get to create using a variety of ‘loose parts’ and their imagination. Activities may include cardboard forts\, mud play\, craft projects\, paint wall\, bubbles\, chalk art\, and more! All ages are invited.\n \nPlease wear closed-toe shoes and clothes that can get messy.
URL:https://www.fairytaletown.org/calendar/adventure-play-mckinley/
LOCATION:McKinley Library\, 601 Alhambra Blvd.\, Sacramento\, CA\, 95816\, United States
ATTACH;FMTTYPE=image/png:https://www.fairytaletown.org/wp-content/uploads/2018/05/FTT.popUp_.Social-WebsiteBanner.png
GEO:38.5767822;-121.4628023
X-APPLE-STRUCTURED-LOCATION;VALUE=URI;X-ADDRESS=McKinley Library 601 Alhambra Blvd. Sacramento CA 95816 United States;X-APPLE-RADIUS=500;X-TITLE=601 Alhambra Blvd.:geo:-121.4628023,38.5767822
END:VEVENT
END:VCALENDAR