BEGIN:VCALENDAR
VERSION:2.0
PRODID:-//Fairytale Town - ECPv6.15.20//NONSGML v1.0//EN
CALSCALE:GREGORIAN
METHOD:PUBLISH
X-ORIGINAL-URL:https://www.fairytaletown.org
X-WR-CALDESC:Events for Fairytale Town
REFRESH-INTERVAL;VALUE=DURATION:PT1H
X-Robots-Tag:noindex
X-PUBLISHED-TTL:PT1H
BEGIN:VTIMEZONE
TZID:America/Los_Angeles
BEGIN:DAYLIGHT
TZOFFSETFROM:-0800
TZOFFSETTO:-0700
TZNAME:PDT
DTSTART:20170312T100000
END:DAYLIGHT
BEGIN:STANDARD
TZOFFSETFROM:-0700
TZOFFSETTO:-0800
TZNAME:PST
DTSTART:20171105T090000
END:STANDARD
BEGIN:DAYLIGHT
TZOFFSETFROM:-0800
TZOFFSETTO:-0700
TZNAME:PDT
DTSTART:20180311T100000
END:DAYLIGHT
BEGIN:STANDARD
TZOFFSETFROM:-0700
TZOFFSETTO:-0800
TZNAME:PST
DTSTART:20181104T090000
END:STANDARD
BEGIN:DAYLIGHT
TZOFFSETFROM:-0800
TZOFFSETTO:-0700
TZNAME:PDT
DTSTART:20190310T100000
END:DAYLIGHT
BEGIN:STANDARD
TZOFFSETFROM:-0700
TZOFFSETTO:-0800
TZNAME:PST
DTSTART:20191103T090000
END:STANDARD
END:VTIMEZONE
BEGIN:VEVENT
DTSTART;TZID=America/Los_Angeles:20180908T103000
DTEND;TZID=America/Los_Angeles:20180908T123000
DTSTAMP:20260425T192953
CREATED:20180815T162306Z
LAST-MODIFIED:20180815T162306Z
UID:10000819-1536402600-1536409800@www.fairytaletown.org
SUMMARY:Anansi's Web Opening Celebration
DESCRIPTION:Join us in celebrating the opening of Anansi’s Web\, our first brand new playset in 21 years! \nAnansi’s Web was designed\, created\, and installed by artist Garr Ugalde and represents the West African folktales of Anansi the spider\, the keeper of all stories and wisdom. He’s also a trickster who obtains his goals through various ruses. The new set features three vertical climbing webs between four posts featuring characters from an Anansi tale\, including one of Anansi himself. \nActivity Schedule\n\n10:30 AM – African drumming and dance performance by Phoenix Drum & Dance (Mother Goose Stage)\n11:30 AM – Storytelling presentation of traditional Anansi tales by Kirk Waller (Mother Goose Stage)\n12:30 PM – The Fairytale Town Trouper’s will reprise their performance of Anansi (Children’s Theater; Tickets are $1 members and $2 nonmembers\, in addition to paid park admission)\n10:30 AM – 12:30 PM – Participate in an Anansi-themed craft activity\n\nThe Opening Celebration is free with paid park admission. Weekend admission is $6 per person for adults and children ages 2 and up. Fairytale Town members and children age 1 and under are free.
URL:https://www.fairytaletown.org/calendar/anansis-web-opening-celebration/
LOCATION:Fairytale Town\, 3901 Land Park Drive\, Sacramento\, CA\, 95822\, United States
ATTACH;FMTTYPE=image/png:https://www.fairytaletown.org/wp-content/uploads/2018/08/web.png
GEO:38.539381;-121.5010551
X-APPLE-STRUCTURED-LOCATION;VALUE=URI;X-ADDRESS=Fairytale Town 3901 Land Park Drive Sacramento CA 95822 United States;X-APPLE-RADIUS=500;X-TITLE=3901 Land Park Drive:geo:-121.5010551,38.539381
END:VEVENT
END:VCALENDAR