BEGIN:VCALENDAR
VERSION:2.0
PRODID:-//Fairytale Town - ECPv6.15.20//NONSGML v1.0//EN
CALSCALE:GREGORIAN
METHOD:PUBLISH
X-WR-CALNAME:Fairytale Town
X-ORIGINAL-URL:https://www.fairytaletown.org
X-WR-CALDESC:Events for Fairytale Town
REFRESH-INTERVAL;VALUE=DURATION:PT1H
X-Robots-Tag:noindex
X-PUBLISHED-TTL:PT1H
BEGIN:VTIMEZONE
TZID:America/Los_Angeles
BEGIN:DAYLIGHT
TZOFFSETFROM:-0800
TZOFFSETTO:-0700
TZNAME:PDT
DTSTART:20170312T100000
END:DAYLIGHT
BEGIN:STANDARD
TZOFFSETFROM:-0700
TZOFFSETTO:-0800
TZNAME:PST
DTSTART:20171105T090000
END:STANDARD
BEGIN:DAYLIGHT
TZOFFSETFROM:-0800
TZOFFSETTO:-0700
TZNAME:PDT
DTSTART:20180311T100000
END:DAYLIGHT
BEGIN:STANDARD
TZOFFSETFROM:-0700
TZOFFSETTO:-0800
TZNAME:PST
DTSTART:20181104T090000
END:STANDARD
BEGIN:DAYLIGHT
TZOFFSETFROM:-0800
TZOFFSETTO:-0700
TZNAME:PDT
DTSTART:20190310T100000
END:DAYLIGHT
BEGIN:STANDARD
TZOFFSETFROM:-0700
TZOFFSETTO:-0800
TZNAME:PST
DTSTART:20191103T090000
END:STANDARD
END:VTIMEZONE
BEGIN:VEVENT
DTSTART;TZID=America/Los_Angeles:20180725T190000
DTEND;TZID=America/Los_Angeles:20180725T213000
DTSTAMP:20260425T210942
CREATED:20180502T213707Z
LAST-MODIFIED:20180725T191018Z
UID:10000487-1532545200-1532554200@www.fairytaletown.org
SUMMARY:Summer Concert Series: Total Recall
DESCRIPTION:Gates open at 6 PM \nGet your plaid shirts ready and be prepared to rock to some now classic 90’s tunes by Total Recall! \nTotal Recall is a Sacramento-based 90’s alternative cover band that is ready to entertain everyone who has a soft spot in their heart for bands like Weezer\, Foo Fighters\, Third Eye Blind\, Nirvana\, Pearl Jam\, Green Day\, Oasis\, Blink 182\, and many more.  Since forming in August 2012\, Total Recall has played shows at the Thunder Valley Casino\, Crawdad’s River Cantina\, Maggie McGarry’s (San Francisco)\, The Freight House District for the Reno Aces Opening Day\, and more. \nPick up dinner or snacks from the Dish & Spoon Cafe or Cecil’s Taste food truck. Beer\, wine\, and spirits will also be available for purchase. \nPlease note: \n\nThis concert is all-ages\, and adults may attend without children.\nThis is a special ticketed event and fundraiser for Fairytale Town. Tickets will go on sale June 1. Proceeds support Fairytale Town’s education programs and park improvements.\nNo outside food or drink.\nConcert seating is open and first come\, first served.\nBlankets and chairs are welcome.\nSmoking is not permitted inside of Fairytale Town.\nNo refunds or exchanges for concert tickets.\n\nOnline ticket sales have closed. Tickets will be for sale tonight at the door.\nTickets\nAdvance Tickets (June 1 – July 24):\nAdults General Admission: $10\nChildren (2-12yrs.): Free\nChildren 1 and under: Free\nFairytale Town members receive $3 off per adult ticket\, and member children are free. \nDay-of Tickets (July 25):\nAdults General Admission: $15\nChildren (2-12yrs.): $5\nChildren 1 and under: Free\nNo member discount
URL:https://www.fairytaletown.org/calendar/total-recall/
LOCATION:Fairytale Town\, 3901 Land Park Drive\, Sacramento\, CA\, 95822\, United States
ATTACH;FMTTYPE=image/jpeg:https://www.fairytaletown.org/wp-content/uploads/2018/05/TotalRecall_webbanner.jpg
GEO:38.539381;-121.5010551
X-APPLE-STRUCTURED-LOCATION;VALUE=URI;X-ADDRESS=Fairytale Town 3901 Land Park Drive Sacramento CA 95822 United States;X-APPLE-RADIUS=500;X-TITLE=3901 Land Park Drive:geo:-121.5010551,38.539381
END:VEVENT
END:VCALENDAR