BEGIN:VCALENDAR
VERSION:2.0
PRODID:-//Fairytale Town - ECPv6.15.20//NONSGML v1.0//EN
CALSCALE:GREGORIAN
METHOD:PUBLISH
X-ORIGINAL-URL:https://www.fairytaletown.org
X-WR-CALDESC:Events for Fairytale Town
REFRESH-INTERVAL;VALUE=DURATION:PT1H
X-Robots-Tag:noindex
X-PUBLISHED-TTL:PT1H
BEGIN:VTIMEZONE
TZID:America/Los_Angeles
BEGIN:DAYLIGHT
TZOFFSETFROM:-0800
TZOFFSETTO:-0700
TZNAME:PDT
DTSTART:20250309T100000
END:DAYLIGHT
BEGIN:STANDARD
TZOFFSETFROM:-0700
TZOFFSETTO:-0800
TZNAME:PST
DTSTART:20251102T090000
END:STANDARD
BEGIN:DAYLIGHT
TZOFFSETFROM:-0800
TZOFFSETTO:-0700
TZNAME:PDT
DTSTART:20260308T100000
END:DAYLIGHT
BEGIN:STANDARD
TZOFFSETFROM:-0700
TZOFFSETTO:-0800
TZNAME:PST
DTSTART:20261101T090000
END:STANDARD
BEGIN:DAYLIGHT
TZOFFSETFROM:-0800
TZOFFSETTO:-0700
TZNAME:PDT
DTSTART:20270314T100000
END:DAYLIGHT
BEGIN:STANDARD
TZOFFSETFROM:-0700
TZOFFSETTO:-0800
TZNAME:PST
DTSTART:20271107T090000
END:STANDARD
END:VTIMEZONE
BEGIN:VEVENT
DTSTART;TZID=America/Los_Angeles:20260606T100000
DTEND;TZID=America/Los_Angeles:20260606T140000
DTSTAMP:20260421T051504
CREATED:20220818T014344Z
LAST-MODIFIED:20260114T233241Z
UID:10000659-1780740000-1780754400@www.fairytaletown.org
SUMMARY:Ghostbusters Day
DESCRIPTION:Weather Permitting \nThere’s something strange in the neighborhood … it’s a giant marshmallow man! So put on your proton packs and come to Fairytale Town for a day of fun! \nGhostbusters games\, arts & crafts\, special guests\, and plenty of surprises–but be careful you don’t get slimed! \nWeekend admission is $10 for adults and children ages 2 and older. Members and children ages 1 and under are free. \nPlease note: \n\nAdults must be accompanied by children and children must be accompanied by adults in order to gain admittance to Fairytale Town.
URL:https://www.fairytaletown.org/calendar/ghostbusters-day/
LOCATION:Fairytale Town\, 3901 Land Park Drive\, Sacramento\, CA\, 95822\, United States
ATTACH;FMTTYPE=image/png:https://www.fairytaletown.org/wp-content/uploads/2026/01/16.png
GEO:38.539381;-121.5010551
X-APPLE-STRUCTURED-LOCATION;VALUE=URI;X-ADDRESS=Fairytale Town 3901 Land Park Drive Sacramento CA 95822 United States;X-APPLE-RADIUS=500;X-TITLE=3901 Land Park Drive:geo:-121.5010551,38.539381
END:VEVENT
BEGIN:VEVENT
DTSTART;TZID=America/Los_Angeles:20260608T090000
DTEND;TZID=America/Los_Angeles:20260814T160000
DTSTAMP:20260421T051504
CREATED:20260130T201512Z
LAST-MODIFIED:20260130T201736Z
UID:10002515-1780909200-1786723200@www.fairytaletown.org
SUMMARY:Summer FunCamp
DESCRIPTION:2026 Summer FunCamp!\nSchedule will be posted Friday\, February 13th! \nGeneral camp registration is on March 2nd @ 9 AM – Link will be posted to website. \nMember camp registration is on February 26th @ 9 AM – Link will be emailed. \nFairytale Town Summer FunCamps 2026\nFairytale Town offers exciting and educational week long summer camps for children! Morning sessions from 9 AM to 12 PM are offered for children ages ages 4 – 12. Each camp is designed for a specific age group and features a unique theme\, including visual art\, animals\, gardening\, puppetry\, literature\, theatre arts\, and more. We encourage you to find a camp designed for your child’s age. Unfortunately\, we are unable to make exceptions regarding age groups. \nAn Afternoon Adventures session from 12 to 4 PM can be added to a morning session to create a full-day camp experience. Afternoon Adventures feature a supervised lunch and recess time followed by more curriculum-based\, open-ended activities\, dramatic play\, story time\, and more. Afternoon Adventures is an add on program to the morning camp. \nAn Early Drop-Off option for parents or guardians needing to drop off their child before the 9 AM camp start time. \n  \nPlease note: Children must be preregistered for FunCamps in order to attend; registrations are not available the first day of camp. All Fairytale Town FunCamp registrations are taken online only. Please review the Waitlist Information and Cancellation Policy. \nFor more information\, please contact the Education Department at (916) 808-8884 or education@fairytaletown.org. \nFunCamp Fees & Registration\nMorning Session Only: $195 per child per week long session\nMorning Session & Afternoon Adventures: $395 per child per week long session\nEarly Drop-Off: $70 per child per week long session\nMember discounts are available. \n\nRegistration will open on March 2nd! Members get early registration access starting February 26th. If you are a member and haven’t received the registration email by February 26th\, contact us at education@fairytaletown.org. \nEarly Drop-Off\n8 – 9 AM\nAges 4-12\nNeed to drop-off your child before 9 AM to get to work on time? An early drop off time is available this year! Add the Early Drop-Off option to your FunCamp order\, and you can drop off your children anytime between 8 and 9 AM. During the Early Drop-Off hour\, children will enjoy free playtime and open-ended activities until the morning session begins. \nCamp Waitlist Information:\nIf you register for a camp and it is full\, you will be automatically placed on the waitlist for that camp. If a space opens\, you will receive an email about being enrolled in the camp with a link to pay the registration fee. Fairytale Town cannot tell what number on the waitlist your camper is. If you are not contacted\, you remain on the waitlist. \nCancelation Policy:\nTo be eligible for a refund*\, you must cancel the FunCamp at least 30 days prior to the start date. If you cancel within 30 days\, you may be eligible to receive up to a 50% refund. Camps canceled within 14 days of the start date are not eligible for a refund. Fairytale Town reserves the right to cancel any FunCamp\, in which case you will be notified promptly and 100% of the fees* paid will be refunded. \n*Please note\, processing fees are non-refundable. \nFor More Information About FunCamps\, Please Contact:\neducation@fairytaletown.org\n916.808.8884 \nSacramento Adventure Playground Summer Camp Sessions:\nOur offsite Adventure Playground offers seven one week camps each summer! Check out their Summer Camps!
URL:https://www.fairytaletown.org/calendar/summer-funcamp/
LOCATION:Fairytale Town\, 3901 Land Park Drive\, Sacramento\, CA\, 95822\, United States
ATTACH;FMTTYPE=image/png:https://www.fairytaletown.org/wp-content/uploads/2026/01/17.png
GEO:38.539381;-121.5010551
X-APPLE-STRUCTURED-LOCATION;VALUE=URI;X-ADDRESS=Fairytale Town 3901 Land Park Drive Sacramento CA 95822 United States;X-APPLE-RADIUS=500;X-TITLE=3901 Land Park Drive:geo:-121.5010551,38.539381
END:VEVENT
BEGIN:VEVENT
DTSTART;TZID=America/Los_Angeles:20260611T100000
DTEND;TZID=America/Los_Angeles:20260611T140000
DTSTAMP:20260421T051504
CREATED:20260115T014749Z
LAST-MODIFIED:20260115T014845Z
UID:10002446-1781172000-1781186400@www.fairytaletown.org
SUMMARY:Reading Rainbow Day
DESCRIPTION:Weather Permitting \nIt’s Reading Rainbow Day! \nJoin us for a celebration of storytelling\, literacy\, and imagination honoring the work of LeVar Burton. With Reading Rainbow as our guide\, we’ll celebrate the joy of reading and learning and explore how stories help us understand ourselves and each other. Through read-alouds\, creative activities\, and shared stories\, families will listen\, create\, move\, and honor the joy of reading at all ages. Come discover how books can take us anywhere. \nThis event is free with paid park admission. Weekend admission is $10 for adults and children ages 2 and older. Members and children ages 1 and under are free. \nPlease note: \n\nAdults must be accompanied by children\, and children must be accompanied by adults in order to gain admittance to the park.\nFairytale Town closes when it rains heavily. If skies are gray\, check our website or call (916) 808-5233 to confirm our hours and program details.\n\n 
URL:https://www.fairytaletown.org/calendar/reading-rainbow-day/
LOCATION:Fairytale Town\, 3901 Land Park Drive\, Sacramento\, CA\, 95822\, United States
ATTACH;FMTTYPE=image/png:https://www.fairytaletown.org/wp-content/uploads/2026/01/18.png
GEO:38.539381;-121.5010551
X-APPLE-STRUCTURED-LOCATION;VALUE=URI;X-ADDRESS=Fairytale Town 3901 Land Park Drive Sacramento CA 95822 United States;X-APPLE-RADIUS=500;X-TITLE=3901 Land Park Drive:geo:-121.5010551,38.539381
END:VEVENT
BEGIN:VEVENT
DTSTART;TZID=America/Los_Angeles:20260619T090000
DTEND;TZID=America/Los_Angeles:20260619T160000
DTSTAMP:20260421T051504
CREATED:20260108T233540Z
LAST-MODIFIED:20260108T233540Z
UID:10002408-1781859600-1781884800@www.fairytaletown.org
SUMMARY:Open For Play: Juneteenth
DESCRIPTION:Weather Permitting \nFairytale Town will be open for play on Juneteenth\, weather permitting. \nAdmission is $10 for adults and children ages 2 and older. Members and children ages 1 and under are free. \nPlease note: \n\nAdults must be accompanied by children and children must be accompanied by adults in order to gain admittance to Fairytale Town.
URL:https://www.fairytaletown.org/calendar/open-for-play-juneteenth/
LOCATION:Fairytale Town\, 3901 Land Park Drive\, Sacramento\, CA\, 95822\, United States
CATEGORIES:Holiday: Open for Play
ATTACH;FMTTYPE=image/png:https://www.fairytaletown.org/wp-content/uploads/2018/01/Website-Calendar-Images-623-x-265-px-8.png
GEO:38.539381;-121.5010551
X-APPLE-STRUCTURED-LOCATION;VALUE=URI;X-ADDRESS=Fairytale Town 3901 Land Park Drive Sacramento CA 95822 United States;X-APPLE-RADIUS=500;X-TITLE=3901 Land Park Drive:geo:-121.5010551,38.539381
END:VEVENT
BEGIN:VEVENT
DTSTART;TZID=America/Los_Angeles:20260620T170000
DTEND;TZID=America/Los_Angeles:20260620T210000
DTSTAMP:20260421T051504
CREATED:20250429T203621Z
LAST-MODIFIED:20260115T004600Z
UID:10001574-1781974800-1781989200@www.fairytaletown.org
SUMMARY:The Crystal Creamery Ice Cream Fantasy
DESCRIPTION:Shakespeare’s popular fairy-themed comedic play comes to life at Fairytale Town\, along with all-you-can-eat Crystal Ice Cream! Join us for a magical midsummer’s eve featuring multiple ice cream tasting stations\, live entertainment\, hands-on activities\, an enchanted marketplace\, and more! \nRenaissance or fairy-themed costumes for the whole family are strongly encouraged. Check out our Pinterest board for costume inspiration. \nCheck Back Soon for More Ticket Information!\nTicket Prices\n\nAdvance Tickets (Available until June 19) – $15\nAdvanced Member Tickets* (Available until June 19) – $12\n* Member discounts are only available for the number of guests covered by membership\nDay of Tickets (Available June 20) – $18\nChildren Under 2 – FREE!\n\nPlease note: \n\nThe Crystal Creamery Ice Cream Fantasy is a special ticketed event.\nNo outside food or drink.\nFairytale Town will be closing at 2 PM the day of the event in order to prepare for the evening’s festivities.\nAdults must be accompanied by children and children must be accompanied by adults in order to gain admittance to the park.\n\nBrought to you by \nSee photos from PRIOR years’ Events\n\n			\n	\n		\n					\n		\n			Prev\n			1of24\n			Next
URL:https://www.fairytaletown.org/calendar/a-midsummer-nights-dream-crystal-ice-cream-fantasy/
LOCATION:Fairytale Town\, 3901 Land Park Drive\, Sacramento\, CA\, 95822\, United States
CATEGORIES:Marque Event
ATTACH;FMTTYPE=image/png:https://www.fairytaletown.org/wp-content/uploads/2025/04/Website-Calendar-Images-623-x-265-px-12.png
GEO:38.539381;-121.5010551
X-APPLE-STRUCTURED-LOCATION;VALUE=URI;X-ADDRESS=Fairytale Town 3901 Land Park Drive Sacramento CA 95822 United States;X-APPLE-RADIUS=500;X-TITLE=3901 Land Park Drive:geo:-121.5010551,38.539381
END:VEVENT
BEGIN:VEVENT
DTSTART;TZID=America/Los_Angeles:20260626T173000
DTEND;TZID=America/Los_Angeles:20260626T200000
DTSTAMP:20260421T051504
CREATED:20260115T013044Z
LAST-MODIFIED:20260115T013044Z
UID:10002440-1782495000-1782504000@www.fairytaletown.org
SUMMARY:Members-Only Night
DESCRIPTION:Registration is open by email invite only.\nInvites will be sent out on June 10th.\nMembers are invited to an exclusive evening of playtime and fun activities in the park! \nBring blankets or chairs to relax on the lawn. Pick up dinner and snacks at the Dish & Spoon Café\, or bring your own. \nHelpful Tips:\n\n\nBring your membership card and photo ID for faster entry.\nGates close at 7:30 PM\, but members may stay and play until 8 PM.\nThe number of people allowed in is determined by your membership level. Member Guest Passes will also be accepted. No other guests\, discounts\, or coupons apply.\n\nWant to come to Members-Only Night? Become a member today to make sure you get an invitation! \nPlease note: \n\nAdults must be accompanied by children and children must be accompanied by adults in order to gain admittance to Fairytale Town.
URL:https://www.fairytaletown.org/calendar/members-only-night-3/
LOCATION:Fairytale Town\, 3901 Land Park Drive\, Sacramento\, CA\, 95822\, United States
CATEGORIES:Members-Only Nights
ATTACH;FMTTYPE=image/png:https://www.fairytaletown.org/wp-content/uploads/2026/01/Website-Calendar-Images-623-x-265-px-10.png
GEO:38.539381;-121.5010551
X-APPLE-STRUCTURED-LOCATION;VALUE=URI;X-ADDRESS=Fairytale Town 3901 Land Park Drive Sacramento CA 95822 United States;X-APPLE-RADIUS=500;X-TITLE=3901 Land Park Drive:geo:-121.5010551,38.539381
END:VEVENT
BEGIN:VEVENT
DTSTART;TZID=America/Los_Angeles:20260627T110000
DTEND;TZID=America/Los_Angeles:20260627T120000
DTSTAMP:20260421T051504
CREATED:20260304T203531Z
LAST-MODIFIED:20260304T203531Z
UID:10002856-1782558000-1782561600@www.fairytaletown.org
SUMMARY:Tractor Tales
DESCRIPTION:Join us on June 27 & 28 at 11am in the Story Center Classroom for Tractor Tales! Perfect for little animal lovers\, this interactive event combines the magic of books with the joy of meeting animals in a safe\, hands-on way. Get ready to read\, explore\, and meet some new animal friends! \nThis activity is free with park admission\, which can be purchased at the box office. \nTractor Tales 2026 Schedule
URL:https://www.fairytaletown.org/calendar/tractor-tales-6/2026-06-27/
LOCATION:Fairytale Town\, 3901 Land Park Drive\, Sacramento\, CA\, 95822\, United States
CATEGORIES:Story Center
ATTACH;FMTTYPE=image/png:https://www.fairytaletown.org/wp-content/uploads/2026/01/Website-Calendar-Images-623-x-265-px-14.png
GEO:38.539381;-121.5010551
X-APPLE-STRUCTURED-LOCATION;VALUE=URI;X-ADDRESS=Fairytale Town 3901 Land Park Drive Sacramento CA 95822 United States;X-APPLE-RADIUS=500;X-TITLE=3901 Land Park Drive:geo:-121.5010551,38.539381
END:VEVENT
BEGIN:VEVENT
DTSTART;TZID=America/Los_Angeles:20260628T110000
DTEND;TZID=America/Los_Angeles:20260628T120000
DTSTAMP:20260421T051504
CREATED:20260304T203531Z
LAST-MODIFIED:20260304T203531Z
UID:10002857-1782644400-1782648000@www.fairytaletown.org
SUMMARY:Tractor Tales
DESCRIPTION:Join us on June 27 & 28 at 11am in the Story Center Classroom for Tractor Tales! Perfect for little animal lovers\, this interactive event combines the magic of books with the joy of meeting animals in a safe\, hands-on way. Get ready to read\, explore\, and meet some new animal friends! \nThis activity is free with park admission\, which can be purchased at the box office. \nTractor Tales 2026 Schedule
URL:https://www.fairytaletown.org/calendar/tractor-tales-6/2026-06-28/
LOCATION:Fairytale Town\, 3901 Land Park Drive\, Sacramento\, CA\, 95822\, United States
CATEGORIES:Story Center
ATTACH;FMTTYPE=image/png:https://www.fairytaletown.org/wp-content/uploads/2026/01/Website-Calendar-Images-623-x-265-px-14.png
GEO:38.539381;-121.5010551
X-APPLE-STRUCTURED-LOCATION;VALUE=URI;X-ADDRESS=Fairytale Town 3901 Land Park Drive Sacramento CA 95822 United States;X-APPLE-RADIUS=500;X-TITLE=3901 Land Park Drive:geo:-121.5010551,38.539381
END:VEVENT
END:VCALENDAR