BEGIN:VCALENDAR
VERSION:2.0
PRODID:-//Fairytale Town - ECPv6.15.20//NONSGML v1.0//EN
CALSCALE:GREGORIAN
METHOD:PUBLISH
X-ORIGINAL-URL:https://www.fairytaletown.org
X-WR-CALDESC:Events for Fairytale Town
REFRESH-INTERVAL;VALUE=DURATION:PT1H
X-Robots-Tag:noindex
X-PUBLISHED-TTL:PT1H
BEGIN:VTIMEZONE
TZID:America/Los_Angeles
BEGIN:DAYLIGHT
TZOFFSETFROM:-0800
TZOFFSETTO:-0700
TZNAME:PDT
DTSTART:20220313T100000
END:DAYLIGHT
BEGIN:STANDARD
TZOFFSETFROM:-0700
TZOFFSETTO:-0800
TZNAME:PST
DTSTART:20221106T090000
END:STANDARD
BEGIN:DAYLIGHT
TZOFFSETFROM:-0800
TZOFFSETTO:-0700
TZNAME:PDT
DTSTART:20230312T100000
END:DAYLIGHT
BEGIN:STANDARD
TZOFFSETFROM:-0700
TZOFFSETTO:-0800
TZNAME:PST
DTSTART:20231105T090000
END:STANDARD
BEGIN:DAYLIGHT
TZOFFSETFROM:-0800
TZOFFSETTO:-0700
TZNAME:PDT
DTSTART:20240310T100000
END:DAYLIGHT
BEGIN:STANDARD
TZOFFSETFROM:-0700
TZOFFSETTO:-0800
TZNAME:PST
DTSTART:20241103T090000
END:STANDARD
END:VTIMEZONE
BEGIN:VEVENT
DTSTART;TZID=America/Los_Angeles:20230204T100000
DTEND;TZID=America/Los_Angeles:20230204T113000
DTSTAMP:20260422T004756
CREATED:20230105T193728Z
LAST-MODIFIED:20230630T173519Z
UID:10000888-1675504800-1675510200@www.fairytaletown.org
SUMMARY:Volunteer Orientation
DESCRIPTION:Do you want to help us make magic?! Become a Fairytale Town Volunteer! \nOur New Volunteer Orientation sessions provide an in-person showcase of our different Volunteer Programs\, how to navigate our Volunteer online database\, Better Impact\, and a tour of Fairytale Town. \nTo get started\, visit our Volunteer page to create your Better Impact account\, sign up for a session\, and we’ll see you at Orientation! \n  \n  Better Impact Sign Up  \n  \n  Learn more: Volunteer Page \n  \n 
URL:https://www.fairytaletown.org/calendar/volunteer-orientation-feb2023/2023-02-04/
LOCATION:Fairytale Town\, 3901 Land Park Drive\, Sacramento\, CA\, 95822\, United States
CATEGORIES:Volunteers
ATTACH;FMTTYPE=image/jpeg:https://www.fairytaletown.org/wp-content/uploads/2021/06/Volunteers2.jpg
GEO:38.539381;-121.5010551
X-APPLE-STRUCTURED-LOCATION;VALUE=URI;X-ADDRESS=Fairytale Town 3901 Land Park Drive Sacramento CA 95822 United States;X-APPLE-RADIUS=500;X-TITLE=3901 Land Park Drive:geo:-121.5010551,38.539381
END:VEVENT
BEGIN:VEVENT
DTSTART;TZID=America/Los_Angeles:20230209T100000
DTEND;TZID=America/Los_Angeles:20230209T160000
DTSTAMP:20260422T004756
CREATED:20180118T181147Z
LAST-MODIFIED:20230201T173838Z
UID:10000785-1675936800-1675958400@www.fairytaletown.org
SUMMARY:Boy Scout Day
DESCRIPTION:Weather permitting \nShow your Boy Scout and Cub Scout pride on Boy Scout’s 113th birthday! Wear your uniform when you visit Fairytale Town and receive half off one child admission with one paid adult admission! \nWeekday admission is $7 for adults and children ages 2 and older. Members and children ages 1 and under are free. \nPlease note: \n\nAdults must be accompanied by children and children must be accompanied by adults in order to gain admittance to the park.
URL:https://www.fairytaletown.org/calendar/boy-scout-day/
LOCATION:Fairytale Town\, 3901 Land Park Drive\, Sacramento\, CA\, 95822\, United States
ATTACH;FMTTYPE=image/jpeg:https://www.fairytaletown.org/wp-content/uploads/2018/01/1.17.23-Boy-Scout-Birthday-FT-Web-1.jpg
GEO:38.539381;-121.5010551
X-APPLE-STRUCTURED-LOCATION;VALUE=URI;X-ADDRESS=Fairytale Town 3901 Land Park Drive Sacramento CA 95822 United States;X-APPLE-RADIUS=500;X-TITLE=3901 Land Park Drive:geo:-121.5010551,38.539381
END:VEVENT
BEGIN:VEVENT
DTSTART;TZID=America/Los_Angeles:20230215T170000
DTEND;TZID=America/Los_Angeles:20230215T193000
DTSTAMP:20260422T004756
CREATED:20221227T230330Z
LAST-MODIFIED:20230103T191455Z
UID:10000886-1676480400-1676489400@www.fairytaletown.org
SUMMARY:Girl Scout Badge Night - Eco Learner
DESCRIPTION:Calling all Girl Scout Daisies! Join us for an evening of fun and earn your Eco Learner badge. This two-and-a-half-hour workshop will fulfill all badge requirements and include a snack break. \nNature gives us many gifts. This badge will help girls learn some ways to give back by protecting nature. \nGirls will receive a certificate and their badge at the conclusion of the event. \nPlease note: \n\nAdults must be accompanied by children and children must be accompanied by adults in order to gain admittance to Fairytale Town.\n\nBadge Night Registration\nRegister Now! \n$15 per scout\nCost includes a snack and badge \nQuestions\nFor more information\, please call (916) 808-8884 or email education@fairytaletown.org. \ncancellation policy\nTo be eligible for a 100% refund\, you must cancel the Badge Night at least 30 days prior to the start date. If you cancel within 30 days\, you may be eligible to receive up to a 50% refund. Badge workshops cancelled within 14 days of the start date are not eligible for a refund. Fairytale Town reserves the right to cancel any workshop\, in which case you will be notified promptly and 100% of the fees paid will be refunded.
URL:https://www.fairytaletown.org/calendar/girl-scout-badge-night-eco-learner/
LOCATION:Fairytale Town\, 3901 Land Park Drive\, Sacramento\, CA\, 95822\, United States
ATTACH;FMTTYPE=image/png:https://www.fairytaletown.org/wp-content/uploads/2020/02/FTT.BadgeNight.Web-WEBBANNER-NO-GS-LOGO.png
GEO:38.539381;-121.5010551
X-APPLE-STRUCTURED-LOCATION;VALUE=URI;X-ADDRESS=Fairytale Town 3901 Land Park Drive Sacramento CA 95822 United States;X-APPLE-RADIUS=500;X-TITLE=3901 Land Park Drive:geo:-121.5010551,38.539381
END:VEVENT
END:VCALENDAR