BEGIN:VCALENDAR
VERSION:2.0
PRODID:-//Fairytale Town - ECPv6.15.20//NONSGML v1.0//EN
CALSCALE:GREGORIAN
METHOD:PUBLISH
X-WR-CALNAME:Fairytale Town
X-ORIGINAL-URL:https://www.fairytaletown.org
X-WR-CALDESC:Events for Fairytale Town
REFRESH-INTERVAL;VALUE=DURATION:PT1H
X-Robots-Tag:noindex
X-PUBLISHED-TTL:PT1H
BEGIN:VTIMEZONE
TZID:America/Los_Angeles
BEGIN:DAYLIGHT
TZOFFSETFROM:-0800
TZOFFSETTO:-0700
TZNAME:PDT
DTSTART:20180311T100000
END:DAYLIGHT
BEGIN:STANDARD
TZOFFSETFROM:-0700
TZOFFSETTO:-0800
TZNAME:PST
DTSTART:20181104T090000
END:STANDARD
BEGIN:DAYLIGHT
TZOFFSETFROM:-0800
TZOFFSETTO:-0700
TZNAME:PDT
DTSTART:20190310T100000
END:DAYLIGHT
BEGIN:STANDARD
TZOFFSETFROM:-0700
TZOFFSETTO:-0800
TZNAME:PST
DTSTART:20191103T090000
END:STANDARD
BEGIN:DAYLIGHT
TZOFFSETFROM:-0800
TZOFFSETTO:-0700
TZNAME:PDT
DTSTART:20200308T100000
END:DAYLIGHT
BEGIN:STANDARD
TZOFFSETFROM:-0700
TZOFFSETTO:-0800
TZNAME:PST
DTSTART:20201101T090000
END:STANDARD
END:VTIMEZONE
BEGIN:VEVENT
DTSTART;TZID=America/Los_Angeles:20190803T123000
DTEND;TZID=America/Los_Angeles:20190803T130000
DTSTAMP:20260423T073811
CREATED:20180111T225312Z
LAST-MODIFIED:20190110T212949Z
UID:10000769-1564835400-1564837200@www.fairytaletown.org
SUMMARY:Puppet Show: The Three Little Pigs
DESCRIPTION:Puppet Art Theater Company presents the tale of The Three Little Pigs. Three pigs strike out on their own looking to have fun and adventures. But first\, they must build houses for themselves. Straw\, sticks\, bricks\, and a huffing and puffing Big Bad Wolf add up to hilarity and mayhem in this adaptation of the classic story\, The Three Little Pigs. \nTickets are a $1 for members and $2 for nonmembers\, in addition to paid park admission. Tickets can be purchased at the Fairytale Town Box Office or at the entrance to the Children’s Theater 15 minutes prior to show time. All performances take place in Fairytale Town’s indoor Children’s Theater. \nShow dates: Saturday & Sunday\, August 3 & 4\nShow times: 12:30\, 1:30 & 2:30 PM\nRun time: Approx. 20 minutes
URL:https://www.fairytaletown.org/calendar/puppet-show-three-little-pigs/2019-08-03/1/
LOCATION:Fairytale Town\, 3901 Land Park Drive\, Sacramento\, CA\, 95822\, United States
CATEGORIES:Puppet Shows
ATTACH;FMTTYPE=image/jpeg:https://www.fairytaletown.org/wp-content/uploads/2016/01/ThreeLittlePigs.jpg
GEO:38.539381;-121.5010551
X-APPLE-STRUCTURED-LOCATION;VALUE=URI;X-ADDRESS=Fairytale Town 3901 Land Park Drive Sacramento CA 95822 United States;X-APPLE-RADIUS=500;X-TITLE=3901 Land Park Drive:geo:-121.5010551,38.539381
END:VEVENT
BEGIN:VEVENT
DTSTART;TZID=America/Los_Angeles:20190803T133000
DTEND;TZID=America/Los_Angeles:20190803T140000
DTSTAMP:20260423T073811
CREATED:20180111T225312Z
LAST-MODIFIED:20190110T212949Z
UID:10000770-1564839000-1564840800@www.fairytaletown.org
SUMMARY:Puppet Show: The Three Little Pigs
DESCRIPTION:Puppet Art Theater Company presents the tale of The Three Little Pigs. Three pigs strike out on their own looking to have fun and adventures. But first\, they must build houses for themselves. Straw\, sticks\, bricks\, and a huffing and puffing Big Bad Wolf add up to hilarity and mayhem in this adaptation of the classic story\, The Three Little Pigs. \nTickets are a $1 for members and $2 for nonmembers\, in addition to paid park admission. Tickets can be purchased at the Fairytale Town Box Office or at the entrance to the Children’s Theater 15 minutes prior to show time. All performances take place in Fairytale Town’s indoor Children’s Theater. \nShow dates: Saturday & Sunday\, August 3 & 4\nShow times: 12:30\, 1:30 & 2:30 PM\nRun time: Approx. 20 minutes
URL:https://www.fairytaletown.org/calendar/puppet-show-three-little-pigs/2019-08-03/2/
LOCATION:Fairytale Town\, 3901 Land Park Drive\, Sacramento\, CA\, 95822\, United States
CATEGORIES:Puppet Shows
ATTACH;FMTTYPE=image/jpeg:https://www.fairytaletown.org/wp-content/uploads/2016/01/ThreeLittlePigs.jpg
GEO:38.539381;-121.5010551
X-APPLE-STRUCTURED-LOCATION;VALUE=URI;X-ADDRESS=Fairytale Town 3901 Land Park Drive Sacramento CA 95822 United States;X-APPLE-RADIUS=500;X-TITLE=3901 Land Park Drive:geo:-121.5010551,38.539381
END:VEVENT
BEGIN:VEVENT
DTSTART;TZID=America/Los_Angeles:20190803T143000
DTEND;TZID=America/Los_Angeles:20190803T150000
DTSTAMP:20260423T073811
CREATED:20180111T225312Z
LAST-MODIFIED:20190110T212949Z
UID:10000771-1564842600-1564844400@www.fairytaletown.org
SUMMARY:Puppet Show: The Three Little Pigs
DESCRIPTION:Puppet Art Theater Company presents the tale of The Three Little Pigs. Three pigs strike out on their own looking to have fun and adventures. But first\, they must build houses for themselves. Straw\, sticks\, bricks\, and a huffing and puffing Big Bad Wolf add up to hilarity and mayhem in this adaptation of the classic story\, The Three Little Pigs. \nTickets are a $1 for members and $2 for nonmembers\, in addition to paid park admission. Tickets can be purchased at the Fairytale Town Box Office or at the entrance to the Children’s Theater 15 minutes prior to show time. All performances take place in Fairytale Town’s indoor Children’s Theater. \nShow dates: Saturday & Sunday\, August 3 & 4\nShow times: 12:30\, 1:30 & 2:30 PM\nRun time: Approx. 20 minutes
URL:https://www.fairytaletown.org/calendar/puppet-show-three-little-pigs/2019-08-03/3/
LOCATION:Fairytale Town\, 3901 Land Park Drive\, Sacramento\, CA\, 95822\, United States
CATEGORIES:Puppet Shows
ATTACH;FMTTYPE=image/jpeg:https://www.fairytaletown.org/wp-content/uploads/2016/01/ThreeLittlePigs.jpg
GEO:38.539381;-121.5010551
X-APPLE-STRUCTURED-LOCATION;VALUE=URI;X-ADDRESS=Fairytale Town 3901 Land Park Drive Sacramento CA 95822 United States;X-APPLE-RADIUS=500;X-TITLE=3901 Land Park Drive:geo:-121.5010551,38.539381
END:VEVENT
BEGIN:VEVENT
DTSTART;TZID=America/Los_Angeles:20190804T123000
DTEND;TZID=America/Los_Angeles:20190804T130000
DTSTAMP:20260423T073811
CREATED:20180111T225312Z
LAST-MODIFIED:20190110T212949Z
UID:10000772-1564921800-1564923600@www.fairytaletown.org
SUMMARY:Puppet Show: The Three Little Pigs
DESCRIPTION:Puppet Art Theater Company presents the tale of The Three Little Pigs. Three pigs strike out on their own looking to have fun and adventures. But first\, they must build houses for themselves. Straw\, sticks\, bricks\, and a huffing and puffing Big Bad Wolf add up to hilarity and mayhem in this adaptation of the classic story\, The Three Little Pigs. \nTickets are a $1 for members and $2 for nonmembers\, in addition to paid park admission. Tickets can be purchased at the Fairytale Town Box Office or at the entrance to the Children’s Theater 15 minutes prior to show time. All performances take place in Fairytale Town’s indoor Children’s Theater. \nShow dates: Saturday & Sunday\, August 3 & 4\nShow times: 12:30\, 1:30 & 2:30 PM\nRun time: Approx. 20 minutes
URL:https://www.fairytaletown.org/calendar/puppet-show-three-little-pigs/2019-08-04/1/
LOCATION:Fairytale Town\, 3901 Land Park Drive\, Sacramento\, CA\, 95822\, United States
CATEGORIES:Puppet Shows
ATTACH;FMTTYPE=image/jpeg:https://www.fairytaletown.org/wp-content/uploads/2016/01/ThreeLittlePigs.jpg
GEO:38.539381;-121.5010551
X-APPLE-STRUCTURED-LOCATION;VALUE=URI;X-ADDRESS=Fairytale Town 3901 Land Park Drive Sacramento CA 95822 United States;X-APPLE-RADIUS=500;X-TITLE=3901 Land Park Drive:geo:-121.5010551,38.539381
END:VEVENT
BEGIN:VEVENT
DTSTART;TZID=America/Los_Angeles:20190804T133000
DTEND;TZID=America/Los_Angeles:20190804T140000
DTSTAMP:20260423T073811
CREATED:20180111T225312Z
LAST-MODIFIED:20190110T212949Z
UID:10000773-1564925400-1564927200@www.fairytaletown.org
SUMMARY:Puppet Show: The Three Little Pigs
DESCRIPTION:Puppet Art Theater Company presents the tale of The Three Little Pigs. Three pigs strike out on their own looking to have fun and adventures. But first\, they must build houses for themselves. Straw\, sticks\, bricks\, and a huffing and puffing Big Bad Wolf add up to hilarity and mayhem in this adaptation of the classic story\, The Three Little Pigs. \nTickets are a $1 for members and $2 for nonmembers\, in addition to paid park admission. Tickets can be purchased at the Fairytale Town Box Office or at the entrance to the Children’s Theater 15 minutes prior to show time. All performances take place in Fairytale Town’s indoor Children’s Theater. \nShow dates: Saturday & Sunday\, August 3 & 4\nShow times: 12:30\, 1:30 & 2:30 PM\nRun time: Approx. 20 minutes
URL:https://www.fairytaletown.org/calendar/puppet-show-three-little-pigs/2019-08-04/2/
LOCATION:Fairytale Town\, 3901 Land Park Drive\, Sacramento\, CA\, 95822\, United States
CATEGORIES:Puppet Shows
ATTACH;FMTTYPE=image/jpeg:https://www.fairytaletown.org/wp-content/uploads/2016/01/ThreeLittlePigs.jpg
GEO:38.539381;-121.5010551
X-APPLE-STRUCTURED-LOCATION;VALUE=URI;X-ADDRESS=Fairytale Town 3901 Land Park Drive Sacramento CA 95822 United States;X-APPLE-RADIUS=500;X-TITLE=3901 Land Park Drive:geo:-121.5010551,38.539381
END:VEVENT
BEGIN:VEVENT
DTSTART;TZID=America/Los_Angeles:20190804T143000
DTEND;TZID=America/Los_Angeles:20190804T150000
DTSTAMP:20260423T073811
CREATED:20180111T225312Z
LAST-MODIFIED:20190110T212949Z
UID:10000774-1564929000-1564930800@www.fairytaletown.org
SUMMARY:Puppet Show: The Three Little Pigs
DESCRIPTION:Puppet Art Theater Company presents the tale of The Three Little Pigs. Three pigs strike out on their own looking to have fun and adventures. But first\, they must build houses for themselves. Straw\, sticks\, bricks\, and a huffing and puffing Big Bad Wolf add up to hilarity and mayhem in this adaptation of the classic story\, The Three Little Pigs. \nTickets are a $1 for members and $2 for nonmembers\, in addition to paid park admission. Tickets can be purchased at the Fairytale Town Box Office or at the entrance to the Children’s Theater 15 minutes prior to show time. All performances take place in Fairytale Town’s indoor Children’s Theater. \nShow dates: Saturday & Sunday\, August 3 & 4\nShow times: 12:30\, 1:30 & 2:30 PM\nRun time: Approx. 20 minutes
URL:https://www.fairytaletown.org/calendar/puppet-show-three-little-pigs/2019-08-04/3/
LOCATION:Fairytale Town\, 3901 Land Park Drive\, Sacramento\, CA\, 95822\, United States
CATEGORIES:Puppet Shows
ATTACH;FMTTYPE=image/jpeg:https://www.fairytaletown.org/wp-content/uploads/2016/01/ThreeLittlePigs.jpg
GEO:38.539381;-121.5010551
X-APPLE-STRUCTURED-LOCATION;VALUE=URI;X-ADDRESS=Fairytale Town 3901 Land Park Drive Sacramento CA 95822 United States;X-APPLE-RADIUS=500;X-TITLE=3901 Land Park Drive:geo:-121.5010551,38.539381
END:VEVENT
BEGIN:VEVENT
DTSTART;TZID=America/Los_Angeles:20190829T090000
DTEND;TZID=America/Los_Angeles:20190829T160000
DTSTAMP:20260423T073811
CREATED:20180119T015717Z
LAST-MODIFIED:20190817T225630Z
UID:10000793-1567069200-1567094400@www.fairytaletown.org
SUMMARY:Half-Price Admission Day
DESCRIPTION:Happy Birthday to Fairytale Town! In honor of Fairytale Town’s 60th birthday\, we’re offering half-price admission to all guests! \nPark admission will be $2.50 per person for adults and children ages 2 and older. Members and children ages 1 and under are free. \nFairytale Town opened to the public on August 29\, 1959 when the park was dedicated as a gift to the children of the Central Valley by the City of Sacramento\, the Junior League of Sacramento and other community and business leaders. Humpty Dumpty has been sitting atop his Bridge welcoming guests since 1962. \nPlease note: \n\nAdults must be accompanied by children and children must be accompanied by adults in order to gain admittance to Fairytale Town.
URL:https://www.fairytaletown.org/calendar/half-price-admission-day/
LOCATION:Fairytale Town\, 3901 Land Park Drive\, Sacramento\, CA\, 95822\, United States
ATTACH;FMTTYPE=image/jpeg:https://www.fairytaletown.org/wp-content/uploads/2015/04/SpringHumptyGate_CoverPhoto.jpg
GEO:38.539381;-121.5010551
X-APPLE-STRUCTURED-LOCATION;VALUE=URI;X-ADDRESS=Fairytale Town 3901 Land Park Drive Sacramento CA 95822 United States;X-APPLE-RADIUS=500;X-TITLE=3901 Land Park Drive:geo:-121.5010551,38.539381
END:VEVENT
END:VCALENDAR