BEGIN:VCALENDAR
VERSION:2.0
PRODID:-//Fairytale Town - ECPv6.15.20//NONSGML v1.0//EN
CALSCALE:GREGORIAN
METHOD:PUBLISH
X-WR-CALNAME:Fairytale Town
X-ORIGINAL-URL:https://www.fairytaletown.org
X-WR-CALDESC:Events for Fairytale Town
REFRESH-INTERVAL;VALUE=DURATION:PT1H
X-Robots-Tag:noindex
X-PUBLISHED-TTL:PT1H
BEGIN:VTIMEZONE
TZID:America/Los_Angeles
BEGIN:DAYLIGHT
TZOFFSETFROM:-0800
TZOFFSETTO:-0700
TZNAME:PDT
DTSTART:20250309T100000
END:DAYLIGHT
BEGIN:STANDARD
TZOFFSETFROM:-0700
TZOFFSETTO:-0800
TZNAME:PST
DTSTART:20251102T090000
END:STANDARD
BEGIN:DAYLIGHT
TZOFFSETFROM:-0800
TZOFFSETTO:-0700
TZNAME:PDT
DTSTART:20260308T100000
END:DAYLIGHT
BEGIN:STANDARD
TZOFFSETFROM:-0700
TZOFFSETTO:-0800
TZNAME:PST
DTSTART:20261101T090000
END:STANDARD
BEGIN:DAYLIGHT
TZOFFSETFROM:-0800
TZOFFSETTO:-0700
TZNAME:PDT
DTSTART:20270314T100000
END:DAYLIGHT
BEGIN:STANDARD
TZOFFSETFROM:-0700
TZOFFSETTO:-0800
TZNAME:PST
DTSTART:20271107T090000
END:STANDARD
END:VTIMEZONE
BEGIN:VEVENT
DTSTART;TZID=America/Los_Angeles:20261211T170000
DTEND;TZID=America/Los_Angeles:20261211T200000
DTSTAMP:20260421T190024
CREATED:20260114T231911Z
LAST-MODIFIED:20260319T182623Z
UID:10002439-1797008400-1797019200@www.fairytaletown.org
SUMMARY:Kids' Night Out: Cocoa & Cookies
DESCRIPTION:Register Now! \nWelcome to Kid’s Night Out! \nCome to Fairytale Town for a Kids Night Out! Kids ages 4–12 can enjoy a fun night out filled with activities\, including craft projects\, games and dinner. Take this opportunity to enjoy a long overdue date night or some needed self-care!  Space is limited\, so register early to guarantee your child’s participation. \nSchedule: \n5:00 PM – 6:00 PM: Check-in/Free Time \n6:00 PM – 6:30 PM: Dinner \n6:30 PM – 7:00 PM: Activity 1 \n7:00 PM – 7:30 PM: Activity 2 \n7:30 PM – 8:00 PM: Wind Down  \nNOTE: The December Kids Night Out ends at 8 pm instead of 9pm.  \n  \nRegister Now! \nPlease note: \n\nKid’s Night Out is intended to be a drop-off event\, but parents are always welcome.\nAll activities will be supervised by Fairytale Town staff.\nTo be eligible for a refund\, you must cancel at least 14 days prior to the event date. If for some reason you are unable to attend Kid’s Night Out please contact: education@fairytaletown.org 916.808.8884
URL:https://www.fairytaletown.org/calendar/kids-night-out-cocoa-cookies/
LOCATION:Fairytale Town\, 3901 Land Park Drive\, Sacramento\, CA\, 95822\, United States
ATTACH;FMTTYPE=image/png:https://www.fairytaletown.org/wp-content/uploads/2026/01/Website-Calendar-Images-623-x-265-px-9.png
GEO:38.539381;-121.5010551
X-APPLE-STRUCTURED-LOCATION;VALUE=URI;X-ADDRESS=Fairytale Town 3901 Land Park Drive Sacramento CA 95822 United States;X-APPLE-RADIUS=500;X-TITLE=3901 Land Park Drive:geo:-121.5010551,38.539381
END:VEVENT
END:VCALENDAR